{"text_format":"1","workbook":"xlsx","n_sheets":5,"sheets":["INDICE","ACQUISTI","BUDGET","STAGIONALITA","PREMI"],"not_rendered":{"charts":3,"images":1,"macros":1,"external_links":1,"defined_names":0,"comments":0,"pivot_tables":4},"unopened":[],"bounds":{"document_bytes":16777216,"sheet_cells":100000,"rows_first":2000,"rows_last":500,"rows_between":2000,"halvings":0,"cell_chars":16384,"cell_head_chars":4096},"cells_cut":0,"cells_raw":0,"read":"whole","date_system":"1900"}

{"sheet":"INDICE","index":0,"n_rows":20,"n_cols":4,"rows_kept":20,"cut":false,"hidden":false,"merged":[[0,0,1,10],[9,0,9,2],[3,0,3,3],[4,0,4,2],[7,0,7,2],[6,0,6,2],[8,0,8,2],[5,0,5,2],[18,2,18,4],[19,2,19,4],[14,2,14,3],[12,0,12,4],[16,2,16,4],[17,2,17,4]]}
["CRUSCOTTO DELTA: ANALISI DEGLI ACQUISTI "]
[]
[]
["SINTESI ECONOMICA "]
["FATT. PROGR. 2022",null,null,{"$f":"ACQUISTI!D5","v":3972007.6299999994}]
["BUDGET PROGR. ",null,null,{"$f":"SUM(BUDGET!B4:K62)","v":3537503.612026074}]
["Δ € BDG",null,null,{"$f":"D5-D6","v":434504.01797392545}]
["BUDGET PROGR. 4° TRIM",null,null,{"$f":"IF(MONTH(TODAY())<=3,BUDGET!$U$5,IF(MONTH(TODAY())<=6,BUDGET!$V$5,IF(MONTH(TODAY())<=9,BUDGET!$W$5,BUDGET!$X$5)))","v":4213000}]
["STIMA PREMI MATURATI",null,null,{"$f":"SUM(PREMI!F6:F102)","v":118461.69047500001}]
["% SU FATTURATO",null,null,{"$f":"IFERROR(D9/D5,0)","v":2.9824134671916535E-2}]
[]
[]
["INDICE"]
[]
["CAPITOLO",null,"DESCRIZIONE"]
[]
["ACQUISTI",null,"Analisi mensile degli acquisti in accordo"]
["STAGIONALITA'",null,"Analisi della stagionalità mensile degli acquisti propri e del gruppo "]
["BUDGET",null,"Verifica dei dati di budget e degli scostamenti degli acquisti rispetto agli obiettivi"]
["PREMI",null,"Stima dei premi maturati secondo gli accordi commerciali vigenti"]

{"sheet":"ACQUISTI","index":1,"n_rows":98,"n_cols":65,"rows_kept":98,"cut":false,"hidden":false,"merged":[[0,24,2,29],[0,7,2,22],[0,1,2,5]]}
[null,"ANALISI FATT. PROGRESSIVO OTTOBRE 2022",null,null,null,null,null,"ANDAMENTO MENSILE 2022",null,null,null,null,null,null,null,null,null,null,null,null,null,null,null,null,"ANDAMENTO MENSILE 2022"]
[]
[]
["SOCIO","FORNITORE","Fatt. Progr.2021 ","Fatt. Progr.2022 ","Δ € Fatt. Progr  ","Δ % Fatt. Progr  ",null,"GRAFICO","SOCIO","FORNITORE","Fatt. Progr.2022 ","GEN 22 ","FEB 22 ","MAR 22 ","APR 22 ","MAG 22 ","GIU 22 ","LUG 22 ","AGO 22 ","SET 22 ","OTT 22 ","NOV 22 ",null,null,"SOCIO","FORNITORE","Fatt. Progr.2022 ","Somma di GEN 21","Somma di FEB 21","Somma di MAR 21","Somma di APR 21","Somma di MAG 21","Somma di GIU 21","Somma di LUG 21","Somma di AGO 21","Somma di SET 21","Somma di OTT 21","Somma di NOV 21","Somma di DIC 21","Somma di GEN 22","Somma di FEB 22","Somma di MAR 22","Somma di APR 22","Somma di MAG 22","Somma di GIU 22","Somma di LUG 22","Somma di AGO 22","Somma di SET 22","Somma di OTT 22","Somma di NOV 22",null,null,null,"GEN","FEB","MAR","APR","MAG","GIU","LUG","AGO","SET","OTT","NOV ","DIC"]
["VIRLINZI SPA",null,4014734,3972007.6299999994,-42726.370000000577,-1.064239125182409E-2,null,null,"VIRLINZI SPA",null,3972007.6299999994,270036.52999999997,344920.56,605316.84,414517.82,562372,504231.23999999993,351612.01,201941.74999999994,395003.05000000016,322055.83000000007,null,null,null,"VIRLINZI SPA",null,3972007.6299999994,245671.84999999998,382083.98,522373.07999999996,620434.19999999995,487423.44,459431.50999999989,405442.6,157389.12999999995,405196.03200000012,329288.17799999996,null,null,270036.52999999997,344920.56,605316.84,414517.82,562372,504231.23999999993,351612.01,201941.74999999994,395003.05000000016,322055.83000000007,null,null,null,2021,{"$f":"AB5","v":245671.84999999998},{"$f":"AC5","v":382083.98},522373.07999999996,620434.19999999995,487423.44,459431.50999999989,405442.6,157389.12999999995,405196.03200000012,329288.17799999996,0,0]
[null,"Tenaris Dalmine ",583236.96,701116.29,117879.33000000007,0.20211224268091676,null,null,null,"Tenaris Dalmine ",701116.29,38203.94,70115.459999999992,86473.459999999992,32895.75,116573.51000000001,62997.119999999995,72468.660000000033,19094.839999999967,155865.37,46428.180000000051,null,null,null,null,"Albatros",2640,1145,38,1055,0,931,2034,1117,0,0,2319,null,null,0,0,1208,0,1168,0,0,0,264,0,null,null,null,2022,{"$f":"AN5","v":270036.52999999997},{"$f":"AO5","v":344920.56},605316.84,414517.82,562372,504231.23999999993,351612.01,201941.74999999994,395003.05000000016,322055.83000000007,0,0]
[null,"Unidelta",702792.73,513325.87,-189466.86,-0.26959137724717219,null,null,null,"Unidelta",513325.87,33528.5,41154.229999999996,81001.86,108171.51999999999,65408.630000000005,58973.710000000021,3560.9099999999744,25250.440000000002,32291.400000000023,63984.669999999984,null,null,null,null,"Arbi arredobagno",0,null,0,0,0,0,0,0,0,0,0,null,null,null,0,0,0,0,0,0,0,0,0]
[null,"Polieco",346399.12,404686.45,58287.330000000016,0.16826639166981727,null,null,null,"Polieco",404686.45,20578.400000000001,52701.49,44386.710000000006,19484.910000000003,37970.25,44612.609999999986,63393.669999999984,43998.160000000033,30403.659999999974,47156.590000000026,null,null,null,null,"Arblu",0,null,0,0,0,0,0,0,0,0,0,null,null,null,0,0,0,0,0,0,0,0,0]
[null,"Isoclima",225391.01,277736.08,52345.070000000007,0.23224116170383202,null,null,null,"Isoclima",277736.08,15333.07,6958.7000000000007,77432.649999999994,58444.840000000011,32734.489999999991,21172.100000000006,11770.51999999999,27133.239999999991,23656.790000000037,3099.679999999993,null,null,null,null,"Ariston ",204698.19000000003,9405.51,17528.769999999997,27469.66,32388.360000000008,33123.22,34219.90999999996,29736.290000000037,3514.3899999999849,40963.06,22546.139999999985,null,null,10927.03,19120.159999999996,28651.830000000005,17453.199999999997,51916.39,22480.559999999983,3847.570000000007,32519.789999999979,13893.540000000037,3888.1200000000244]
[null,"Wavin ",228191.19999999998,266250.21999999997,38059.01999999999,0.16678566044615217,null,null,null,"Wavin ",266250.21999999997,26864.41,20025.890000000003,35379.860000000088,37992.099999999919,44508.399999999994,20783.839999999997,21839.309999999998,4740.6900000000023,26235.670000000013,27880.049999999959,null,null,null,null,"Arredamenti Montegrappa",0,null,0,1399.29,0,0,0,0,0,0,0,null,null,null,0,0,0,0,0,0,0,0,0]
[null,"Ariston ",250895.31,204698.19000000003,-46197.119999999966,-0.18412906961074704,null,null,null,"Ariston ",204698.19000000003,10927.03,19120.159999999996,28651.830000000005,17453.199999999997,51916.39,22480.559999999983,3847.570000000007,32519.789999999979,13893.540000000037,3888.1200000000244,null,null,null,null,"Atusa",1378.04,545.96,0,212.83999999999992,0,184.73000000000002,-8.5999999999999091,0,473.19000000000005,0,0,null,null,-7.38,0,0,0,0,1385.42,0,0,0,0]
[null,"Raccorderie Metalliche  ",228317.95,199251.82,-29066.130000000005,-0.12730549656739654,null,null,null,"Raccorderie Metalliche  ",199251.82,11660.48,22275.24,35169.679999999993,7660.4200000000128,30670.67,29106.809999999983,9936.3300000000163,11952.419999999984,14570.460000000021,26249.309999999998,null,null,null,null,"Bernasconi ",0,null,0,0,0,0,0,0,0,0,0,null,null,null,0,0,0,0,0,0,0,0,0]
[null,"System Group Sicilia",89985.83,180542,90556.17,1.0063381090111632,null,null,null,"System Group Sicilia",180542,null,0,43993.78,18087.090000000004,53418.249999999993,17989.440000000002,10458.070000000007,0,23102.089999999997,13493.279999999999,null,null,null,null,"Beza",0,null,0,0,0,0,0,0,0,0,0,null,null,null,0,0,0,0,0,0,0,0,0]
[null,"Haier ",160772.98000000001,145178.23000000001,-15594.75,-9.6998575258106179E-2,null,null,null,"Haier ",145178.23000000001,null,0,0,0,0,77832.73,69409.000000000015,0,-2132.5599999999977,69.059999999997672,null,null,null,null,"Bmeters",9983.8700000000008,739,795.77,2487.2400000000002,-85.690000000000055,1802.9500000000003,0,995.1899999999996,174.4399999999996,2314.8600000000006,0,null,null,848.78,1003.4200000000001,2101.0199999999995,0,443.34999999999991,997.05000000000018,0,907.86999999999989,1057.1999999999998,2625.1800000000012]
[null,"Bosch",180290.39,142477.16,-37813.23000000001,-0.20973513896109497,null,null,null,"Bosch",142477.16,19577.27,29991.45,5644.0799999999945,9764.1300000000047,0,58702.109999999993,11380.62000000001,0,2085.1899999999732,5332.3100000000268,null,null,null,null,"Bosch",142477.16,14930.619999999999,11541.29,9653.5400000000045,53403.88,8942.2500000000146,10415.439999999988,22794.12000000001,9135,22244.099999999977,17230.150000000023,null,null,19577.27,29991.45,5644.0799999999945,9764.1300000000047,0,58702.109999999993,11380.62000000001,0,2085.1899999999732,5332.3100000000268]
[null,"Cordivari ",31170.590000000011,98239.239999999976,67068.649999999965,2.1516644375355085,null,null,null,"Cordivari ",98239.239999999976,3588.62,4968.47,4330.2800000000007,1912.2400000000016,17922.37999999999,16096.549999999996,17432.349999999999,0,2945.1399999999994,29043.209999999992,null,null,null,null,"Bossini ",0,null,0,0,0,0,0,0,0,0,0,null,null,null,0,0,0,0,0,0,0,0,0]
[null,"Samsung",12198.61,93774.49,81575.88,6.6873094557494666,null,null,null,"Samsung",93774.49,null,0,71474.98,17171.72,4341.7400000000052,0,0,0,0,786.05000000000291,null,null,null,null,"BT-Flex",0,null,0,0,0,0,0,0,0,0,0,null,null,null,0,0,0,0,0,0,0,0,0]
[null,"Xylem",106296.44,66146.820000000007,-40149.619999999995,-0.3777136844846356,null,null,null,"Xylem",66146.820000000007,1915.6,276,9529.4499999999989,10212,13999.52,13622.5,0,2201.9599999999991,4853.0900000000038,9536.7000000000044,null,null,null,null,"Bwt/Cillichemie",0,null,0,0,0,0,0,0,0,0,0,null,null,null,0,0,0,0,0,0,0,0,0]
[null,"Tiemme Raccorderie",92521.54,64212.219999999994,-28309.32,-0.30597545177047425,null,null,null,"Tiemme Raccorderie",64212.219999999994,6068.130000000001,10774.260000000002,3966.5799999999981,8987.8799999999974,6948.3700000000026,6400.739999999998,8279.5299999999988,1931.6200000000026,6664.2299999999959,4190.8799999999974,null,null,null,null,"Caleffi",29491.72,2458.84,2051.8599999999997,2603.9400000000005,5894.45,1427.3899999999994,605.04000000000087,2478.1100000000006,793.31999999999971,6940.5799999999981,5848.6399999999994,null,null,1646.16,7831.26,2057.2099999999991,1034.2600000000002,4776.09,6282.0299999999988,199,605.64000000000306,4312.16,747.90999999999985]
[null,"Global ",27623,62829,35206,1.2745176121348152,null,null,null,"Global ",62829,12892.99,0,9019.83,0,12239.760000000002,9023.68,0,0,9239.739999999998,10413,null,null,null,null,"Carlo Nobili ",0,null,0,0,0,0,0,0,0,0,0,null,null,null,0,0,0,0,0,0,0,0,0]
[null,"Ibp Banninger ",58854,46597,-12257,-0.20826112073945691,null,null,null,"Ibp Banninger ",46597,7568,7776,4143,6110,5921,2304,6842,0,4423,1510,null,null,null,null,"Carrier",15347,-197,0,197,1549,1870,116,0,623,418,0,null,null,4783,0,2246,0,6275,-814,724,0,1318,815]
[null,"L'isolante K-Flex ",66440.209999999992,41762.04,-24678.169999999991,-0.37143425645403583,null,null,null,"L'isolante K-Flex ",41762.04,4696.1899999999996,5532.6799999999994,5439.5000000000036,3119.0199999999968,4390.82,2870.8099999999977,4382.2500000000036,2021.4399999999951,7321.9700000000048,1987.3600000000006,null,null,null,null,"Cordivari ",98239.239999999976,2129.29,1476.6599999999999,4042.0399999999991,3752.3,5204.3100000000068,3017.9199999999983,4198.7099999999991,0,1387.2299999999886,5962.1300000000192,null,null,3588.62,4968.47,4330.2800000000007,1912.2400000000016,17922.37999999999,16096.549999999996,17432.349999999999,0,2945.1399999999994,29043.209999999992]
[null,"System Group (Sa.Mi. Plastic)",70610.320000000007,40533.870000000003,-30076.450000000004,-0.42594977618002583,null,null,null,"System Group (Sa.Mi. Plastic)",40533.870000000003,null,0,6034.2,5643.0000000000009,8306.7000000000007,8984.3099999999977,3094.6100000000006,0,2021.3799999999974,6449.6700000000055,null,null,null,null,"Dab Pumps",0,null,0,0,0,0,0,0,0,0,0,null,null,null,0,0,0,0,0,0,0,0,0]
[null,"Ferrari ",24159,38598,14439,0.59766546628585626,null,null,null,"Ferrari ",38598,4517,2051,4147,299,11903,5959,6931,0,2791,0,null,null,null,null,"Ebara",36868.400000000001,17668.240000000002,4350.3099999999977,3639.7099999999991,14215.619999999999,14487.660000000003,1537.0400000000009,0,0,4317,13912,null,null,11983.1,1908,3635.8000000000011,1689.2999999999993,0,3065,0,7996,2451.2000000000007,4140]
[null,"Ebara",74127.58,36868.400000000001,-37259.18,-0.502635861038496,null,null,null,"Ebara",36868.400000000001,11983.1,1908,3635.8000000000011,1689.2999999999993,0,3065,0,7996,2451.2000000000007,4140,null,null,null,null,"Effebi ",0,null,0,0,0,0,0,0,0,0,0,null,null,null,0,0,0,0,0,0,0,0,0]
[null,"Itap",38854.590000000004,35659.47,-3195.1200000000026,-8.2232755512283151E-2,null,null,null,"Itap",35659.47,522.09,6364.29,9173.5799999999981,7948.4200000000019,1776.2099999999991,0,2951.0400000000009,843.05999999999767,4093.8200000000033,1986.9599999999991,null,null,null,null,"Enolgas",9556.3700000000008,1557.14,0,8073.36,1069.3799999999992,614.40000000000146,1596.6799999999985,4648.4599999999991,0,4358.4700000000012,3662.84,null,null,1168.72,1006.28,1003.8299999999999,0,4613.75,0,683.63999999999942,0,456.40000000000146,623.75]
[null,"Rubinetterie Bresciane ",33297.749999999993,32345.309999999998,-952.43999999999505,-2.8603734486564281E-2,null,null,null,"Rubinetterie Bresciane ",32345.309999999998,1117.33,6988.98,2968.7700000000004,5336.83,2995.7099999999991,817.63000000000102,0,7091.09,4303.3399999999929,725.63000000000466,null,null,null,null,"Ercos ",9663,430.33,1541.4,1055.5999999999999,3796.01,2854.2099999999991,3612.8600000000006,100.73999999999978,0,3879.8500000000004,1098.7999999999993,null,null,2813,1951,581,1821,124,8,1746,0,440,179]
[null,"Caleffi",31102.17,29491.72,-1610.4499999999971,-5.1779345299700852E-2,null,null,null,"Caleffi",29491.72,1646.16,7831.26,2057.2099999999991,1034.2600000000002,4776.09,6282.0299999999988,199,605.64000000000306,4312.16,747.90999999999985,null,null,null,null,"Euroacque",0,null,0,0,0,0,0,0,0,0,0,null,null,null,0,0,0,0,0,0,0,0,0]
[null,"Giacomini",25976.48,28897.35,2920.869999999999,0.1124428713975103,null,null,null,"Giacomini",28897.35,591.08000000000004,11545.74,6363.2000000000007,3893.619999999999,1199.6900000000023,0,2412.8199999999997,727.29999999999927,1217.2999999999993,946.59999999999854,null,null,null,null,"Eurocornici",0,null,0,0,0,0,0,0,0,0,0,null,null,null,0,0,0,0,0,0,0,0,0]
[null,"Geberit",39353.51,27421.549999999996,-11931.960000000006,-0.30319938424806336,null,null,null,"Geberit",27421.549999999996,4439.0200000000004,2551.17,2692.2799999999988,4759.51,0,3614.2600000000057,556.7400000000016,4146.9599999999955,3486.0699999999924,1175.5400000000009,null,null,null,null,"Farg",14470.33,null,4404.3999999999996,1996.4000000000005,0,6614.7300000000005,2382.7299999999996,0,0,6509.6299999999992,0,null,null,1083,670.16000000000008,2125.5199999999995,2760.4200000000005,0,2066.6800000000003,1387.4299999999985,0,2039.8400000000001,2337.2800000000007]
[null,"Valsir",3644,19118,15474,4.2464324917672887,null,null,null,"Valsir",19118,6102,0,5257.77,0.22999999999956344,0,0,5123,0,2545,90,null,null,null,null,"Ferrari ",38598,1837,143,1469,3629,3147,1331,5974,2614,2729,1286,null,null,4517,2051,4147,299,11903,5959,6931,0,2791,0]
[null,"Fluidmaster",15508,17561,2053,0.13238328604591176,null,null,null,"Fluidmaster",17561,3256,0,5.999999999994543E-2,9614.94,263,1899,0,1853,675,0,null,null,null,null,"Ferroli",0,null,0,0,0,0,0,0,0,0,0,null,null,null,0,0,0,0,0,0,0,0,0]
[null,"Thermomat Saniline ",24007,16496,-7511,-0.31286708043487321,null,null,null,"Thermomat Saniline ",16496,3892,501,4406,2693,2475,-101,0,1261,0,1369,null,null,null,null,"Fima Carlo Frattini",3373,null,0,0,0,0,938.86,0,0,110.99999999999989,5412.2000000000007,null,null,388.92,418.2,0,710.93999999999994,1893.98,0,-39.039999999999964,0,0,0]
[null,"Varem",15755.66,15739.339999999998,-16.320000000001528,-1.0358182392867787E-3,null,null,null,"Varem",15739.339999999998,null,1649.1299999999999,0,4102.84,1528.8099999999995,2640.8899999999985,3443.5600000000013,997.48999999999978,1376.619999999999,0,null,null,null,null,"Fimi",6222.7400000000007,935.71,1491.73,0,3035.0800000000004,237.28999999999996,851.54,1439.0599999999995,2944.99,0,0,null,null,null,775.2,884.52,0,1784.7099999999998,0,1226.5400000000004,-61.329999999999927,847,766.10000000000036]
[null,"Carrier",4576,15347,10771,2.3538024475524475,null,null,null,"Carrier",15347,4783,0,2246,0,6275,-814,724,0,1318,815,null,null,null,null,"First Corporation ",0,null,0,0,0,0,0,0,0,0,0,null,null,null,0,0,0,0,0,0,0,0,0]
[null,"Rems",28413,15012,-13401,-0.47165030091859361,null,null,null,"Rems",15012,656,1508,228,1557,3843,1131,2750,0,1414,1925,null,null,null,null,"Fluidmaster",17561,3862,0,-71,3219,223,3671,1247,0,3357,0,null,null,3256,0,5.999999999994543E-2,9614.94,263,1899,0,1853,675,0]
[null,"Farg",21907.89,14470.33,-7437.5599999999995,-0.33949230163196908,null,null,null,"Farg",14470.33,1083,670.16000000000008,2125.5199999999995,2760.4200000000005,0,2066.6800000000003,1387.4299999999985,0,2039.8400000000001,2337.2800000000007,null,null,null,null,"Galassia ",0,null,0,263,0,1696,0,0,0,0,0,null,null,null,0,0,0,0,0,0,0,0,0]
[null,"Bmeters",9223.76,9983.8700000000008,760.11000000000058,8.2407825008456559E-2,null,null,null,"Bmeters",9983.8700000000008,848.78,1003.4200000000001,2101.0199999999995,0,443.34999999999991,997.05000000000018,0,907.86999999999989,1057.1999999999998,2625.1800000000012,null,null,null,null,"Galletti",0,null,0,0,0,0,0,0,0,0,0,null,null,null,0,0,0,0,0,0,0,0,0]
[null,"Ercos ",18369.8,9663,-8706.7999999999993,-0.4739735870831473,null,null,null,"Ercos ",9663,2813,1951,581,1821,124,8,1746,0,440,179,null,null,null,null,"GBD ",0,null,0,0,0,0,0,0,0,0,0,null,null,null,0,0,0,0,0,0,0,0,0]
[null,"Enolgas",25580.73,9556.3700000000008,-16024.359999999999,-0.6264230926951655,null,null,null,"Enolgas",9556.3700000000008,1168.72,1006.28,1003.8299999999999,0,4613.75,0,683.63999999999942,0,456.40000000000146,623.75,null,null,null,null,"Geberit",27421.549999999996,4199.8600000000006,11334.26,0,12848.17,703.93000000000029,2867.3000000000029,2190.8899999999994,747.51000000000204,3026.0599999999977,1435.5299999999988,null,null,4439.0200000000004,2551.17,2692.2799999999988,4759.51,0,3614.2600000000057,556.7400000000016,4146.9599999999955,3486.0699999999924,1175.5400000000009]
[null,"Paini",23363.3,8123.2,-15240.099999999999,-0.65230939122469855,null,null,null,"Paini",8123.2,2650,0,0,0,4321.8,0,636.39999999999964,0,515,0,null,null,null,null,"General d'aspirazione",0,null,0,0,0,0,0,0,0,0,0,null,null,null,0,0,0,0,0,0,0,0,0]
[null,"Omp Tea ",14930.58,8116.7,-6813.88,-0.45637075049998055,null,null,null,"Omp Tea ",8116.7,866.8,881.2,0,1587.92,2000.1999999999998,1326.6599999999999,531.90000000000055,0,623.21999999999935,298.80000000000018,null,null,null,null,"General Fittings ",0,null,0,0,0,0,0,0,0,0,0,null,null,null,0,0,0,0,0,0,0,0,0]
[null,"Grohe",8522.75,8058.64,-464.10999999999967,-5.4455428118858284E-2,null,null,null,"Grohe",8058.64,null,222.06,126.36000000000001,1393.67,0,0,1587.71,4728.8400000000011,194.03999999999905,-194.03999999999996,null,null,null,null,"Giacomini",28897.35,3875.16,1986.5,1469.3400000000001,4715.3500000000004,2297.3999999999996,3228.5,5487.41,0,1117,1799.8199999999997,null,null,591.08000000000004,11545.74,6363.2000000000007,3893.619999999999,1199.6900000000023,0,2412.8199999999997,727.29999999999927,1217.2999999999993,946.59999999999854]
[null,"Novellini ",1544,7972.64,6428.64,4.1636269430051813,null,null,null,"Novellini ",7972.64,1628.01,3329.7299999999996,2039.1900000000005,6.9999999999708962E-2,268,0,327,0.22999999999956344,380.41000000000076,0,null,null,null,null,"Giuseppe Tirinnanzi",0,null,0,0,0,0,0,0,0,0,0,null,null,null,0,0,0,0,0,0,0,0,0]
[null,"Fimi",10935.4,6222.7400000000007,-4712.6599999999989,-0.43095451469539281,null,null,null,"Fimi",6222.7400000000007,null,775.2,884.52,0,1784.7099999999998,0,1226.5400000000004,-61.329999999999927,847,766.10000000000036,null,null,null,null,"Global ",62829,6912.64,0,0,0,0,11673.14,1114.3400000000001,0,7922.880000000001,0,null,null,12892.99,0,9019.83,0,12239.760000000002,9023.68,0,0,9239.739999999998,10413]
[null,"Fima Carlo Frattini",6462.06,3373,-3089.0600000000004,-0.47803022565559594,null,null,null,"Fima Carlo Frattini",3373,388.92,418.2,0,710.93999999999994,1893.98,0,-39.039999999999964,0,0,0,null,null,null,null,"Griffon - Bostik",668.96,null,0,0,282.99,0,0,0,0,551.58000000000004,0,null,null,null,0,0,0,0,0,368.68,0,300.28000000000003,0]
[null,"Albatros",8639,2640,-5999,-0.69440907512443573,null,null,null,"Albatros",2640,0,0,1208,0,1168,0,0,0,264,0,null,null,null,null,"Grohe",8058.64,1438.1499999999999,812.6400000000001,-1371.81,1999.3600000000001,1636.54,1519.5099999999993,1574.5600000000013,0,913.79999999999927,0,null,null,null,222.06,126.36000000000001,1393.67,0,0,1587.71,4728.8400000000011,194.03999999999905,-194.03999999999996]
[null,"Va-Albertoni ",7570.8,2101.91,-5468.89,-0.72236619643894961,null,null,null,"Va-Albertoni ",2101.91,1130.53,0,0,0,971.37999999999988,0,0,0,0,0,null,null,null,null,"Gruppo Salteco",0,null,0,0,0,0,0,0,0,0,0,null,null,null,0,0,0,0,0,0,0,0,0]
[null,"Neoperl",4743.97,1796.91,-2947.0600000000004,-0.62122230958458846,null,null,null,"Neoperl",1796.91,558.74,94.710000000000036,0,205.02999999999997,476.44000000000005,0,0,0,461.99,0,null,null,null,null,"Haier ",145178.23000000001,null,0,48806,0,54316.800000000003,0,2560.5800000000017,55089.600000000006,0,0,null,null,null,0,0,0,0,77832.73,69409.000000000015,0,-2132.5599999999977,69.059999999997672]
[null,"Atusa",1408.1200000000001,1378.04,-30.080000000000155,-2.1361815754339264E-2,null,null,null,"Atusa",1378.04,-7.38,0,0,0,0,1385.42,0,0,0,0,null,null,null,null,"Ibp Banninger ",46597,7524,4967,1302,18327,2399,4744,13576,3164,2786,65,null,null,7568,7776,4143,6110,5921,2304,6842,0,4423,1510]
[null,"Griffon - Bostik",834.57,668.96,-165.61,-0.19843751872221627,null,null,null,"Griffon - Bostik",668.96,null,0,0,0,0,0,368.68,0,300.28000000000003,0,null,null,null,null,"Ideal Standard",-30.81,null,0,0,0,0,1969.79,832.5300000000002,0,0,0,null,null,null,0,0,0,0,0,-30.81,0,0,0]
[null,"General Fittings ",0,0,0,{"$error":"#DIV/0!"},null,null,null,"General Fittings ",0,null,0,0,0,0,0,0,0,0,0,null,null,null,null,"Immergas ",0,null,0,0,0,0,0,0,0,0,0,null,null,null,0,0,0,0,0,0,0,0,0]
[null,"Sabiana",0,0,0,{"$error":"#DIV/0!"},null,null,null,"Sabiana",0,null,0,0,0,0,0,0,0,0,0,null,null,null,null,"Isoclima",277736.08,null,0,31894,25357.17,30828.660000000003,39790.06,32088.900000000009,21224.809999999998,26720.160000000003,17487.25,null,null,15333.07,6958.7000000000007,77432.649999999994,58444.840000000011,32734.489999999991,21172.100000000006,11770.51999999999,27133.239999999991,23656.790000000037,3099.679999999993]
[null,"Rizzo Aquae",0,0,0,{"$error":"#DIV/0!"},null,null,null,"Rizzo Aquae",0,null,0,0,0,0,0,0,0,0,0,null,null,null,null,"Italkero",0,null,0,0,0,0,0,0,0,0,0,null,null,null,0,0,0,0,0,0,0,0,0]
[null,"Euroacque",0,0,0,{"$error":"#DIV/0!"},null,null,null,"Euroacque",0,null,0,0,0,0,0,0,0,0,0,null,null,null,null,"Itap",35659.47,8186.12,2195.96,5089.8700000000008,6748.5,1459.75,4140.9600000000028,3473.2799999999988,0,5783.260000000002,1776.8899999999994,null,null,522.09,6364.29,9173.5799999999981,7948.4200000000019,1776.2099999999991,0,2951.0400000000009,843.05999999999767,4093.8200000000033,1986.9599999999991]
[null,"Tecnocontrol",0,0,0,{"$error":"#DIV/0!"},null,null,null,"Tecnocontrol",0,null,0,0,0,0,0,0,0,0,0,null,null,null,null,"KINEDO",0,null,0,0,0,0,1543.78,-28.220000000000027,0,0,907.77,null,null,null,0,0,0,0,0,0,0,0,0]
[null,"Italkero",0,0,0,{"$error":"#DIV/0!"},null,null,null,"Italkero",0,null,0,0,0,0,0,0,0,0,0,null,null,null,null,"LG",0,null,0,0,0,0,0,0,0,0,0,null,null,null,0,0,0,0,0,0,0,0,0]
[null,"Immergas ",0,0,0,{"$error":"#DIV/0!"},null,null,null,"Immergas ",0,null,0,0,0,0,0,0,0,0,0,null,null,null,null,"L'isolante K-Flex ",41762.04,3232.28,6791.2100000000009,5875.6399999999976,6161.3099999999995,8621.5699999999961,0,20040.989999999998,2302.5,5635.489999999998,7779.2200000000012,null,null,4696.1899999999996,5532.6799999999994,5439.5000000000036,3119.0199999999968,4390.82,2870.8099999999977,4382.2500000000036,2021.4399999999951,7321.9700000000048,1987.3600000000006]
[null,"Eurocornici",0,0,0,{"$error":"#DIV/0!"},null,null,null,"Eurocornici",0,null,0,0,0,0,0,0,0,0,0,null,null,null,null,"Megius",0,null,0,0,0,0,0,0,0,0,0,null,null,null,0,0,0,0,0,0,0,0,0]
[null,"Royo",1072.4000000000001,0,-1072.4000000000001,-1,null,null,null,"Royo",0,null,0,0,0,0,0,0,0,0,0,null,null,null,null,"Mut Meccanica Tovo",0,null,0,0,0,0,0,0,0,0,0,null,null,null,0,0,0,0,0,0,0,0,0]
[null,"KINEDO",2423.33,0,-2423.33,-1,null,null,null,"KINEDO",0,null,0,0,0,0,0,0,0,0,0,null,null,null,null,"Negrari",0,null,0,0,0,0,0,0,0,0,0,null,null,null,0,0,0,0,0,0,0,0,0]
[null,"GBD ",0,0,0,{"$error":"#DIV/0!"},null,null,null,"GBD ",0,null,0,0,0,0,0,0,0,0,0,null,null,null,null,"Neoperl",1796.91,null,1781.19,0,977.69,693.00999999999976,0,713.48,0,578.60000000000036,0,null,null,558.74,94.710000000000036,0,205.02999999999997,476.44000000000005,0,0,0,461.99,0]
[null,"LG",0,0,0,{"$error":"#DIV/0!"},null,null,null,"LG",0,null,0,0,0,0,0,0,0,0,0,null,null,null,null,"Novellini ",7972.64,null,0,184,1360,0,0,0,0,0,0,null,null,1628.01,3329.7299999999996,2039.1900000000005,6.9999999999708962E-2,268,0,327,0.22999999999956344,380.41000000000076,0]
[null,"Arbi arredobagno",0,0,0,{"$error":"#DIV/0!"},null,null,null,"Arbi arredobagno",0,null,0,0,0,0,0,0,0,0,0,null,null,null,null,"Olimpia Splendid ",0,null,0,0,0,0,0,0,0,20278,0,null,null,null,0,0,0,0,0,0,0,0,0]
[null,"Bossini ",0,0,0,{"$error":"#DIV/0!"},null,null,null,"Bossini ",0,null,0,0,0,0,0,0,0,0,0,null,null,null,null,"Omp Tea ",8116.7,891.51,3523.0299999999997,838.23999999999978,0,2343.9900000000007,2445.3099999999995,1076.7199999999993,0,2001.0400000000009,1810.7399999999998,null,null,866.8,881.2,0,1587.92,2000.1999999999998,1326.6599999999999,531.90000000000055,0,623.21999999999935,298.80000000000018]
[null,"Effebi ",0,0,0,{"$error":"#DIV/0!"},null,null,null,"Effebi ",0,null,0,0,0,0,0,0,0,0,0,null,null,null,null,"Paini",8123.2,-46.6,7718.1100000000006,3770.9400000000005,-120.04000000000087,6690.5,2626.2799999999988,-86.899999999997817,0,2811.0099999999984,0,null,null,2650,0,0,0,4321.8,0,636.39999999999964,0,515,0]
[null,"Dab Pumps",0,0,0,{"$error":"#DIV/0!"},null,null,null,"Dab Pumps",0,null,0,0,0,0,0,0,0,0,0,null,null,null,null,"Panasonic",0,null,0,0,0,0,0,0,0,0,0,null,null,null,0,0,0,0,0,0,0,0,0]
[null,"Beza",0,0,0,{"$error":"#DIV/0!"},null,null,null,"Beza",0,null,0,0,0,0,0,0,0,0,0,null,null,null,null,"Planus",0,null,0,0,0,0,0,0,0,0,0,null,null,null,0,0,0,0,0,0,0,0,0]
[null,"Megius",0,0,0,{"$error":"#DIV/0!"},null,null,null,"Megius",0,null,0,0,0,0,0,0,0,0,0,null,null,null,null,"Polieco",404686.45,10382.61,42034.080000000002,31217.929999999993,40175.150000000009,49840.87999999999,60860.110000000015,58117.959999999963,6748.0100000000093,34505.23000000004,12517.159999999974,null,null,20578.400000000001,52701.49,44386.710000000006,19484.910000000003,37970.25,44612.609999999986,63393.669999999984,43998.160000000033,30403.659999999974,47156.590000000026]
[null,"Gruppo Salteco",0,0,0,{"$error":"#DIV/0!"},null,null,null,"Gruppo Salteco",0,null,0,0,0,0,0,0,0,0,0,null,null,null,null,"Raccorderie Metalliche  ",199251.82,11351.84,22631.38,32838.100000000006,23307.01999999999,21146.490000000005,51115.930000000008,33662.359999999986,2621.2799999999988,4918.3000000000175,24725.25,null,null,11660.48,22275.24,35169.679999999993,7660.4200000000128,30670.67,29106.809999999983,9936.3300000000163,11952.419999999984,14570.460000000021,26249.309999999998]
[null,"Mut Meccanica Tovo",0,0,0,{"$error":"#DIV/0!"},null,null,null,"Mut Meccanica Tovo",0,null,0,0,0,0,0,0,0,0,0,null,null,null,null,"Rems",15012,2731,378,4168,3687,4838,2186,1947,1359,1675,5444,null,null,656,1508,228,1557,3843,1131,2750,0,1414,1925]
[null,"RM Manfredi",0,0,0,{"$error":"#DIV/0!"},null,null,null,"RM Manfredi",0,null,0,0,0,0,0,0,0,0,0,null,null,null,null,"River",0,null,0,0,0,0,0,0,0,0,0,null,null,null,0,0,0,0,0,0,0,0,0]
[null,"Negrari",0,0,0,{"$error":"#DIV/0!"},null,null,null,"Negrari",0,null,0,0,0,0,0,0,0,0,0,null,null,null,null,"Rizzo Aquae",0,null,0,0,0,0,0,0,0,0,0,null,null,null,0,0,0,0,0,0,0,0,0]
[null,"Galassia ",1959,0,-1959,-1,null,null,null,"Galassia ",0,null,0,0,0,0,0,0,0,0,0,null,null,null,null,"RM Manfredi",0,null,0,0,0,0,0,0,0,0,0,null,null,null,0,0,0,0,0,0,0,0,0]
[null,"Galletti",0,0,0,{"$error":"#DIV/0!"},null,null,null,"Galletti",0,null,0,0,0,0,0,0,0,0,0,null,null,null,null,"Royo",0,null,0,0,0,0,1072.4000000000001,0,0,0,0,null,null,null,0,0,0,0,0,0,0,0,0]
[null,"Arblu",0,0,0,{"$error":"#DIV/0!"},null,null,null,"Arblu",0,null,0,0,0,0,0,0,0,0,0,null,null,null,null,"Rubinetterie Bresciane ",32345.309999999998,1681.7,0,2974.87,7945.58,1177.5199999999986,2420.3999999999996,0,9748.0000000000018,7202.5899999999965,147.08999999999651,null,null,1117.33,6988.98,2968.7700000000004,5336.83,2995.7099999999991,817.63000000000102,0,7091.09,4303.3399999999929,725.63000000000466]
[null,"Silmet",0,0,0,{"$error":"#DIV/0!"},null,null,null,"Silmet",0,null,0,0,0,0,0,0,0,0,0,null,null,null,null,"Sabiana",0,null,0,0,0,0,0,0,0,0,0,null,null,null,0,0,0,0,0,0,0,0,0]
[null,"System Group (Rototec)",0,0,0,{"$error":"#DIV/0!"},null,null,null,"System Group (Rototec)",0,null,0,0,0,0,0,0,0,0,0,null,null,null,null,"Samsung",93774.49,null,0,0,0,0,12198.61,0,0,0,0,null,null,null,0,71474.98,17171.72,4341.7400000000052,0,0,0,0,786.05000000000291]
[null,"BT-Flex",0,0,0,{"$error":"#DIV/0!"},null,null,null,"BT-Flex",0,null,0,0,0,0,0,0,0,0,0,null,null,null,null,"Silmet",0,null,0,0,0,0,0,0,0,0,0,null,null,null,0,0,0,0,0,0,0,0,0]
[null,"System Group (Sab)",0,0,0,{"$error":"#DIV/0!"},null,null,null,"System Group (Sab)",0,null,0,0,0,0,0,0,0,0,0,null,null,null,null,"System Group (Rototec)",0,null,0,0,0,0,0,0,0,0,0,null,null,null,0,0,0,0,0,0,0,0,0]
[null,"Olimpia Splendid ",20278,0,-20278,-1,null,null,null,"Olimpia Splendid ",0,null,0,0,0,0,0,0,0,0,0,null,null,null,null,"System Group (Sa.Mi. Plastic)",40533.870000000003,-47.97,1580.46,3404.3100000000004,32573.039999999997,13158.190000000002,4349.8600000000006,7413.0299999999988,0,7505.4020000000019,673.99800000000687,null,null,null,0,6034.2,5643.0000000000009,8306.7000000000007,8984.3099999999977,3094.6100000000006,0,2021.3799999999974,6449.6700000000055]
[null,"Tecnosystemi",0,0,0,{"$error":"#DIV/0!"},null,null,null,"Tecnosystemi",0,null,0,0,0,0,0,0,0,0,0,null,null,null,null,"System Group (Sab)",0,null,0,0,0,0,0,0,0,0,0,null,null,null,0,0,0,0,0,0,0,0,0]
[null,"Ferroli",0,0,0,{"$error":"#DIV/0!"},null,null,null,"Ferroli",0,null,0,0,0,0,0,0,0,0,0,null,null,null,null,"Tecnocontrol",0,null,0,0,0,0,0,0,0,0,0,null,null,null,0,0,0,0,0,0,0,0,0]
[null,"General d'aspirazione",0,0,0,{"$error":"#DIV/0!"},null,null,null,"General d'aspirazione",0,null,0,0,0,0,0,0,0,0,0,null,null,null,null,"Tecnosystemi",0,null,0,0,0,0,0,0,0,0,0,null,null,null,0,0,0,0,0,0,0,0,0]
[null,"Bwt/Cillichemie",0,0,0,{"$error":"#DIV/0!"},null,null,null,"Bwt/Cillichemie",0,null,0,0,0,0,0,0,0,0,0,null,null,null,null,"Tenaris Dalmine ",701116.29,29712.59,42090.260000000009,91986.03,120389.91999999998,69461.25,59300.130000000005,48400.5,0,72630.620000000054,49265.659999999916,null,null,38203.94,70115.459999999992,86473.459999999992,32895.75,116573.51000000001,62997.119999999995,72468.660000000033,19094.839999999967,155865.37,46428.180000000051]
[null,"Bernasconi ",0,0,0,{"$error":"#DIV/0!"},null,null,null,"Bernasconi ",0,null,0,0,0,0,0,0,0,0,0,null,null,null,null,"Thermomat Saniline ",16496,2557,1128,4149,6538,1772,0,2125,0,2879,2859,null,null,3892,501,4406,2693,2475,-101,0,1261,0,1369]
[null,"Panasonic",0,0,0,{"$error":"#DIV/0!"},null,null,null,"Panasonic",0,null,0,0,0,0,0,0,0,0,0,null,null,null,null,"Tiemme Raccorderie",64212.219999999994,9891.07,23491.289999999994,6581.2500000000073,11189.879999999997,12872.400000000009,3572.8599999999933,9456.1499999999942,0,12401.800000000003,3064.8399999999965,null,null,6068.130000000001,10774.260000000002,3966.5799999999981,8987.8799999999974,6948.3700000000026,6400.739999999998,8279.5299999999988,1931.6200000000026,6664.2299999999959,4190.8799999999974]
[null,"Giuseppe Tirinnanzi",0,0,0,{"$error":"#DIV/0!"},null,null,null,"Giuseppe Tirinnanzi",0,null,0,0,0,0,0,0,0,0,0,null,null,null,null,"Unidelta",513325.87,62515.61,112359.36,81934.109999999986,90068.870000000024,73881.409999999974,89360.5,58191.339999999967,18910.25,36952.410000000033,78618.87,null,null,33528.5,41154.229999999996,81001.86,108171.51999999999,65408.630000000005,58973.710000000021,3560.9099999999744,25250.440000000002,32291.400000000023,63984.669999999984]
[null,"Planus",0,0,0,{"$error":"#DIV/0!"},null,null,null,"Planus",0,null,0,0,0,0,0,0,0,0,0,null,null,null,null,"Va-Albertoni ",2101.91,null,1094.4000000000001,1026.2399999999998,0,1920.8700000000003,1193.0999999999995,1055.8400000000001,93.900000000000546,754.17000000000007,432.27999999999975,null,null,1130.53,0,0,0,971.37999999999988,0,0,0,0,0]
[null,"Vortice",0,0,0,{"$error":"#DIV/0!"},null,null,null,"Vortice",0,null,0,0,0,0,0,0,0,0,0,null,null,null,null,"Valsir",19118,null,0,0,0,0,0,0,0,0,3644,null,null,6102,0,5257.77,0.22999999999956344,0,0,5123,0,2545,90]
[null,"Arredamenti Montegrappa",1399.29,0,-1399.29,-1,null,null,null,"Arredamenti Montegrappa",0,null,0,0,0,0,0,0,0,0,0,null,null,null,null,"Varem",15739.339999999998,null,1620.41,3049.7800000000007,981.10000000000036,2506.6399999999994,1634.2799999999988,869.65000000000146,0,5093.7999999999993,0,null,null,null,1649.1299999999999,0,4102.84,1528.8099999999995,2640.8899999999985,3443.5600000000013,997.48999999999978,1376.619999999999,0]
[null,"Wilo",0,0,0,{"$error":"#DIV/0!"},null,null,null,"Wilo",0,null,0,0,0,0,0,0,0,0,0,null,null,null,null,"Vortice",0,null,0,0,0,0,0,0,0,0,0,null,null,null,0,0,0,0,0,0,0,0,0]
[null,"First Corporation ",0,0,0,{"$error":"#DIV/0!"},null,null,null,"First Corporation ",0,null,0,0,0,0,0,0,0,0,0,null,null,null,null,"Wavin ",266250.21999999997,21235.64,22727.630000000005,46374.570000000007,61827.38999999997,13114.080000000016,13337.610000000015,4201.6599999999744,7147.2799999999988,10385.710000000021,27839.629999999976,null,null,26864.41,20025.890000000003,35379.860000000088,37992.099999999919,44508.399999999994,20783.839999999997,21839.309999999998,4740.6900000000023,26235.670000000013,27880.049999999959]
[null,"Sctubes",0,0,0,{"$error":"#DIV/0!"},null,null,null,"Sctubes",0,null,0,0,0,0,0,0,0,0,0,null,null,null,null,"Wilo",0,null,0,0,0,0,0,0,0,0,0,null,null,null,0,0,0,0,0,0,0,0,0]
[null,"Carlo Nobili ",0,0,0,{"$error":"#DIV/0!"},null,null,null,"Carlo Nobili ",0,null,0,0,0,0,0,0,0,0,0,null,null,null,null,"Xylem",66146.820000000007,null,24475.620000000003,24287.509999999995,7000.2200000000012,7543.5999999999985,7460.6999999999971,8134.8000000000029,368.97999999999593,25059.680000000008,1965.3300000000017,null,null,1915.6,276,9529.4499999999989,10212,13999.52,13622.5,0,2201.9599999999991,4853.0900000000038,9536.7000000000044]
[null,"River",0,0,0,{"$error":"#DIV/0!"},null,null,null,"River",0,null,0,0,0,0,0,0,0,0,0,null,null,null,null,"Sctubes",0,null,0,0,0,0,0,0,0,0,0,null,null,null,0,0,0,0,0,0,0,0,0]
[null,"Ideal Standard",2802.32,-30.81,-2833.13,-1.0109944617317079,null,null,null,"Ideal Standard",-30.81,null,0,0,0,0,0,-30.81,0,0,0,null,null,null,null,"System Group Sicilia",180542,null,0,24976.54,10227.14,18838.82,6498.9700000000012,12524.070000000007,7591.679999999993,3577.6600000000035,5750.9499999999971,null,null,null,0,43993.78,18087.090000000004,53418.249999999993,17989.440000000002,10458.070000000007,0,23102.089999999997,13493.279999999999]
["Totale complessivo",null,4014734,3972007.6299999994,-42726.370000000577,-1.064239125182409E-2,null,null,"Totale complessivo",null,3972007.6299999994,270036.52999999997,344920.56,605316.84,414517.82,562372,504231.23999999993,351612.01,201941.74999999994,395003.05000000016,322055.83000000007,null,null,null,"Totale complessivo",null,3972007.6299999994,245671.84999999998,382083.98,522373.07999999996,620434.19999999995,487423.44,459431.50999999989,405442.6,157389.12999999995,405196.03200000012,329288.17799999996,null,null,270036.52999999997,344920.56,605316.84,414517.82,562372,504231.23999999993,351612.01,201941.74999999994,395003.05000000016,322055.83000000007]

{"sheet":"BUDGET","index":2,"n_rows":113,"n_cols":24,"rows_kept":113,"cut":false,"hidden":false,"merged":[[1,0,1,8],[0,14,1,15]]}
[null,null,null,null,null,null,null,null,null,null,null,null,null,null,"BUDGET  ANNUALE DEGLI ACQUISTI"]
["BUDGET MENSILE DEGLI ACQUISTI"]
["FORNITORE","GEN 22","FEB 22","MAR 22","APR 22","MAG 22","GIU 22","LUG 22","AGO 22","SET 22","OTT 22","NOV 22","DIC 22",null,"FORNITORE","BUDGET 2022",null,null,null,null,"GEN-MAR","APR-GIU","LUG-SET","OTT-DIC"]
[{"$f":"IF(O4=0,\"\",O4)","v":"Unidelta"},{"$f":"IFERROR(VLOOKUP(A4,STAGIONALITA!$A$3:$M$105,2,FALSE)*P4,\"\")","v":0},{"$f":"IFERROR(VLOOKUP(A4,STAGIONALITA!$A$3:$M$105,3,FALSE)*P4,\"\")","v":130440.47416339679},{"$f":"IFERROR(VLOOKUP(A4,STAGIONALITA!$A$3:$M$105,4,FALSE)*P4,\"\")","v":63901.462639093297},{"$f":"IFERROR(VLOOKUP(A4,STAGIONALITA!$A$3:$M$105,5,FALSE)*P4,\"\")","v":78851.681084068405},{"$f":"IFERROR(VLOOKUP(A4,STAGIONALITA!$A$3:$M$105,6,FALSE)*P4,\"\")","v":57542.33302224669},{"$f":"IFERROR(VLOOKUP(A4,STAGIONALITA!$A$3:$M$105,7,FALSE)*P4,\"\")","v":68031.677794028641},{"$f":"IFERROR(VLOOKUP(A4,STAGIONALITA!$A$3:$M$105,8,FALSE)*P4,\"\")","v":61055.53161231683},{"$f":"IFERROR(VLOOKUP(A4,STAGIONALITA!$A$3:$M$105,9,FALSE)*P4,\"\")","v":16887.430756612048},{"$f":"IFERROR(VLOOKUP(A4,STAGIONALITA!$A$3:$M$105,10,FALSE)*P4,\"\")","v":36810.786164103003},{"$f":"IFERROR(VLOOKUP(A4,STAGIONALITA!$A$3:$M$105,11,FALSE)*P4,\"\")","v":61072.157712613982},{"$f":"IFERROR(VLOOKUP(A4,STAGIONALITA!$A$3:$M$105,12,FALSE)*P4,\"\")","v":62990.223477898166},{"$f":"IFERROR(VLOOKUP(A4,STAGIONALITA!$A$3:$M$105,13,FALSE)*P4,\"\")","v":12416.241573622106},null,"Unidelta",650000,null,null,null,"ACQUISTI",{"$f":"ACQUISTI!L5+ACQUISTI!M5+ACQUISTI!N5","v":1220273.93},{"$f":"U4+ACQUISTI!O5+ACQUISTI!P5+ACQUISTI!Q5","v":2701394.9899999998},{"$f":"V4+ACQUISTI!R5+ACQUISTI!S5+ACQUISTI!T5","v":3649951.8000000003},{"$f":"W4+ACQUISTI!U5+ACQUISTI!V5+ACQUISTI!W5","v":3972007.6300000004}]
["Tenaris Dalmine ",{"$f":"IFERROR(VLOOKUP(A5,STAGIONALITA!$A$3:$M$105,2,FALSE)*P5,\"\")","v":19930.150984477845},{"$f":"IFERROR(VLOOKUP(A5,STAGIONALITA!$A$3:$M$105,3,FALSE)*P5,\"\")","v":27800.167409854377},{"$f":"IFERROR(VLOOKUP(A5,STAGIONALITA!$A$3:$M$105,4,FALSE)*P5,\"\")","v":58984.318523927912},{"$f":"IFERROR(VLOOKUP(A5,STAGIONALITA!$A$3:$M$105,5,FALSE)*P5,\"\")","v":94673.140248604526},{"$f":"IFERROR(VLOOKUP(A5,STAGIONALITA!$A$3:$M$105,6,FALSE)*P5,\"\")","v":66269.295378377341},{"$f":"IFERROR(VLOOKUP(A5,STAGIONALITA!$A$3:$M$105,7,FALSE)*P5,\"\")","v":46887.938206640298},{"$f":"IFERROR(VLOOKUP(A5,STAGIONALITA!$A$3:$M$105,8,FALSE)*P5,\"\")","v":54758.417836594286},{"$f":"IFERROR(VLOOKUP(A5,STAGIONALITA!$A$3:$M$105,9,FALSE)*P5,\"\")","v":1175.2840985535572},{"$f":"IFERROR(VLOOKUP(A5,STAGIONALITA!$A$3:$M$105,10,FALSE)*P5,\"\")","v":51079.775073139383},{"$f":"IFERROR(VLOOKUP(A5,STAGIONALITA!$A$3:$M$105,11,FALSE)*P5,\"\")","v":54878.332968982926},{"$f":"IFERROR(VLOOKUP(A5,STAGIONALITA!$A$3:$M$105,12,FALSE)*P5,\"\")","v":98946.897282546342},{"$f":"IFERROR(VLOOKUP(A5,STAGIONALITA!$A$3:$M$105,13,FALSE)*P5,\"\")","v":24616.281988301194},null,"Tenaris Dalmine ",600000,null,null,null,"BUDGET",{"$f":"SUM(B4:D107)","v":978527.72415715328},{"$f":"U5+SUM(E4:G107)","v":2290122.0294712665},{"$f":"V5+SUM(H4:J107)","v":3166793.5417304528},{"$f":"W5+SUM(K4:M107)","v":4213000}]
["Polieco",{"$f":"IFERROR(VLOOKUP(A6,STAGIONALITA!$A$3:$M$105,2,FALSE)*P6,\"\")","v":12728.344054240246},{"$f":"IFERROR(VLOOKUP(A6,STAGIONALITA!$A$3:$M$105,3,FALSE)*P6,\"\")","v":50510.785445099005},{"$f":"IFERROR(VLOOKUP(A6,STAGIONALITA!$A$3:$M$105,4,FALSE)*P6,\"\")","v":42869.047224202986},{"$f":"IFERROR(VLOOKUP(A6,STAGIONALITA!$A$3:$M$105,5,FALSE)*P6,\"\")","v":44373.200545875094},{"$f":"IFERROR(VLOOKUP(A6,STAGIONALITA!$A$3:$M$105,6,FALSE)*P6,\"\")","v":61700.120891638646},{"$f":"IFERROR(VLOOKUP(A6,STAGIONALITA!$A$3:$M$105,7,FALSE)*P6,\"\")","v":68930.604502845337},{"$f":"IFERROR(VLOOKUP(A6,STAGIONALITA!$A$3:$M$105,8,FALSE)*P6,\"\")","v":66516.503844644642},{"$f":"IFERROR(VLOOKUP(A6,STAGIONALITA!$A$3:$M$105,9,FALSE)*P6,\"\")","v":8674.8453443856706},{"$f":"IFERROR(VLOOKUP(A6,STAGIONALITA!$A$3:$M$105,10,FALSE)*P6,\"\")","v":41273.201618858133},{"$f":"IFERROR(VLOOKUP(A6,STAGIONALITA!$A$3:$M$105,11,FALSE)*P6,\"\")","v":15556.120753728092},{"$f":"IFERROR(VLOOKUP(A6,STAGIONALITA!$A$3:$M$105,12,FALSE)*P6,\"\")","v":58516.382639774973},{"$f":"IFERROR(VLOOKUP(A6,STAGIONALITA!$A$3:$M$105,13,FALSE)*P6,\"\")","v":28350.843134707135},null,"Polieco",500000,null,null,null,"Δ € ",{"$f":"U4-U5","v":241746.20584284666},{"$f":"V4-V5","v":411272.96052873321},{"$f":"W4-W5","v":483158.25826954748},{"$f":"X4-X5","v":-240992.36999999965}]
["Wavin ",{"$f":"IFERROR(VLOOKUP(A7,STAGIONALITA!$A$3:$M$105,2,FALSE)*P7,\"\")","v":14867.386375302161},{"$f":"IFERROR(VLOOKUP(A7,STAGIONALITA!$A$3:$M$105,3,FALSE)*P7,\"\")","v":26403.360317311544},{"$f":"IFERROR(VLOOKUP(A7,STAGIONALITA!$A$3:$M$105,4,FALSE)*P7,\"\")","v":24615.591089748195},{"$f":"IFERROR(VLOOKUP(A7,STAGIONALITA!$A$3:$M$105,5,FALSE)*P7,\"\")","v":43386.716243824303},{"$f":"IFERROR(VLOOKUP(A7,STAGIONALITA!$A$3:$M$105,6,FALSE)*P7,\"\")","v":22630.425542384408},{"$f":"IFERROR(VLOOKUP(A7,STAGIONALITA!$A$3:$M$105,7,FALSE)*P7,\"\")","v":17379.072648290192},{"$f":"IFERROR(VLOOKUP(A7,STAGIONALITA!$A$3:$M$105,8,FALSE)*P7,\"\")","v":10316.577087491667},{"$f":"IFERROR(VLOOKUP(A7,STAGIONALITA!$A$3:$M$105,9,FALSE)*P7,\"\")","v":11386.021856185514},{"$f":"IFERROR(VLOOKUP(A7,STAGIONALITA!$A$3:$M$105,10,FALSE)*P7,\"\")","v":19309.950944221699},{"$f":"IFERROR(VLOOKUP(A7,STAGIONALITA!$A$3:$M$105,11,FALSE)*P7,\"\")","v":21419.943160907649},{"$f":"IFERROR(VLOOKUP(A7,STAGIONALITA!$A$3:$M$105,12,FALSE)*P7,\"\")","v":22331.641262147587},{"$f":"IFERROR(VLOOKUP(A7,STAGIONALITA!$A$3:$M$105,13,FALSE)*P7,\"\")","v":15953.313472185111},null,"Wavin ",250000]
["Raccorderie Metalliche  ",{"$f":"IFERROR(VLOOKUP(A8,STAGIONALITA!$A$3:$M$105,2,FALSE)*P8,\"\")","v":17996.030371189623},{"$f":"IFERROR(VLOOKUP(A8,STAGIONALITA!$A$3:$M$105,3,FALSE)*P8,\"\")","v":14622.880789352686},{"$f":"IFERROR(VLOOKUP(A8,STAGIONALITA!$A$3:$M$105,4,FALSE)*P8,\"\")","v":28733.739110984086},{"$f":"IFERROR(VLOOKUP(A8,STAGIONALITA!$A$3:$M$105,5,FALSE)*P8,\"\")","v":22507.875880752064},{"$f":"IFERROR(VLOOKUP(A8,STAGIONALITA!$A$3:$M$105,6,FALSE)*P8,\"\")","v":21112.669160318623},{"$f":"IFERROR(VLOOKUP(A8,STAGIONALITA!$A$3:$M$105,7,FALSE)*P8,\"\")","v":29786.015831790333},{"$f":"IFERROR(VLOOKUP(A8,STAGIONALITA!$A$3:$M$105,8,FALSE)*P8,\"\")","v":27629.388972424851},{"$f":"IFERROR(VLOOKUP(A8,STAGIONALITA!$A$3:$M$105,9,FALSE)*P8,\"\")","v":8233.508220352669},{"$f":"IFERROR(VLOOKUP(A8,STAGIONALITA!$A$3:$M$105,10,FALSE)*P8,\"\")","v":14347.371848243463},{"$f":"IFERROR(VLOOKUP(A8,STAGIONALITA!$A$3:$M$105,11,FALSE)*P8,\"\")","v":24196.489170011562},{"$f":"IFERROR(VLOOKUP(A8,STAGIONALITA!$A$3:$M$105,12,FALSE)*P8,\"\")","v":16860.400392688047},{"$f":"IFERROR(VLOOKUP(A8,STAGIONALITA!$A$3:$M$105,13,FALSE)*P8,\"\")","v":13973.630251891984},null,"Raccorderie Metalliche  ",240000]
["Ariston ",{"$f":"IFERROR(VLOOKUP(A9,STAGIONALITA!$A$3:$M$105,2,FALSE)*P9,\"\")","v":17631.574108532503},{"$f":"IFERROR(VLOOKUP(A9,STAGIONALITA!$A$3:$M$105,3,FALSE)*P9,\"\")","v":26880.574721188495},{"$f":"IFERROR(VLOOKUP(A9,STAGIONALITA!$A$3:$M$105,4,FALSE)*P9,\"\")","v":21328.344847754062},{"$f":"IFERROR(VLOOKUP(A9,STAGIONALITA!$A$3:$M$105,5,FALSE)*P9,\"\")","v":21650.635068913743},{"$f":"IFERROR(VLOOKUP(A9,STAGIONALITA!$A$3:$M$105,6,FALSE)*P9,\"\")","v":20570.835355872747},{"$f":"IFERROR(VLOOKUP(A9,STAGIONALITA!$A$3:$M$105,7,FALSE)*P9,\"\")","v":23090.064944243339},{"$f":"IFERROR(VLOOKUP(A9,STAGIONALITA!$A$3:$M$105,8,FALSE)*P9,\"\")","v":19307.185447507931},{"$f":"IFERROR(VLOOKUP(A9,STAGIONALITA!$A$3:$M$105,9,FALSE)*P9,\"\")","v":3112.8324489811453},{"$f":"IFERROR(VLOOKUP(A9,STAGIONALITA!$A$3:$M$105,10,FALSE)*P9,\"\")","v":18110.86264694692},{"$f":"IFERROR(VLOOKUP(A9,STAGIONALITA!$A$3:$M$105,11,FALSE)*P9,\"\")","v":22456.379423015896},{"$f":"IFERROR(VLOOKUP(A9,STAGIONALITA!$A$3:$M$105,12,FALSE)*P9,\"\")","v":13456.471436103186},{"$f":"IFERROR(VLOOKUP(A9,STAGIONALITA!$A$3:$M$105,13,FALSE)*P9,\"\")","v":12404.239550940032},null,"Ariston ",220000]
["Haier ",{"$f":"IFERROR(VLOOKUP(A10,STAGIONALITA!$A$3:$M$105,2,FALSE)*P10,\"\")","v":0},{"$f":"IFERROR(VLOOKUP(A10,STAGIONALITA!$A$3:$M$105,3,FALSE)*P10,\"\")","v":17711.658405733015},{"$f":"IFERROR(VLOOKUP(A10,STAGIONALITA!$A$3:$M$105,4,FALSE)*P10,\"\")","v":27614.101957989955},{"$f":"IFERROR(VLOOKUP(A10,STAGIONALITA!$A$3:$M$105,5,FALSE)*P10,\"\")","v":31106.786878278246},{"$f":"IFERROR(VLOOKUP(A10,STAGIONALITA!$A$3:$M$105,6,FALSE)*P10,\"\")","v":48809.867330378518},{"$f":"IFERROR(VLOOKUP(A10,STAGIONALITA!$A$3:$M$105,7,FALSE)*P10,\"\")","v":6418.2138241898374},{"$f":"IFERROR(VLOOKUP(A10,STAGIONALITA!$A$3:$M$105,8,FALSE)*P10,\"\")","v":37450.78631412136},{"$f":"IFERROR(VLOOKUP(A10,STAGIONALITA!$A$3:$M$105,9,FALSE)*P10,\"\")","v":15520.520661154775},{"$f":"IFERROR(VLOOKUP(A10,STAGIONALITA!$A$3:$M$105,10,FALSE)*P10,\"\")","v":4052.942427353215},{"$f":"IFERROR(VLOOKUP(A10,STAGIONALITA!$A$3:$M$105,11,FALSE)*P10,\"\")","v":-1190.1770001312252},{"$f":"IFERROR(VLOOKUP(A10,STAGIONALITA!$A$3:$M$105,12,FALSE)*P10,\"\")","v":9514.4697511789909},{"$f":"IFERROR(VLOOKUP(A10,STAGIONALITA!$A$3:$M$105,13,FALSE)*P10,\"\")","v":2990.8294497533466},null,"Haier ",200000]
["Isoclima",{"$f":"IFERROR(VLOOKUP(A11,STAGIONALITA!$A$3:$M$105,2,FALSE)*P11,\"\")","v":0},{"$f":"IFERROR(VLOOKUP(A11,STAGIONALITA!$A$3:$M$105,3,FALSE)*P11,\"\")","v":0},{"$f":"IFERROR(VLOOKUP(A11,STAGIONALITA!$A$3:$M$105,4,FALSE)*P11,\"\")","v":14716.56849913617},{"$f":"IFERROR(VLOOKUP(A11,STAGIONALITA!$A$3:$M$105,5,FALSE)*P11,\"\")","v":8382.0243641200159},{"$f":"IFERROR(VLOOKUP(A11,STAGIONALITA!$A$3:$M$105,6,FALSE)*P11,\"\")","v":16589.867643929407},{"$f":"IFERROR(VLOOKUP(A11,STAGIONALITA!$A$3:$M$105,7,FALSE)*P11,\"\")","v":14098.252993802729},{"$f":"IFERROR(VLOOKUP(A11,STAGIONALITA!$A$3:$M$105,8,FALSE)*P11,\"\")","v":21517.564559513587},{"$f":"IFERROR(VLOOKUP(A11,STAGIONALITA!$A$3:$M$105,9,FALSE)*P11,\"\")","v":8065.6305125241024},{"$f":"IFERROR(VLOOKUP(A11,STAGIONALITA!$A$3:$M$105,10,FALSE)*P11,\"\")","v":35658.494251252152},{"$f":"IFERROR(VLOOKUP(A11,STAGIONALITA!$A$3:$M$105,11,FALSE)*P11,\"\")","v":12521.865122493742},{"$f":"IFERROR(VLOOKUP(A11,STAGIONALITA!$A$3:$M$105,12,FALSE)*P11,\"\")","v":24771.235527601075},{"$f":"IFERROR(VLOOKUP(A11,STAGIONALITA!$A$3:$M$105,13,FALSE)*P11,\"\")","v":43678.496525627015},null,"Isoclima",200000]
["Bosch",{"$f":"IFERROR(VLOOKUP(A12,STAGIONALITA!$A$3:$M$105,2,FALSE)*P12,\"\")","v":12369.46050470609},{"$f":"IFERROR(VLOOKUP(A12,STAGIONALITA!$A$3:$M$105,3,FALSE)*P12,\"\")","v":8469.2431505419208},{"$f":"IFERROR(VLOOKUP(A12,STAGIONALITA!$A$3:$M$105,4,FALSE)*P12,\"\")","v":16128.429283079471},{"$f":"IFERROR(VLOOKUP(A12,STAGIONALITA!$A$3:$M$105,5,FALSE)*P12,\"\")","v":18450.46233239472},{"$f":"IFERROR(VLOOKUP(A12,STAGIONALITA!$A$3:$M$105,6,FALSE)*P12,\"\")","v":12202.712703378087},{"$f":"IFERROR(VLOOKUP(A12,STAGIONALITA!$A$3:$M$105,7,FALSE)*P12,\"\")","v":9538.2982501283022},{"$f":"IFERROR(VLOOKUP(A12,STAGIONALITA!$A$3:$M$105,8,FALSE)*P12,\"\")","v":12736.366793704556},{"$f":"IFERROR(VLOOKUP(A12,STAGIONALITA!$A$3:$M$105,9,FALSE)*P12,\"\")","v":2256.2250826414561},{"$f":"IFERROR(VLOOKUP(A12,STAGIONALITA!$A$3:$M$105,10,FALSE)*P12,\"\")","v":16925.55422927377},{"$f":"IFERROR(VLOOKUP(A12,STAGIONALITA!$A$3:$M$105,11,FALSE)*P12,\"\")","v":38379.853549057079},{"$f":"IFERROR(VLOOKUP(A12,STAGIONALITA!$A$3:$M$105,12,FALSE)*P12,\"\")","v":13693.707323704777},{"$f":"IFERROR(VLOOKUP(A12,STAGIONALITA!$A$3:$M$105,13,FALSE)*P12,\"\")","v":8849.6867973897515},null,"Bosch",170000]
["Xylem",{"$f":"IFERROR(VLOOKUP(A13,STAGIONALITA!$A$3:$M$105,2,FALSE)*P13,\"\")","v":0},{"$f":"IFERROR(VLOOKUP(A13,STAGIONALITA!$A$3:$M$105,3,FALSE)*P13,\"\")","v":0},{"$f":"IFERROR(VLOOKUP(A13,STAGIONALITA!$A$3:$M$105,4,FALSE)*P13,\"\")","v":0},{"$f":"IFERROR(VLOOKUP(A13,STAGIONALITA!$A$3:$M$105,5,FALSE)*P13,\"\")","v":0},{"$f":"IFERROR(VLOOKUP(A13,STAGIONALITA!$A$3:$M$105,6,FALSE)*P13,\"\")","v":0},{"$f":"IFERROR(VLOOKUP(A13,STAGIONALITA!$A$3:$M$105,7,FALSE)*P13,\"\")","v":63786.995285661229},{"$f":"IFERROR(VLOOKUP(A13,STAGIONALITA!$A$3:$M$105,8,FALSE)*P13,\"\")","v":12327.796266993248},{"$f":"IFERROR(VLOOKUP(A13,STAGIONALITA!$A$3:$M$105,9,FALSE)*P13,\"\")","v":8609.7959547826631},{"$f":"IFERROR(VLOOKUP(A13,STAGIONALITA!$A$3:$M$105,10,FALSE)*P13,\"\")","v":18947.547659288059},{"$f":"IFERROR(VLOOKUP(A13,STAGIONALITA!$A$3:$M$105,11,FALSE)*P13,\"\")","v":7874.3572737659642},{"$f":"IFERROR(VLOOKUP(A13,STAGIONALITA!$A$3:$M$105,12,FALSE)*P13,\"\")","v":17770.838363689109},{"$f":"IFERROR(VLOOKUP(A13,STAGIONALITA!$A$3:$M$105,13,FALSE)*P13,\"\")","v":10682.669195819757},null,"Xylem",140000]
["Tiemme Raccorderie",{"$f":"IFERROR(VLOOKUP(A14,STAGIONALITA!$A$3:$M$105,2,FALSE)*P14,\"\")","v":6661.1112700040858},{"$f":"IFERROR(VLOOKUP(A14,STAGIONALITA!$A$3:$M$105,3,FALSE)*P14,\"\")","v":11247.998932493649},{"$f":"IFERROR(VLOOKUP(A14,STAGIONALITA!$A$3:$M$105,4,FALSE)*P14,\"\")","v":7677.2245521975246},{"$f":"IFERROR(VLOOKUP(A14,STAGIONALITA!$A$3:$M$105,5,FALSE)*P14,\"\")","v":7219.1691049847086},{"$f":"IFERROR(VLOOKUP(A14,STAGIONALITA!$A$3:$M$105,6,FALSE)*P14,\"\")","v":10641.594166346889},{"$f":"IFERROR(VLOOKUP(A14,STAGIONALITA!$A$3:$M$105,7,FALSE)*P14,\"\")","v":3700.6894637824862},{"$f":"IFERROR(VLOOKUP(A14,STAGIONALITA!$A$3:$M$105,8,FALSE)*P14,\"\")","v":8709.2340229291021},{"$f":"IFERROR(VLOOKUP(A14,STAGIONALITA!$A$3:$M$105,9,FALSE)*P14,\"\")","v":2543.0896079168392},{"$f":"IFERROR(VLOOKUP(A14,STAGIONALITA!$A$3:$M$105,10,FALSE)*P14,\"\")","v":10828.393464729581},{"$f":"IFERROR(VLOOKUP(A14,STAGIONALITA!$A$3:$M$105,11,FALSE)*P14,\"\")","v":12049.172559734088},{"$f":"IFERROR(VLOOKUP(A14,STAGIONALITA!$A$3:$M$105,12,FALSE)*P14,\"\")","v":11044.225252712789},{"$f":"IFERROR(VLOOKUP(A14,STAGIONALITA!$A$3:$M$105,13,FALSE)*P14,\"\")","v":7678.0976021682591},null,"Tiemme Raccorderie",100000]
["System Group (Sa.Mi. Plastic)",{"$f":"IFERROR(VLOOKUP(A15,STAGIONALITA!$A$3:$M$105,2,FALSE)*P15,\"\")","v":8160.5555488650207},{"$f":"IFERROR(VLOOKUP(A15,STAGIONALITA!$A$3:$M$105,3,FALSE)*P15,\"\")","v":10405.937664805146},{"$f":"IFERROR(VLOOKUP(A15,STAGIONALITA!$A$3:$M$105,4,FALSE)*P15,\"\")","v":5469.4851288191303},{"$f":"IFERROR(VLOOKUP(A15,STAGIONALITA!$A$3:$M$105,5,FALSE)*P15,\"\")","v":8592.5105645882686},{"$f":"IFERROR(VLOOKUP(A15,STAGIONALITA!$A$3:$M$105,6,FALSE)*P15,\"\")","v":5858.967508107512},{"$f":"IFERROR(VLOOKUP(A15,STAGIONALITA!$A$3:$M$105,7,FALSE)*P15,\"\")","v":4657.1716555941211},{"$f":"IFERROR(VLOOKUP(A15,STAGIONALITA!$A$3:$M$105,8,FALSE)*P15,\"\")","v":4916.5430985952189},{"$f":"IFERROR(VLOOKUP(A15,STAGIONALITA!$A$3:$M$105,9,FALSE)*P15,\"\")","v":1470.6580129392189},{"$f":"IFERROR(VLOOKUP(A15,STAGIONALITA!$A$3:$M$105,10,FALSE)*P15,\"\")","v":11298.251086314844},{"$f":"IFERROR(VLOOKUP(A15,STAGIONALITA!$A$3:$M$105,11,FALSE)*P15,\"\")","v":6431.4031463068995},{"$f":"IFERROR(VLOOKUP(A15,STAGIONALITA!$A$3:$M$105,12,FALSE)*P15,\"\")","v":7850.8919227314846},{"$f":"IFERROR(VLOOKUP(A15,STAGIONALITA!$A$3:$M$105,13,FALSE)*P15,\"\")","v":4887.6246623331308},null,"System Group (Sa.Mi. Plastic)",80000]
["Ibp Banninger ",{"$f":"IFERROR(VLOOKUP(A16,STAGIONALITA!$A$3:$M$105,2,FALSE)*P16,\"\")","v":7131.318824215974},{"$f":"IFERROR(VLOOKUP(A16,STAGIONALITA!$A$3:$M$105,3,FALSE)*P16,\"\")","v":5220.989165736325},{"$f":"IFERROR(VLOOKUP(A16,STAGIONALITA!$A$3:$M$105,4,FALSE)*P16,\"\")","v":7358.2179919821374},{"$f":"IFERROR(VLOOKUP(A16,STAGIONALITA!$A$3:$M$105,5,FALSE)*P16,\"\")","v":9493.1746676139246},{"$f":"IFERROR(VLOOKUP(A16,STAGIONALITA!$A$3:$M$105,6,FALSE)*P16,\"\")","v":6331.9547345985993},{"$f":"IFERROR(VLOOKUP(A16,STAGIONALITA!$A$3:$M$105,7,FALSE)*P16,\"\")","v":6447.4652390134979},{"$f":"IFERROR(VLOOKUP(A16,STAGIONALITA!$A$3:$M$105,8,FALSE)*P16,\"\")","v":7766.3211712168877},{"$f":"IFERROR(VLOOKUP(A16,STAGIONALITA!$A$3:$M$105,9,FALSE)*P16,\"\")","v":2348.555008626814},{"$f":"IFERROR(VLOOKUP(A16,STAGIONALITA!$A$3:$M$105,10,FALSE)*P16,\"\")","v":7470.8845021820771},{"$f":"IFERROR(VLOOKUP(A16,STAGIONALITA!$A$3:$M$105,11,FALSE)*P16,\"\")","v":6020.5330863696336},{"$f":"IFERROR(VLOOKUP(A16,STAGIONALITA!$A$3:$M$105,12,FALSE)*P16,\"\")","v":5696.3615142596163},{"$f":"IFERROR(VLOOKUP(A16,STAGIONALITA!$A$3:$M$105,13,FALSE)*P16,\"\")","v":3714.2240941845121},null,"Ibp Banninger ",75000]
["Ebara",{"$f":"IFERROR(VLOOKUP(A17,STAGIONALITA!$A$3:$M$105,2,FALSE)*P17,\"\")","v":0},{"$f":"IFERROR(VLOOKUP(A17,STAGIONALITA!$A$3:$M$105,3,FALSE)*P17,\"\")","v":13093.853529737547},{"$f":"IFERROR(VLOOKUP(A17,STAGIONALITA!$A$3:$M$105,4,FALSE)*P17,\"\")","v":8165.5195190526974},{"$f":"IFERROR(VLOOKUP(A17,STAGIONALITA!$A$3:$M$105,5,FALSE)*P17,\"\")","v":6152.1257412983741},{"$f":"IFERROR(VLOOKUP(A17,STAGIONALITA!$A$3:$M$105,6,FALSE)*P17,\"\")","v":3956.882154316258},{"$f":"IFERROR(VLOOKUP(A17,STAGIONALITA!$A$3:$M$105,7,FALSE)*P17,\"\")","v":9119.6482896467915},{"$f":"IFERROR(VLOOKUP(A17,STAGIONALITA!$A$3:$M$105,8,FALSE)*P17,\"\")","v":9927.4575168666252},{"$f":"IFERROR(VLOOKUP(A17,STAGIONALITA!$A$3:$M$105,9,FALSE)*P17,\"\")","v":2072.952048962045},{"$f":"IFERROR(VLOOKUP(A17,STAGIONALITA!$A$3:$M$105,10,FALSE)*P17,\"\")","v":4488.115707509196},{"$f":"IFERROR(VLOOKUP(A17,STAGIONALITA!$A$3:$M$105,11,FALSE)*P17,\"\")","v":5783.3913025770798},{"$f":"IFERROR(VLOOKUP(A17,STAGIONALITA!$A$3:$M$105,12,FALSE)*P17,\"\")","v":6177.0068653902272},{"$f":"IFERROR(VLOOKUP(A17,STAGIONALITA!$A$3:$M$105,13,FALSE)*P17,\"\")","v":3063.0473246431561},null,"Ebara",72000]
["L'isolante K-Flex ",{"$f":"IFERROR(VLOOKUP(A18,STAGIONALITA!$A$3:$M$105,2,FALSE)*P18,\"\")","v":2138.9944786891074},{"$f":"IFERROR(VLOOKUP(A18,STAGIONALITA!$A$3:$M$105,3,FALSE)*P18,\"\")","v":4458.5714199276981},{"$f":"IFERROR(VLOOKUP(A18,STAGIONALITA!$A$3:$M$105,4,FALSE)*P18,\"\")","v":7066.0990113556354},{"$f":"IFERROR(VLOOKUP(A18,STAGIONALITA!$A$3:$M$105,5,FALSE)*P18,\"\")","v":5611.9245112064582},{"$f":"IFERROR(VLOOKUP(A18,STAGIONALITA!$A$3:$M$105,6,FALSE)*P18,\"\")","v":4488.1188571911671},{"$f":"IFERROR(VLOOKUP(A18,STAGIONALITA!$A$3:$M$105,7,FALSE)*P18,\"\")","v":8026.9363000987451},{"$f":"IFERROR(VLOOKUP(A18,STAGIONALITA!$A$3:$M$105,8,FALSE)*P18,\"\")","v":6628.8869320510366},{"$f":"IFERROR(VLOOKUP(A18,STAGIONALITA!$A$3:$M$105,9,FALSE)*P18,\"\")","v":2288.4358921937869},{"$f":"IFERROR(VLOOKUP(A18,STAGIONALITA!$A$3:$M$105,10,FALSE)*P18,\"\")","v":6513.8975304215764},{"$f":"IFERROR(VLOOKUP(A18,STAGIONALITA!$A$3:$M$105,11,FALSE)*P18,\"\")","v":11336.755479702286},{"$f":"IFERROR(VLOOKUP(A18,STAGIONALITA!$A$3:$M$105,12,FALSE)*P18,\"\")","v":4243.214473471945},{"$f":"IFERROR(VLOOKUP(A18,STAGIONALITA!$A$3:$M$105,13,FALSE)*P18,\"\")","v":3198.1651136905652},null,"L'isolante K-Flex ",66000]
["Geberit",{"$f":"IFERROR(VLOOKUP(A19,STAGIONALITA!$A$3:$M$105,2,FALSE)*P19,\"\")","v":3826.5325275574328},{"$f":"IFERROR(VLOOKUP(A19,STAGIONALITA!$A$3:$M$105,3,FALSE)*P19,\"\")","v":5749.110080439762},{"$f":"IFERROR(VLOOKUP(A19,STAGIONALITA!$A$3:$M$105,4,FALSE)*P19,\"\")","v":5947.2108792771469},{"$f":"IFERROR(VLOOKUP(A19,STAGIONALITA!$A$3:$M$105,5,FALSE)*P19,\"\")","v":4274.8824781707772},{"$f":"IFERROR(VLOOKUP(A19,STAGIONALITA!$A$3:$M$105,6,FALSE)*P19,\"\")","v":4241.8553819258768},{"$f":"IFERROR(VLOOKUP(A19,STAGIONALITA!$A$3:$M$105,7,FALSE)*P19,\"\")","v":5323.4152611753079},{"$f":"IFERROR(VLOOKUP(A19,STAGIONALITA!$A$3:$M$105,8,FALSE)*P19,\"\")","v":4776.3656460636485},{"$f":"IFERROR(VLOOKUP(A19,STAGIONALITA!$A$3:$M$105,9,FALSE)*P19,\"\")","v":2333.390567115744},{"$f":"IFERROR(VLOOKUP(A19,STAGIONALITA!$A$3:$M$105,10,FALSE)*P19,\"\")","v":3899.7049532812707},{"$f":"IFERROR(VLOOKUP(A19,STAGIONALITA!$A$3:$M$105,11,FALSE)*P19,\"\")","v":5702.1396667477948},{"$f":"IFERROR(VLOOKUP(A19,STAGIONALITA!$A$3:$M$105,12,FALSE)*P19,\"\")","v":6110.0713324306171},{"$f":"IFERROR(VLOOKUP(A19,STAGIONALITA!$A$3:$M$105,13,FALSE)*P19,\"\")","v":2815.3212258146282},null,"Geberit",55000]
["Giacomini",{"$f":"IFERROR(VLOOKUP(A20,STAGIONALITA!$A$3:$M$105,2,FALSE)*P20,\"\")","v":4061.0347826067341},{"$f":"IFERROR(VLOOKUP(A20,STAGIONALITA!$A$3:$M$105,3,FALSE)*P20,\"\")","v":3102.2606144905535},{"$f":"IFERROR(VLOOKUP(A20,STAGIONALITA!$A$3:$M$105,4,FALSE)*P20,\"\")","v":6314.6542094918386},{"$f":"IFERROR(VLOOKUP(A20,STAGIONALITA!$A$3:$M$105,5,FALSE)*P20,\"\")","v":3034.2338400105214},{"$f":"IFERROR(VLOOKUP(A20,STAGIONALITA!$A$3:$M$105,6,FALSE)*P20,\"\")","v":3179.0936242937796},{"$f":"IFERROR(VLOOKUP(A20,STAGIONALITA!$A$3:$M$105,7,FALSE)*P20,\"\")","v":4373.2642451744205},{"$f":"IFERROR(VLOOKUP(A20,STAGIONALITA!$A$3:$M$105,8,FALSE)*P20,\"\")","v":4288.2619542128887},{"$f":"IFERROR(VLOOKUP(A20,STAGIONALITA!$A$3:$M$105,9,FALSE)*P20,\"\")","v":1239.3661504067422},{"$f":"IFERROR(VLOOKUP(A20,STAGIONALITA!$A$3:$M$105,10,FALSE)*P20,\"\")","v":2606.5542143382258},{"$f":"IFERROR(VLOOKUP(A20,STAGIONALITA!$A$3:$M$105,11,FALSE)*P20,\"\")","v":4678.1501853193095},{"$f":"IFERROR(VLOOKUP(A20,STAGIONALITA!$A$3:$M$105,12,FALSE)*P20,\"\")","v":4042.252733831479},{"$f":"IFERROR(VLOOKUP(A20,STAGIONALITA!$A$3:$M$105,13,FALSE)*P20,\"\")","v":3080.8734458235035},null,"Giacomini",44000]
["Rubinetterie Bresciane ",{"$f":"IFERROR(VLOOKUP(A21,STAGIONALITA!$A$3:$M$105,2,FALSE)*P21,\"\")","v":2155.4656036949891},{"$f":"IFERROR(VLOOKUP(A21,STAGIONALITA!$A$3:$M$105,3,FALSE)*P21,\"\")","v":2837.2623478666997},{"$f":"IFERROR(VLOOKUP(A21,STAGIONALITA!$A$3:$M$105,4,FALSE)*P21,\"\")","v":5490.4426874728206},{"$f":"IFERROR(VLOOKUP(A21,STAGIONALITA!$A$3:$M$105,5,FALSE)*P21,\"\")","v":3268.3189536356444},{"$f":"IFERROR(VLOOKUP(A21,STAGIONALITA!$A$3:$M$105,6,FALSE)*P21,\"\")","v":2841.7043050401212},{"$f":"IFERROR(VLOOKUP(A21,STAGIONALITA!$A$3:$M$105,7,FALSE)*P21,\"\")","v":4346.6635643294876},{"$f":"IFERROR(VLOOKUP(A21,STAGIONALITA!$A$3:$M$105,8,FALSE)*P21,\"\")","v":3446.0024719435514},{"$f":"IFERROR(VLOOKUP(A21,STAGIONALITA!$A$3:$M$105,9,FALSE)*P21,\"\")","v":838.93039065223138},{"$f":"IFERROR(VLOOKUP(A21,STAGIONALITA!$A$3:$M$105,10,FALSE)*P21,\"\")","v":3215.6264916952796},{"$f":"IFERROR(VLOOKUP(A21,STAGIONALITA!$A$3:$M$105,11,FALSE)*P21,\"\")","v":3634.2381888317277},{"$f":"IFERROR(VLOOKUP(A21,STAGIONALITA!$A$3:$M$105,12,FALSE)*P21,\"\")","v":4280.3967407431455},{"$f":"IFERROR(VLOOKUP(A21,STAGIONALITA!$A$3:$M$105,13,FALSE)*P21,\"\")","v":2644.9482540942977},null,"Rubinetterie Bresciane ",39000]
["Itap",{"$f":"IFERROR(VLOOKUP(A22,STAGIONALITA!$A$3:$M$105,2,FALSE)*P22,\"\")","v":2511.9640896280098},{"$f":"IFERROR(VLOOKUP(A22,STAGIONALITA!$A$3:$M$105,3,FALSE)*P22,\"\")","v":2752.1307258971492},{"$f":"IFERROR(VLOOKUP(A22,STAGIONALITA!$A$3:$M$105,4,FALSE)*P22,\"\")","v":6054.3330146778289},{"$f":"IFERROR(VLOOKUP(A22,STAGIONALITA!$A$3:$M$105,5,FALSE)*P22,\"\")","v":1936.6429980781047},{"$f":"IFERROR(VLOOKUP(A22,STAGIONALITA!$A$3:$M$105,6,FALSE)*P22,\"\")","v":5530.3873771281906},{"$f":"IFERROR(VLOOKUP(A22,STAGIONALITA!$A$3:$M$105,7,FALSE)*P22,\"\")","v":2917.1259154360232},{"$f":"IFERROR(VLOOKUP(A22,STAGIONALITA!$A$3:$M$105,8,FALSE)*P22,\"\")","v":1706.9277378497438},{"$f":"IFERROR(VLOOKUP(A22,STAGIONALITA!$A$3:$M$105,9,FALSE)*P22,\"\")","v":0},{"$f":"IFERROR(VLOOKUP(A22,STAGIONALITA!$A$3:$M$105,10,FALSE)*P22,\"\")","v":3600.7216030214877},{"$f":"IFERROR(VLOOKUP(A22,STAGIONALITA!$A$3:$M$105,11,FALSE)*P22,\"\")","v":5208.6127452894289},{"$f":"IFERROR(VLOOKUP(A22,STAGIONALITA!$A$3:$M$105,12,FALSE)*P22,\"\")","v":3560.4035841635},{"$f":"IFERROR(VLOOKUP(A22,STAGIONALITA!$A$3:$M$105,13,FALSE)*P22,\"\")","v":3220.7502088305291},null,"Itap",39000]
["Paini",{"$f":"IFERROR(VLOOKUP(A23,STAGIONALITA!$A$3:$M$105,2,FALSE)*P23,\"\")","v":521.42897205000054},{"$f":"IFERROR(VLOOKUP(A23,STAGIONALITA!$A$3:$M$105,3,FALSE)*P23,\"\")","v":16320.427344722406},{"$f":"IFERROR(VLOOKUP(A23,STAGIONALITA!$A$3:$M$105,4,FALSE)*P23,\"\")","v":3945.8323956165787},{"$f":"IFERROR(VLOOKUP(A23,STAGIONALITA!$A$3:$M$105,5,FALSE)*P23,\"\")","v":968.9082905134951},{"$f":"IFERROR(VLOOKUP(A23,STAGIONALITA!$A$3:$M$105,6,FALSE)*P23,\"\")","v":1404.7513500355496},{"$f":"IFERROR(VLOOKUP(A23,STAGIONALITA!$A$3:$M$105,7,FALSE)*P23,\"\")","v":1226.0753659760574},{"$f":"IFERROR(VLOOKUP(A23,STAGIONALITA!$A$3:$M$105,8,FALSE)*P23,\"\")","v":1627.8460255286698},{"$f":"IFERROR(VLOOKUP(A23,STAGIONALITA!$A$3:$M$105,9,FALSE)*P23,\"\")","v":0},{"$f":"IFERROR(VLOOKUP(A23,STAGIONALITA!$A$3:$M$105,10,FALSE)*P23,\"\")","v":1586.26282864409},{"$f":"IFERROR(VLOOKUP(A23,STAGIONALITA!$A$3:$M$105,11,FALSE)*P23,\"\")","v":1772.4009316007148},{"$f":"IFERROR(VLOOKUP(A23,STAGIONALITA!$A$3:$M$105,12,FALSE)*P23,\"\")","v":2381.829803344493},{"$f":"IFERROR(VLOOKUP(A23,STAGIONALITA!$A$3:$M$105,13,FALSE)*P23,\"\")","v":1244.2366919679519},null,"Paini",33000]
["Global ",{"$f":"IFERROR(VLOOKUP(A24,STAGIONALITA!$A$3:$M$105,2,FALSE)*P24,\"\")","v":4217.3413357049185},{"$f":"IFERROR(VLOOKUP(A24,STAGIONALITA!$A$3:$M$105,3,FALSE)*P24,\"\")","v":2836.4215760620395},{"$f":"IFERROR(VLOOKUP(A24,STAGIONALITA!$A$3:$M$105,4,FALSE)*P24,\"\")","v":3760.6335334657406},{"$f":"IFERROR(VLOOKUP(A24,STAGIONALITA!$A$3:$M$105,5,FALSE)*P24,\"\")","v":2953.8851988320148},{"$f":"IFERROR(VLOOKUP(A24,STAGIONALITA!$A$3:$M$105,6,FALSE)*P24,\"\")","v":1442.552627288434},{"$f":"IFERROR(VLOOKUP(A24,STAGIONALITA!$A$3:$M$105,7,FALSE)*P24,\"\")","v":3228.0903109060591},{"$f":"IFERROR(VLOOKUP(A24,STAGIONALITA!$A$3:$M$105,8,FALSE)*P24,\"\")","v":571.13877674723915},{"$f":"IFERROR(VLOOKUP(A24,STAGIONALITA!$A$3:$M$105,9,FALSE)*P24,\"\")","v":400.18892595322092},{"$f":"IFERROR(VLOOKUP(A24,STAGIONALITA!$A$3:$M$105,10,FALSE)*P24,\"\")","v":2529.9359853692604},{"$f":"IFERROR(VLOOKUP(A24,STAGIONALITA!$A$3:$M$105,11,FALSE)*P24,\"\")","v":1917.009487176013},{"$f":"IFERROR(VLOOKUP(A24,STAGIONALITA!$A$3:$M$105,12,FALSE)*P24,\"\")","v":7127.6278033066992},{"$f":"IFERROR(VLOOKUP(A24,STAGIONALITA!$A$3:$M$105,13,FALSE)*P24,\"\")","v":2015.1744391883619},null,"Global ",33000]
["Ferrari ",{"$f":"IFERROR(VLOOKUP(A25,STAGIONALITA!$A$3:$M$105,2,FALSE)*P25,\"\")","v":3162.468949339167},{"$f":"IFERROR(VLOOKUP(A25,STAGIONALITA!$A$3:$M$105,3,FALSE)*P25,\"\")","v":2395.7344253010128},{"$f":"IFERROR(VLOOKUP(A25,STAGIONALITA!$A$3:$M$105,4,FALSE)*P25,\"\")","v":2910.2978498088733},{"$f":"IFERROR(VLOOKUP(A25,STAGIONALITA!$A$3:$M$105,5,FALSE)*P25,\"\")","v":2459.8481618073888},{"$f":"IFERROR(VLOOKUP(A25,STAGIONALITA!$A$3:$M$105,6,FALSE)*P25,\"\")","v":1627.2629521971185},{"$f":"IFERROR(VLOOKUP(A25,STAGIONALITA!$A$3:$M$105,7,FALSE)*P25,\"\")","v":2709.9634455573168},{"$f":"IFERROR(VLOOKUP(A25,STAGIONALITA!$A$3:$M$105,8,FALSE)*P25,\"\")","v":3844.7320480144613},{"$f":"IFERROR(VLOOKUP(A25,STAGIONALITA!$A$3:$M$105,9,FALSE)*P25,\"\")","v":700.19497872811371},{"$f":"IFERROR(VLOOKUP(A25,STAGIONALITA!$A$3:$M$105,10,FALSE)*P25,\"\")","v":2720.5250645860256},{"$f":"IFERROR(VLOOKUP(A25,STAGIONALITA!$A$3:$M$105,11,FALSE)*P25,\"\")","v":3625.527999574671},{"$f":"IFERROR(VLOOKUP(A25,STAGIONALITA!$A$3:$M$105,12,FALSE)*P25,\"\")","v":2245.9249228819531},{"$f":"IFERROR(VLOOKUP(A25,STAGIONALITA!$A$3:$M$105,13,FALSE)*P25,\"\")","v":2597.5192022038996},null,"Ferrari ",31000]
["Cordivari ",{"$f":"IFERROR(VLOOKUP(A26,STAGIONALITA!$A$3:$M$105,2,FALSE)*P26,\"\")","v":1472.666953644665},{"$f":"IFERROR(VLOOKUP(A26,STAGIONALITA!$A$3:$M$105,3,FALSE)*P26,\"\")","v":2052.4696232815991},{"$f":"IFERROR(VLOOKUP(A26,STAGIONALITA!$A$3:$M$105,4,FALSE)*P26,\"\")","v":2655.9082969874516},{"$f":"IFERROR(VLOOKUP(A26,STAGIONALITA!$A$3:$M$105,5,FALSE)*P26,\"\")","v":2726.8987707834094},{"$f":"IFERROR(VLOOKUP(A26,STAGIONALITA!$A$3:$M$105,6,FALSE)*P26,\"\")","v":2578.3208960559823},{"$f":"IFERROR(VLOOKUP(A26,STAGIONALITA!$A$3:$M$105,7,FALSE)*P26,\"\")","v":2689.2743676334903},{"$f":"IFERROR(VLOOKUP(A26,STAGIONALITA!$A$3:$M$105,8,FALSE)*P26,\"\")","v":3094.9932717732522},{"$f":"IFERROR(VLOOKUP(A26,STAGIONALITA!$A$3:$M$105,9,FALSE)*P26,\"\")","v":1418.431953066935},{"$f":"IFERROR(VLOOKUP(A26,STAGIONALITA!$A$3:$M$105,10,FALSE)*P26,\"\")","v":2470.2215042795128},{"$f":"IFERROR(VLOOKUP(A26,STAGIONALITA!$A$3:$M$105,11,FALSE)*P26,\"\")","v":3113.3378346114355},{"$f":"IFERROR(VLOOKUP(A26,STAGIONALITA!$A$3:$M$105,12,FALSE)*P26,\"\")","v":4143.9153782594904},{"$f":"IFERROR(VLOOKUP(A26,STAGIONALITA!$A$3:$M$105,13,FALSE)*P26,\"\")","v":2583.5611496227752},null,"Cordivari ",31000]
["Caleffi",{"$f":"IFERROR(VLOOKUP(A27,STAGIONALITA!$A$3:$M$105,2,FALSE)*P27,\"\")","v":1963.3023297553216},{"$f":"IFERROR(VLOOKUP(A27,STAGIONALITA!$A$3:$M$105,3,FALSE)*P27,\"\")","v":2554.6288216420039},{"$f":"IFERROR(VLOOKUP(A27,STAGIONALITA!$A$3:$M$105,4,FALSE)*P27,\"\")","v":2221.8862844315972},{"$f":"IFERROR(VLOOKUP(A27,STAGIONALITA!$A$3:$M$105,5,FALSE)*P27,\"\")","v":2226.281059355711},{"$f":"IFERROR(VLOOKUP(A27,STAGIONALITA!$A$3:$M$105,6,FALSE)*P27,\"\")","v":2053.6154606502946},{"$f":"IFERROR(VLOOKUP(A27,STAGIONALITA!$A$3:$M$105,7,FALSE)*P27,\"\")","v":2643.1433621376673},{"$f":"IFERROR(VLOOKUP(A27,STAGIONALITA!$A$3:$M$105,8,FALSE)*P27,\"\")","v":2703.1462595947646},{"$f":"IFERROR(VLOOKUP(A27,STAGIONALITA!$A$3:$M$105,9,FALSE)*P27,\"\")","v":1141.0067160348972},{"$f":"IFERROR(VLOOKUP(A27,STAGIONALITA!$A$3:$M$105,10,FALSE)*P27,\"\")","v":2226.5595638357186},{"$f":"IFERROR(VLOOKUP(A27,STAGIONALITA!$A$3:$M$105,11,FALSE)*P27,\"\")","v":3292.1305895491141},{"$f":"IFERROR(VLOOKUP(A27,STAGIONALITA!$A$3:$M$105,12,FALSE)*P27,\"\")","v":2894.8856416566878},{"$f":"IFERROR(VLOOKUP(A27,STAGIONALITA!$A$3:$M$105,13,FALSE)*P27,\"\")","v":3079.4139113562196},null,"Caleffi",29000]
["Enolgas",{"$f":"IFERROR(VLOOKUP(A28,STAGIONALITA!$A$3:$M$105,2,FALSE)*P28,\"\")","v":1734.7901789093846},{"$f":"IFERROR(VLOOKUP(A28,STAGIONALITA!$A$3:$M$105,3,FALSE)*P28,\"\")","v":1357.681172116665},{"$f":"IFERROR(VLOOKUP(A28,STAGIONALITA!$A$3:$M$105,4,FALSE)*P28,\"\")","v":4111.418310490174},{"$f":"IFERROR(VLOOKUP(A28,STAGIONALITA!$A$3:$M$105,5,FALSE)*P28,\"\")","v":2032.7956894536444},{"$f":"IFERROR(VLOOKUP(A28,STAGIONALITA!$A$3:$M$105,6,FALSE)*P28,\"\")","v":2212.4297196116627},{"$f":"IFERROR(VLOOKUP(A28,STAGIONALITA!$A$3:$M$105,7,FALSE)*P28,\"\")","v":1964.7894599771369},{"$f":"IFERROR(VLOOKUP(A28,STAGIONALITA!$A$3:$M$105,8,FALSE)*P28,\"\")","v":2283.5497351139356},{"$f":"IFERROR(VLOOKUP(A28,STAGIONALITA!$A$3:$M$105,9,FALSE)*P28,\"\")","v":1207.0443933521144},{"$f":"IFERROR(VLOOKUP(A28,STAGIONALITA!$A$3:$M$105,10,FALSE)*P28,\"\")","v":3922.9590299080569},{"$f":"IFERROR(VLOOKUP(A28,STAGIONALITA!$A$3:$M$105,11,FALSE)*P28,\"\")","v":2874.3349281567698},{"$f":"IFERROR(VLOOKUP(A28,STAGIONALITA!$A$3:$M$105,12,FALSE)*P28,\"\")","v":2528.089539916687},{"$f":"IFERROR(VLOOKUP(A28,STAGIONALITA!$A$3:$M$105,13,FALSE)*P28,\"\")","v":1770.1178429937686},null,"Enolgas",28000]
["Rems",{"$f":"IFERROR(VLOOKUP(A29,STAGIONALITA!$A$3:$M$105,2,FALSE)*P29,\"\")","v":1717.1922685656154},{"$f":"IFERROR(VLOOKUP(A29,STAGIONALITA!$A$3:$M$105,3,FALSE)*P29,\"\")","v":2507.469079616641},{"$f":"IFERROR(VLOOKUP(A29,STAGIONALITA!$A$3:$M$105,4,FALSE)*P29,\"\")","v":2468.704824115222},{"$f":"IFERROR(VLOOKUP(A29,STAGIONALITA!$A$3:$M$105,5,FALSE)*P29,\"\")","v":2436.7939176527279},{"$f":"IFERROR(VLOOKUP(A29,STAGIONALITA!$A$3:$M$105,6,FALSE)*P29,\"\")","v":2888.2582855919045},{"$f":"IFERROR(VLOOKUP(A29,STAGIONALITA!$A$3:$M$105,7,FALSE)*P29,\"\")","v":1800.5032928200462},{"$f":"IFERROR(VLOOKUP(A29,STAGIONALITA!$A$3:$M$105,8,FALSE)*P29,\"\")","v":2260.5343470578787},{"$f":"IFERROR(VLOOKUP(A29,STAGIONALITA!$A$3:$M$105,9,FALSE)*P29,\"\")","v":341.38244900144559},{"$f":"IFERROR(VLOOKUP(A29,STAGIONALITA!$A$3:$M$105,10,FALSE)*P29,\"\")","v":2112.5448412485944},{"$f":"IFERROR(VLOOKUP(A29,STAGIONALITA!$A$3:$M$105,11,FALSE)*P29,\"\")","v":3599.9357498527606},{"$f":"IFERROR(VLOOKUP(A29,STAGIONALITA!$A$3:$M$105,12,FALSE)*P29,\"\")","v":3862.7188520640361},{"$f":"IFERROR(VLOOKUP(A29,STAGIONALITA!$A$3:$M$105,13,FALSE)*P29,\"\")","v":2003.9620924131284},null,"Rems",28000]
["Thermomat Saniline ",{"$f":"IFERROR(VLOOKUP(A30,STAGIONALITA!$A$3:$M$105,2,FALSE)*P30,\"\")","v":1749.7800854747429},{"$f":"IFERROR(VLOOKUP(A30,STAGIONALITA!$A$3:$M$105,3,FALSE)*P30,\"\")","v":2167.4230688390849},{"$f":"IFERROR(VLOOKUP(A30,STAGIONALITA!$A$3:$M$105,4,FALSE)*P30,\"\")","v":3604.8466825991172},{"$f":"IFERROR(VLOOKUP(A30,STAGIONALITA!$A$3:$M$105,5,FALSE)*P30,\"\")","v":3620.9996964011866},{"$f":"IFERROR(VLOOKUP(A30,STAGIONALITA!$A$3:$M$105,6,FALSE)*P30,\"\")","v":1965.996932873524},{"$f":"IFERROR(VLOOKUP(A30,STAGIONALITA!$A$3:$M$105,7,FALSE)*P30,\"\")","v":1068.6289010501405},{"$f":"IFERROR(VLOOKUP(A30,STAGIONALITA!$A$3:$M$105,8,FALSE)*P30,\"\")","v":2613.6744019492603},{"$f":"IFERROR(VLOOKUP(A30,STAGIONALITA!$A$3:$M$105,9,FALSE)*P30,\"\")","v":333.76408036805515},{"$f":"IFERROR(VLOOKUP(A30,STAGIONALITA!$A$3:$M$105,10,FALSE)*P30,\"\")","v":3093.20483578418},{"$f":"IFERROR(VLOOKUP(A30,STAGIONALITA!$A$3:$M$105,11,FALSE)*P30,\"\")","v":1578.7138308721071},{"$f":"IFERROR(VLOOKUP(A30,STAGIONALITA!$A$3:$M$105,12,FALSE)*P30,\"\")","v":1391.4945624674021},{"$f":"IFERROR(VLOOKUP(A30,STAGIONALITA!$A$3:$M$105,13,FALSE)*P30,\"\")","v":1811.4729213211997},null,"Thermomat Saniline ",25000]
["Camon",{"$f":"IFERROR(VLOOKUP(A31,STAGIONALITA!$A$3:$M$105,2,FALSE)*P31,\"\")","v":0},{"$f":"IFERROR(VLOOKUP(A31,STAGIONALITA!$A$3:$M$105,3,FALSE)*P31,\"\")","v":0},{"$f":"IFERROR(VLOOKUP(A31,STAGIONALITA!$A$3:$M$105,4,FALSE)*P31,\"\")","v":0},{"$f":"IFERROR(VLOOKUP(A31,STAGIONALITA!$A$3:$M$105,5,FALSE)*P31,\"\")","v":0},{"$f":"IFERROR(VLOOKUP(A31,STAGIONALITA!$A$3:$M$105,6,FALSE)*P31,\"\")","v":0},{"$f":"IFERROR(VLOOKUP(A31,STAGIONALITA!$A$3:$M$105,7,FALSE)*P31,\"\")","v":10833.354899720955},{"$f":"IFERROR(VLOOKUP(A31,STAGIONALITA!$A$3:$M$105,8,FALSE)*P31,\"\")","v":0},{"$f":"IFERROR(VLOOKUP(A31,STAGIONALITA!$A$3:$M$105,9,FALSE)*P31,\"\")","v":0},{"$f":"IFERROR(VLOOKUP(A31,STAGIONALITA!$A$3:$M$105,10,FALSE)*P31,\"\")","v":0},{"$f":"IFERROR(VLOOKUP(A31,STAGIONALITA!$A$3:$M$105,11,FALSE)*P31,\"\")","v":7340.5581437573055},{"$f":"IFERROR(VLOOKUP(A31,STAGIONALITA!$A$3:$M$105,12,FALSE)*P31,\"\")","v":0},{"$f":"IFERROR(VLOOKUP(A31,STAGIONALITA!$A$3:$M$105,13,FALSE)*P31,\"\")","v":3826.0869565217395},null,"Camon",22000]
["Farg",{"$f":"IFERROR(VLOOKUP(A32,STAGIONALITA!$A$3:$M$105,2,FALSE)*P32,\"\")","v":225.4847346359609},{"$f":"IFERROR(VLOOKUP(A32,STAGIONALITA!$A$3:$M$105,3,FALSE)*P32,\"\")","v":2105.5914929833798},{"$f":"IFERROR(VLOOKUP(A32,STAGIONALITA!$A$3:$M$105,4,FALSE)*P32,\"\")","v":1638.6957646493022},{"$f":"IFERROR(VLOOKUP(A32,STAGIONALITA!$A$3:$M$105,5,FALSE)*P32,\"\")","v":2077.4992130532901},{"$f":"IFERROR(VLOOKUP(A32,STAGIONALITA!$A$3:$M$105,6,FALSE)*P32,\"\")","v":2977.1122946664996},{"$f":"IFERROR(VLOOKUP(A32,STAGIONALITA!$A$3:$M$105,7,FALSE)*P32,\"\")","v":2878.883397983313},{"$f":"IFERROR(VLOOKUP(A32,STAGIONALITA!$A$3:$M$105,8,FALSE)*P32,\"\")","v":1749.2140698359999},{"$f":"IFERROR(VLOOKUP(A32,STAGIONALITA!$A$3:$M$105,9,FALSE)*P32,\"\")","v":0},{"$f":"IFERROR(VLOOKUP(A32,STAGIONALITA!$A$3:$M$105,10,FALSE)*P32,\"\")","v":3359.1512613230943},{"$f":"IFERROR(VLOOKUP(A32,STAGIONALITA!$A$3:$M$105,11,FALSE)*P32,\"\")","v":2500.8113438105324},{"$f":"IFERROR(VLOOKUP(A32,STAGIONALITA!$A$3:$M$105,12,FALSE)*P32,\"\")","v":649.44773517087413},{"$f":"IFERROR(VLOOKUP(A32,STAGIONALITA!$A$3:$M$105,13,FALSE)*P32,\"\")","v":1838.1086918877536},null,"Farg",22000]
["Omp Tea ",{"$f":"IFERROR(VLOOKUP(A33,STAGIONALITA!$A$3:$M$105,2,FALSE)*P33,\"\")","v":1476.8300560289108},{"$f":"IFERROR(VLOOKUP(A33,STAGIONALITA!$A$3:$M$105,3,FALSE)*P33,\"\")","v":1477.8503009273234},{"$f":"IFERROR(VLOOKUP(A33,STAGIONALITA!$A$3:$M$105,4,FALSE)*P33,\"\")","v":2272.6246440802606},{"$f":"IFERROR(VLOOKUP(A33,STAGIONALITA!$A$3:$M$105,5,FALSE)*P33,\"\")","v":1188.6982708289099},{"$f":"IFERROR(VLOOKUP(A33,STAGIONALITA!$A$3:$M$105,6,FALSE)*P33,\"\")","v":1713.0238845910385},{"$f":"IFERROR(VLOOKUP(A33,STAGIONALITA!$A$3:$M$105,7,FALSE)*P33,\"\")","v":1772.9727851456992},{"$f":"IFERROR(VLOOKUP(A33,STAGIONALITA!$A$3:$M$105,8,FALSE)*P33,\"\")","v":1702.8368938629537},{"$f":"IFERROR(VLOOKUP(A33,STAGIONALITA!$A$3:$M$105,9,FALSE)*P33,\"\")","v":751.24211050909059},{"$f":"IFERROR(VLOOKUP(A33,STAGIONALITA!$A$3:$M$105,10,FALSE)*P33,\"\")","v":1638.1815488934731},{"$f":"IFERROR(VLOOKUP(A33,STAGIONALITA!$A$3:$M$105,11,FALSE)*P33,\"\")","v":2171.2196735771231},{"$f":"IFERROR(VLOOKUP(A33,STAGIONALITA!$A$3:$M$105,12,FALSE)*P33,\"\")","v":1198.4720504821717},{"$f":"IFERROR(VLOOKUP(A33,STAGIONALITA!$A$3:$M$105,13,FALSE)*P33,\"\")","v":636.04778107304344},null,"Omp Tea ",18000]
["Ercos ",{"$f":"IFERROR(VLOOKUP(A34,STAGIONALITA!$A$3:$M$105,2,FALSE)*P34,\"\")","v":1097.5241644171092},{"$f":"IFERROR(VLOOKUP(A34,STAGIONALITA!$A$3:$M$105,3,FALSE)*P34,\"\")","v":1408.5520088825144},{"$f":"IFERROR(VLOOKUP(A34,STAGIONALITA!$A$3:$M$105,4,FALSE)*P34,\"\")","v":2002.5837651954191},{"$f":"IFERROR(VLOOKUP(A34,STAGIONALITA!$A$3:$M$105,5,FALSE)*P34,\"\")","v":2308.6654441267769},{"$f":"IFERROR(VLOOKUP(A34,STAGIONALITA!$A$3:$M$105,6,FALSE)*P34,\"\")","v":1591.5365228153591},{"$f":"IFERROR(VLOOKUP(A34,STAGIONALITA!$A$3:$M$105,7,FALSE)*P34,\"\")","v":1223.8324018749349},{"$f":"IFERROR(VLOOKUP(A34,STAGIONALITA!$A$3:$M$105,8,FALSE)*P34,\"\")","v":1878.9229673802354},{"$f":"IFERROR(VLOOKUP(A34,STAGIONALITA!$A$3:$M$105,9,FALSE)*P34,\"\")","v":0},{"$f":"IFERROR(VLOOKUP(A34,STAGIONALITA!$A$3:$M$105,10,FALSE)*P34,\"\")","v":2209.059538385899},{"$f":"IFERROR(VLOOKUP(A34,STAGIONALITA!$A$3:$M$105,11,FALSE)*P34,\"\")","v":1336.874684343187},{"$f":"IFERROR(VLOOKUP(A34,STAGIONALITA!$A$3:$M$105,12,FALSE)*P34,\"\")","v":1373.9878772114491},{"$f":"IFERROR(VLOOKUP(A34,STAGIONALITA!$A$3:$M$105,13,FALSE)*P34,\"\")","v":568.46062536711679},null,"Ercos ",17000]
["Varem",{"$f":"IFERROR(VLOOKUP(A35,STAGIONALITA!$A$3:$M$105,2,FALSE)*P35,\"\")","v":1337.8184146779918},{"$f":"IFERROR(VLOOKUP(A35,STAGIONALITA!$A$3:$M$105,3,FALSE)*P35,\"\")","v":718.21405465554528},{"$f":"IFERROR(VLOOKUP(A35,STAGIONALITA!$A$3:$M$105,4,FALSE)*P35,\"\")","v":3108.577006509739},{"$f":"IFERROR(VLOOKUP(A35,STAGIONALITA!$A$3:$M$105,5,FALSE)*P35,\"\")","v":1690.8946969208221},{"$f":"IFERROR(VLOOKUP(A35,STAGIONALITA!$A$3:$M$105,6,FALSE)*P35,\"\")","v":1443.6944558890177},{"$f":"IFERROR(VLOOKUP(A35,STAGIONALITA!$A$3:$M$105,7,FALSE)*P35,\"\")","v":1285.8235745537866},{"$f":"IFERROR(VLOOKUP(A35,STAGIONALITA!$A$3:$M$105,8,FALSE)*P35,\"\")","v":698.72352804032425},{"$f":"IFERROR(VLOOKUP(A35,STAGIONALITA!$A$3:$M$105,9,FALSE)*P35,\"\")","v":1059.8459462255537},{"$f":"IFERROR(VLOOKUP(A35,STAGIONALITA!$A$3:$M$105,10,FALSE)*P35,\"\")","v":1528.0659821262245},{"$f":"IFERROR(VLOOKUP(A35,STAGIONALITA!$A$3:$M$105,11,FALSE)*P35,\"\")","v":1325.0304301001986},{"$f":"IFERROR(VLOOKUP(A35,STAGIONALITA!$A$3:$M$105,12,FALSE)*P35,\"\")","v":1621.2297736977332},{"$f":"IFERROR(VLOOKUP(A35,STAGIONALITA!$A$3:$M$105,13,FALSE)*P35,\"\")","v":1182.0821366030605},null,"Varem",17000]
[{"$f":"IF(O36=0,\"\",O36)","v":"Fluidmaster"},{"$f":"IFERROR(VLOOKUP(A36,STAGIONALITA!$A$3:$M$105,2,FALSE)*P36,\"\")","v":1868.2616224359201},{"$f":"IFERROR(VLOOKUP(A36,STAGIONALITA!$A$3:$M$105,3,FALSE)*P36,\"\")","v":1064.4154859876185},{"$f":"IFERROR(VLOOKUP(A36,STAGIONALITA!$A$3:$M$105,4,FALSE)*P36,\"\")","v":1417.471413673255},{"$f":"IFERROR(VLOOKUP(A36,STAGIONALITA!$A$3:$M$105,5,FALSE)*P36,\"\")","v":1650.7678396145209},{"$f":"IFERROR(VLOOKUP(A36,STAGIONALITA!$A$3:$M$105,6,FALSE)*P36,\"\")","v":410.63678529805617},{"$f":"IFERROR(VLOOKUP(A36,STAGIONALITA!$A$3:$M$105,7,FALSE)*P36,\"\")","v":3518.3150501175446},{"$f":"IFERROR(VLOOKUP(A36,STAGIONALITA!$A$3:$M$105,8,FALSE)*P36,\"\")","v":333.80649504923872},{"$f":"IFERROR(VLOOKUP(A36,STAGIONALITA!$A$3:$M$105,9,FALSE)*P36,\"\")","v":159.11293267995347},{"$f":"IFERROR(VLOOKUP(A36,STAGIONALITA!$A$3:$M$105,10,FALSE)*P36,\"\")","v":1679.1334661863259},{"$f":"IFERROR(VLOOKUP(A36,STAGIONALITA!$A$3:$M$105,11,FALSE)*P36,\"\")","v":3328.17605059484},{"$f":"IFERROR(VLOOKUP(A36,STAGIONALITA!$A$3:$M$105,12,FALSE)*P36,\"\")","v":994.96993297572863},{"$f":"IFERROR(VLOOKUP(A36,STAGIONALITA!$A$3:$M$105,13,FALSE)*P36,\"\")","v":574.93292538699848},null,"Fluidmaster",17000]
["Samsung",{"$f":"IFERROR(VLOOKUP(A37,STAGIONALITA!$A$3:$M$105,2,FALSE)*P37,\"\")","v":291.484306145804},{"$f":"IFERROR(VLOOKUP(A37,STAGIONALITA!$A$3:$M$105,3,FALSE)*P37,\"\")","v":2964.7860036745342},{"$f":"IFERROR(VLOOKUP(A37,STAGIONALITA!$A$3:$M$105,4,FALSE)*P37,\"\")","v":2678.6517752102118},{"$f":"IFERROR(VLOOKUP(A37,STAGIONALITA!$A$3:$M$105,5,FALSE)*P37,\"\")","v":2063.295518698259},{"$f":"IFERROR(VLOOKUP(A37,STAGIONALITA!$A$3:$M$105,6,FALSE)*P37,\"\")","v":1697.1919129383991},{"$f":"IFERROR(VLOOKUP(A37,STAGIONALITA!$A$3:$M$105,7,FALSE)*P37,\"\")","v":1875.0562426471481},{"$f":"IFERROR(VLOOKUP(A37,STAGIONALITA!$A$3:$M$105,8,FALSE)*P37,\"\")","v":774.82800975162036},{"$f":"IFERROR(VLOOKUP(A37,STAGIONALITA!$A$3:$M$105,9,FALSE)*P37,\"\")","v":447.2434061281661},{"$f":"IFERROR(VLOOKUP(A37,STAGIONALITA!$A$3:$M$105,10,FALSE)*P37,\"\")","v":218.08693600556884},{"$f":"IFERROR(VLOOKUP(A37,STAGIONALITA!$A$3:$M$105,11,FALSE)*P37,\"\")","v":2014.8474599355848},{"$f":"IFERROR(VLOOKUP(A37,STAGIONALITA!$A$3:$M$105,12,FALSE)*P37,\"\")","v":1075.9372751384049},{"$f":"IFERROR(VLOOKUP(A37,STAGIONALITA!$A$3:$M$105,13,FALSE)*P37,\"\")","v":898.59115372629697},null,"Samsung",17000]
["Fimi",{"$f":"IFERROR(VLOOKUP(A38,STAGIONALITA!$A$3:$M$105,2,FALSE)*P38,\"\")","v":561.409975024304},{"$f":"IFERROR(VLOOKUP(A38,STAGIONALITA!$A$3:$M$105,3,FALSE)*P38,\"\")","v":949.74739741322855},{"$f":"IFERROR(VLOOKUP(A38,STAGIONALITA!$A$3:$M$105,4,FALSE)*P38,\"\")","v":1421.234461814596},{"$f":"IFERROR(VLOOKUP(A38,STAGIONALITA!$A$3:$M$105,5,FALSE)*P38,\"\")","v":947.98141515522616},{"$f":"IFERROR(VLOOKUP(A38,STAGIONALITA!$A$3:$M$105,6,FALSE)*P38,\"\")","v":811.41757304065072},{"$f":"IFERROR(VLOOKUP(A38,STAGIONALITA!$A$3:$M$105,7,FALSE)*P38,\"\")","v":1209.7387405140942},{"$f":"IFERROR(VLOOKUP(A38,STAGIONALITA!$A$3:$M$105,8,FALSE)*P38,\"\")","v":1457.7589007131874},{"$f":"IFERROR(VLOOKUP(A38,STAGIONALITA!$A$3:$M$105,9,FALSE)*P38,\"\")","v":556.19570322012657},{"$f":"IFERROR(VLOOKUP(A38,STAGIONALITA!$A$3:$M$105,10,FALSE)*P38,\"\")","v":1565.3221307276942},{"$f":"IFERROR(VLOOKUP(A38,STAGIONALITA!$A$3:$M$105,11,FALSE)*P38,\"\")","v":1595.5671720783253},{"$f":"IFERROR(VLOOKUP(A38,STAGIONALITA!$A$3:$M$105,12,FALSE)*P38,\"\")","v":713.43292509885146},{"$f":"IFERROR(VLOOKUP(A38,STAGIONALITA!$A$3:$M$105,13,FALSE)*P38,\"\")","v":1210.193605199715},null,"Fimi",13000]
["Va-Albertoni ",{"$f":"IFERROR(VLOOKUP(A39,STAGIONALITA!$A$3:$M$105,2,FALSE)*P39,\"\")","v":870.06893602474281},{"$f":"IFERROR(VLOOKUP(A39,STAGIONALITA!$A$3:$M$105,3,FALSE)*P39,\"\")","v":1161.5934138876737},{"$f":"IFERROR(VLOOKUP(A39,STAGIONALITA!$A$3:$M$105,4,FALSE)*P39,\"\")","v":839.28155080483657},{"$f":"IFERROR(VLOOKUP(A39,STAGIONALITA!$A$3:$M$105,5,FALSE)*P39,\"\")","v":1657.1127487236495},{"$f":"IFERROR(VLOOKUP(A39,STAGIONALITA!$A$3:$M$105,6,FALSE)*P39,\"\")","v":1155.573931161591},{"$f":"IFERROR(VLOOKUP(A39,STAGIONALITA!$A$3:$M$105,7,FALSE)*P39,\"\")","v":718.18442937604982},{"$f":"IFERROR(VLOOKUP(A39,STAGIONALITA!$A$3:$M$105,8,FALSE)*P39,\"\")","v":1006.3951847319157},{"$f":"IFERROR(VLOOKUP(A39,STAGIONALITA!$A$3:$M$105,9,FALSE)*P39,\"\")","v":1063.2642614547981},{"$f":"IFERROR(VLOOKUP(A39,STAGIONALITA!$A$3:$M$105,10,FALSE)*P39,\"\")","v":735.55399942215774},{"$f":"IFERROR(VLOOKUP(A39,STAGIONALITA!$A$3:$M$105,11,FALSE)*P39,\"\")","v":986.91524199528328},{"$f":"IFERROR(VLOOKUP(A39,STAGIONALITA!$A$3:$M$105,12,FALSE)*P39,\"\")","v":235.63404547062873},{"$f":"IFERROR(VLOOKUP(A39,STAGIONALITA!$A$3:$M$105,13,FALSE)*P39,\"\")","v":570.42225694667195},null,"Va-Albertoni ",11000]
["Carrier",{"$f":"IFERROR(VLOOKUP(A40,STAGIONALITA!$A$3:$M$105,2,FALSE)*P40,\"\")","v":0},{"$f":"IFERROR(VLOOKUP(A40,STAGIONALITA!$A$3:$M$105,3,FALSE)*P40,\"\")","v":0},{"$f":"IFERROR(VLOOKUP(A40,STAGIONALITA!$A$3:$M$105,4,FALSE)*P40,\"\")","v":0},{"$f":"IFERROR(VLOOKUP(A40,STAGIONALITA!$A$3:$M$105,5,FALSE)*P40,\"\")","v":0},{"$f":"IFERROR(VLOOKUP(A40,STAGIONALITA!$A$3:$M$105,6,FALSE)*P40,\"\")","v":3377.3248051665787},{"$f":"IFERROR(VLOOKUP(A40,STAGIONALITA!$A$3:$M$105,7,FALSE)*P40,\"\")","v":477.47384109044617},{"$f":"IFERROR(VLOOKUP(A40,STAGIONALITA!$A$3:$M$105,8,FALSE)*P40,\"\")","v":35.605613686465674},{"$f":"IFERROR(VLOOKUP(A40,STAGIONALITA!$A$3:$M$105,9,FALSE)*P40,\"\")","v":2282.3454528518646},{"$f":"IFERROR(VLOOKUP(A40,STAGIONALITA!$A$3:$M$105,10,FALSE)*P40,\"\")","v":953.58151954544041},{"$f":"IFERROR(VLOOKUP(A40,STAGIONALITA!$A$3:$M$105,11,FALSE)*P40,\"\")","v":1551.7045983792343},{"$f":"IFERROR(VLOOKUP(A40,STAGIONALITA!$A$3:$M$105,12,FALSE)*P40,\"\")","v":1474.9433352997796},{"$f":"IFERROR(VLOOKUP(A40,STAGIONALITA!$A$3:$M$105,13,FALSE)*P40,\"\")","v":847.02083398019067},null,"Carrier",11000]
["Grohe",{"$f":"IFERROR(VLOOKUP(A41,STAGIONALITA!$A$3:$M$105,2,FALSE)*P41,\"\")","v":505.91773079402708},{"$f":"IFERROR(VLOOKUP(A41,STAGIONALITA!$A$3:$M$105,3,FALSE)*P41,\"\")","v":1043.9834764616685},{"$f":"IFERROR(VLOOKUP(A41,STAGIONALITA!$A$3:$M$105,4,FALSE)*P41,\"\")","v":537.73494289532175},{"$f":"IFERROR(VLOOKUP(A41,STAGIONALITA!$A$3:$M$105,5,FALSE)*P41,\"\")","v":518.21757932845946},{"$f":"IFERROR(VLOOKUP(A41,STAGIONALITA!$A$3:$M$105,6,FALSE)*P41,\"\")","v":293.12132925455518},{"$f":"IFERROR(VLOOKUP(A41,STAGIONALITA!$A$3:$M$105,7,FALSE)*P41,\"\")","v":1005.1893331623584},{"$f":"IFERROR(VLOOKUP(A41,STAGIONALITA!$A$3:$M$105,8,FALSE)*P41,\"\")","v":444.92972876999528},{"$f":"IFERROR(VLOOKUP(A41,STAGIONALITA!$A$3:$M$105,9,FALSE)*P41,\"\")","v":202.48136963895763},{"$f":"IFERROR(VLOOKUP(A41,STAGIONALITA!$A$3:$M$105,10,FALSE)*P41,\"\")","v":775.01886929086299},{"$f":"IFERROR(VLOOKUP(A41,STAGIONALITA!$A$3:$M$105,11,FALSE)*P41,\"\")","v":2514.3088739166888},{"$f":"IFERROR(VLOOKUP(A41,STAGIONALITA!$A$3:$M$105,12,FALSE)*P41,\"\")","v":747.50119104034468},{"$f":"IFERROR(VLOOKUP(A41,STAGIONALITA!$A$3:$M$105,13,FALSE)*P41,\"\")","v":1411.59557544676},null,"Grohe",10000]
["Rainbox ",{"$f":"IFERROR(VLOOKUP(A42,STAGIONALITA!$A$3:$M$105,2,FALSE)*P42,\"\")","v":691.00625959607885},{"$f":"IFERROR(VLOOKUP(A42,STAGIONALITA!$A$3:$M$105,3,FALSE)*P42,\"\")","v":590.77890634227003},{"$f":"IFERROR(VLOOKUP(A42,STAGIONALITA!$A$3:$M$105,4,FALSE)*P42,\"\")","v":723.86913901027526},{"$f":"IFERROR(VLOOKUP(A42,STAGIONALITA!$A$3:$M$105,5,FALSE)*P42,\"\")","v":1039.2996338726821},{"$f":"IFERROR(VLOOKUP(A42,STAGIONALITA!$A$3:$M$105,6,FALSE)*P42,\"\")","v":1329.7950868076061},{"$f":"IFERROR(VLOOKUP(A42,STAGIONALITA!$A$3:$M$105,7,FALSE)*P42,\"\")","v":720.06023384906098},{"$f":"IFERROR(VLOOKUP(A42,STAGIONALITA!$A$3:$M$105,8,FALSE)*P42,\"\")","v":1679.5500177158378},{"$f":"IFERROR(VLOOKUP(A42,STAGIONALITA!$A$3:$M$105,9,FALSE)*P42,\"\")","v":449.53938821306247},{"$f":"IFERROR(VLOOKUP(A42,STAGIONALITA!$A$3:$M$105,10,FALSE)*P42,\"\")","v":615.84681705444666},{"$f":"IFERROR(VLOOKUP(A42,STAGIONALITA!$A$3:$M$105,11,FALSE)*P42,\"\")","v":493.82898311090116},{"$f":"IFERROR(VLOOKUP(A42,STAGIONALITA!$A$3:$M$105,12,FALSE)*P42,\"\")","v":476.20172434156132},{"$f":"IFERROR(VLOOKUP(A42,STAGIONALITA!$A$3:$M$105,13,FALSE)*P42,\"\")","v":190.22381008621707},null,"Rainbox ",9000]
["Ideal Standard",{"$f":"IFERROR(VLOOKUP(A43,STAGIONALITA!$A$3:$M$105,2,FALSE)*P43,\"\")","v":0},{"$f":"IFERROR(VLOOKUP(A43,STAGIONALITA!$A$3:$M$105,3,FALSE)*P43,\"\")","v":2016.5271701765107},{"$f":"IFERROR(VLOOKUP(A43,STAGIONALITA!$A$3:$M$105,4,FALSE)*P43,\"\")","v":101.29813093452256},{"$f":"IFERROR(VLOOKUP(A43,STAGIONALITA!$A$3:$M$105,5,FALSE)*P43,\"\")","v":655.65259598565478},{"$f":"IFERROR(VLOOKUP(A43,STAGIONALITA!$A$3:$M$105,6,FALSE)*P43,\"\")","v":772.33047861876855},{"$f":"IFERROR(VLOOKUP(A43,STAGIONALITA!$A$3:$M$105,7,FALSE)*P43,\"\")","v":677.44649105141673},{"$f":"IFERROR(VLOOKUP(A43,STAGIONALITA!$A$3:$M$105,8,FALSE)*P43,\"\")","v":830.03968945499912},{"$f":"IFERROR(VLOOKUP(A43,STAGIONALITA!$A$3:$M$105,9,FALSE)*P43,\"\")","v":276.3383451963104},{"$f":"IFERROR(VLOOKUP(A43,STAGIONALITA!$A$3:$M$105,10,FALSE)*P43,\"\")","v":1193.77825230802},{"$f":"IFERROR(VLOOKUP(A43,STAGIONALITA!$A$3:$M$105,11,FALSE)*P43,\"\")","v":921.31094726871947},{"$f":"IFERROR(VLOOKUP(A43,STAGIONALITA!$A$3:$M$105,12,FALSE)*P43,\"\")","v":703.22894281815707},{"$f":"IFERROR(VLOOKUP(A43,STAGIONALITA!$A$3:$M$105,13,FALSE)*P43,\"\")","v":852.04895618691944},null,"Ideal Standard",9000]
["Bmeters",{"$f":"IFERROR(VLOOKUP(A44,STAGIONALITA!$A$3:$M$105,2,FALSE)*P44,\"\")","v":208.81940792144212},{"$f":"IFERROR(VLOOKUP(A44,STAGIONALITA!$A$3:$M$105,3,FALSE)*P44,\"\")","v":1672.5067859248097},{"$f":"IFERROR(VLOOKUP(A44,STAGIONALITA!$A$3:$M$105,4,FALSE)*P44,\"\")","v":1217.576410042816},{"$f":"IFERROR(VLOOKUP(A44,STAGIONALITA!$A$3:$M$105,5,FALSE)*P44,\"\")","v":74.611640375987832},{"$f":"IFERROR(VLOOKUP(A44,STAGIONALITA!$A$3:$M$105,6,FALSE)*P44,\"\")","v":907.21372927601521},{"$f":"IFERROR(VLOOKUP(A44,STAGIONALITA!$A$3:$M$105,7,FALSE)*P44,\"\")","v":143.10977137875176},{"$f":"IFERROR(VLOOKUP(A44,STAGIONALITA!$A$3:$M$105,8,FALSE)*P44,\"\")","v":934.69628353694054},{"$f":"IFERROR(VLOOKUP(A44,STAGIONALITA!$A$3:$M$105,9,FALSE)*P44,\"\")","v":206.1339818641967},{"$f":"IFERROR(VLOOKUP(A44,STAGIONALITA!$A$3:$M$105,10,FALSE)*P44,\"\")","v":1377.908770344538},{"$f":"IFERROR(VLOOKUP(A44,STAGIONALITA!$A$3:$M$105,11,FALSE)*P44,\"\")","v":141.50021001951956},{"$f":"IFERROR(VLOOKUP(A44,STAGIONALITA!$A$3:$M$105,12,FALSE)*P44,\"\")","v":986.96043514632561},{"$f":"IFERROR(VLOOKUP(A44,STAGIONALITA!$A$3:$M$105,13,FALSE)*P44,\"\")","v":128.96257416865791},null,"Bmeters",8000]
["Valsir",{"$f":"IFERROR(VLOOKUP(A45,STAGIONALITA!$A$3:$M$105,2,FALSE)*P45,\"\")","v":610.70669332243801},{"$f":"IFERROR(VLOOKUP(A45,STAGIONALITA!$A$3:$M$105,3,FALSE)*P45,\"\")","v":521.4350904340838},{"$f":"IFERROR(VLOOKUP(A45,STAGIONALITA!$A$3:$M$105,4,FALSE)*P45,\"\")","v":783.89724539558517},{"$f":"IFERROR(VLOOKUP(A45,STAGIONALITA!$A$3:$M$105,5,FALSE)*P45,\"\")","v":440.43455907770533},{"$f":"IFERROR(VLOOKUP(A45,STAGIONALITA!$A$3:$M$105,6,FALSE)*P45,\"\")","v":514.08129939155651},{"$f":"IFERROR(VLOOKUP(A45,STAGIONALITA!$A$3:$M$105,7,FALSE)*P45,\"\")","v":550.75475082441972},{"$f":"IFERROR(VLOOKUP(A45,STAGIONALITA!$A$3:$M$105,8,FALSE)*P45,\"\")","v":572.95826911259405},{"$f":"IFERROR(VLOOKUP(A45,STAGIONALITA!$A$3:$M$105,9,FALSE)*P45,\"\")","v":74.310824735994245},{"$f":"IFERROR(VLOOKUP(A45,STAGIONALITA!$A$3:$M$105,10,FALSE)*P45,\"\")","v":530.97658433885488},{"$f":"IFERROR(VLOOKUP(A45,STAGIONALITA!$A$3:$M$105,11,FALSE)*P45,\"\")","v":634.79585600659698},{"$f":"IFERROR(VLOOKUP(A45,STAGIONALITA!$A$3:$M$105,12,FALSE)*P45,\"\")","v":394.41284231775148},{"$f":"IFERROR(VLOOKUP(A45,STAGIONALITA!$A$3:$M$105,13,FALSE)*P45,\"\")","v":371.23598504242005},null,"Valsir",6000]
["Neoperl",{"$f":"IFERROR(VLOOKUP(A46,STAGIONALITA!$A$3:$M$105,2,FALSE)*P46,\"\")","v":472.30917254333275},{"$f":"IFERROR(VLOOKUP(A46,STAGIONALITA!$A$3:$M$105,3,FALSE)*P46,\"\")","v":581.97609252096493},{"$f":"IFERROR(VLOOKUP(A46,STAGIONALITA!$A$3:$M$105,4,FALSE)*P46,\"\")","v":402.45072178792384},{"$f":"IFERROR(VLOOKUP(A46,STAGIONALITA!$A$3:$M$105,5,FALSE)*P46,\"\")","v":638.87736601423842},{"$f":"IFERROR(VLOOKUP(A46,STAGIONALITA!$A$3:$M$105,6,FALSE)*P46,\"\")","v":631.41721799295635},{"$f":"IFERROR(VLOOKUP(A46,STAGIONALITA!$A$3:$M$105,7,FALSE)*P46,\"\")","v":534.70327265571586},{"$f":"IFERROR(VLOOKUP(A46,STAGIONALITA!$A$3:$M$105,8,FALSE)*P46,\"\")","v":476.82847419614939},{"$f":"IFERROR(VLOOKUP(A46,STAGIONALITA!$A$3:$M$105,9,FALSE)*P46,\"\")","v":268.47287108779187},{"$f":"IFERROR(VLOOKUP(A46,STAGIONALITA!$A$3:$M$105,10,FALSE)*P46,\"\")","v":536.79518943193887},{"$f":"IFERROR(VLOOKUP(A46,STAGIONALITA!$A$3:$M$105,11,FALSE)*P46,\"\")","v":650.54186627059846},{"$f":"IFERROR(VLOOKUP(A46,STAGIONALITA!$A$3:$M$105,12,FALSE)*P46,\"\")","v":491.52059259933139},{"$f":"IFERROR(VLOOKUP(A46,STAGIONALITA!$A$3:$M$105,13,FALSE)*P46,\"\")","v":314.10716289905758},null,"Neoperl",6000]
["System Group (Rototec)",{"$f":"IFERROR(VLOOKUP(A47,STAGIONALITA!$A$3:$M$105,2,FALSE)*P47,\"\")","v":262.72912756860939},{"$f":"IFERROR(VLOOKUP(A47,STAGIONALITA!$A$3:$M$105,3,FALSE)*P47,\"\")","v":0},{"$f":"IFERROR(VLOOKUP(A47,STAGIONALITA!$A$3:$M$105,4,FALSE)*P47,\"\")","v":444.18229089118205},{"$f":"IFERROR(VLOOKUP(A47,STAGIONALITA!$A$3:$M$105,5,FALSE)*P47,\"\")","v":478.32089112111106},{"$f":"IFERROR(VLOOKUP(A47,STAGIONALITA!$A$3:$M$105,6,FALSE)*P47,\"\")","v":485.58080258553281},{"$f":"IFERROR(VLOOKUP(A47,STAGIONALITA!$A$3:$M$105,7,FALSE)*P47,\"\")","v":834.9870971762831},{"$f":"IFERROR(VLOOKUP(A47,STAGIONALITA!$A$3:$M$105,8,FALSE)*P47,\"\")","v":476.89859818915727},{"$f":"IFERROR(VLOOKUP(A47,STAGIONALITA!$A$3:$M$105,9,FALSE)*P47,\"\")","v":176.75492607631722},{"$f":"IFERROR(VLOOKUP(A47,STAGIONALITA!$A$3:$M$105,10,FALSE)*P47,\"\")","v":314.91546787443099},{"$f":"IFERROR(VLOOKUP(A47,STAGIONALITA!$A$3:$M$105,11,FALSE)*P47,\"\")","v":94.038819583138064},{"$f":"IFERROR(VLOOKUP(A47,STAGIONALITA!$A$3:$M$105,12,FALSE)*P47,\"\")","v":368.29087006040669},{"$f":"IFERROR(VLOOKUP(A47,STAGIONALITA!$A$3:$M$105,13,FALSE)*P47,\"\")","v":63.301108873831403},null,"System Group (Rototec)",4000]
["Tecnosystemi",{"$f":"IFERROR(VLOOKUP(A48,STAGIONALITA!$A$3:$M$105,2,FALSE)*P48,\"\")","v":178.52334913871559},{"$f":"IFERROR(VLOOKUP(A48,STAGIONALITA!$A$3:$M$105,3,FALSE)*P48,\"\")","v":208.28618500348321},{"$f":"IFERROR(VLOOKUP(A48,STAGIONALITA!$A$3:$M$105,4,FALSE)*P48,\"\")","v":337.84498562673917},{"$f":"IFERROR(VLOOKUP(A48,STAGIONALITA!$A$3:$M$105,5,FALSE)*P48,\"\")","v":209.85756959278305},{"$f":"IFERROR(VLOOKUP(A48,STAGIONALITA!$A$3:$M$105,6,FALSE)*P48,\"\")","v":440.74043131961099},{"$f":"IFERROR(VLOOKUP(A48,STAGIONALITA!$A$3:$M$105,7,FALSE)*P48,\"\")","v":166.12549648204237},{"$f":"IFERROR(VLOOKUP(A48,STAGIONALITA!$A$3:$M$105,8,FALSE)*P48,\"\")","v":288.81987621789347},{"$f":"IFERROR(VLOOKUP(A48,STAGIONALITA!$A$3:$M$105,9,FALSE)*P48,\"\")","v":160.86999087843009},{"$f":"IFERROR(VLOOKUP(A48,STAGIONALITA!$A$3:$M$105,10,FALSE)*P48,\"\")","v":311.55878574366244},{"$f":"IFERROR(VLOOKUP(A48,STAGIONALITA!$A$3:$M$105,11,FALSE)*P48,\"\")","v":262.49010376715762},{"$f":"IFERROR(VLOOKUP(A48,STAGIONALITA!$A$3:$M$105,12,FALSE)*P48,\"\")","v":315.09527181013158},{"$f":"IFERROR(VLOOKUP(A48,STAGIONALITA!$A$3:$M$105,13,FALSE)*P48,\"\")","v":119.78795441935067},null,"Tecnosystemi",3000]
["KINEDO",{"$f":"IFERROR(VLOOKUP(A49,STAGIONALITA!$A$3:$M$105,2,FALSE)*P49,\"\")","v":0},{"$f":"IFERROR(VLOOKUP(A49,STAGIONALITA!$A$3:$M$105,3,FALSE)*P49,\"\")","v":0},{"$f":"IFERROR(VLOOKUP(A49,STAGIONALITA!$A$3:$M$105,4,FALSE)*P49,\"\")","v":0},{"$f":"IFERROR(VLOOKUP(A49,STAGIONALITA!$A$3:$M$105,5,FALSE)*P49,\"\")","v":0},{"$f":"IFERROR(VLOOKUP(A49,STAGIONALITA!$A$3:$M$105,6,FALSE)*P49,\"\")","v":1370.1503072434691},{"$f":"IFERROR(VLOOKUP(A49,STAGIONALITA!$A$3:$M$105,7,FALSE)*P49,\"\")","v":422.3776337434943},{"$f":"IFERROR(VLOOKUP(A49,STAGIONALITA!$A$3:$M$105,8,FALSE)*P49,\"\")","v":186.09271984480515},{"$f":"IFERROR(VLOOKUP(A49,STAGIONALITA!$A$3:$M$105,9,FALSE)*P49,\"\")","v":-0.31925922572091631},{"$f":"IFERROR(VLOOKUP(A49,STAGIONALITA!$A$3:$M$105,10,FALSE)*P49,\"\")","v":466.20379883650332},{"$f":"IFERROR(VLOOKUP(A49,STAGIONALITA!$A$3:$M$105,11,FALSE)*P49,\"\")","v":124.53257546997853},{"$f":"IFERROR(VLOOKUP(A49,STAGIONALITA!$A$3:$M$105,12,FALSE)*P49,\"\")","v":294.96650100015205},{"$f":"IFERROR(VLOOKUP(A49,STAGIONALITA!$A$3:$M$105,13,FALSE)*P49,\"\")","v":135.99572308731797},null,"KINEDO",3000]
["Novellini ",{"$f":"IFERROR(VLOOKUP(A50,STAGIONALITA!$A$3:$M$105,2,FALSE)*P50,\"\")","v":186.55897015207924},{"$f":"IFERROR(VLOOKUP(A50,STAGIONALITA!$A$3:$M$105,3,FALSE)*P50,\"\")","v":221.27435266401633},{"$f":"IFERROR(VLOOKUP(A50,STAGIONALITA!$A$3:$M$105,4,FALSE)*P50,\"\")","v":211.50253465429833},{"$f":"IFERROR(VLOOKUP(A50,STAGIONALITA!$A$3:$M$105,5,FALSE)*P50,\"\")","v":320.28236679918388},{"$f":"IFERROR(VLOOKUP(A50,STAGIONALITA!$A$3:$M$105,6,FALSE)*P50,\"\")","v":250.8517279821628},{"$f":"IFERROR(VLOOKUP(A50,STAGIONALITA!$A$3:$M$105,7,FALSE)*P50,\"\")","v":358.1119875475905},{"$f":"IFERROR(VLOOKUP(A50,STAGIONALITA!$A$3:$M$105,8,FALSE)*P50,\"\")","v":342.65396184346139},{"$f":"IFERROR(VLOOKUP(A50,STAGIONALITA!$A$3:$M$105,9,FALSE)*P50,\"\")","v":95.677709766307046},{"$f":"IFERROR(VLOOKUP(A50,STAGIONALITA!$A$3:$M$105,10,FALSE)*P50,\"\")","v":202.87154245808881},{"$f":"IFERROR(VLOOKUP(A50,STAGIONALITA!$A$3:$M$105,11,FALSE)*P50,\"\")","v":286.38307986790352},{"$f":"IFERROR(VLOOKUP(A50,STAGIONALITA!$A$3:$M$105,12,FALSE)*P50,\"\")","v":351.59761048358263},{"$f":"IFERROR(VLOOKUP(A50,STAGIONALITA!$A$3:$M$105,13,FALSE)*P50,\"\")","v":172.23415578132554},null,"Novellini ",3000]
["Galassia ",{"$f":"IFERROR(VLOOKUP(A51,STAGIONALITA!$A$3:$M$105,2,FALSE)*P51,\"\")","v":122.05095820249619},{"$f":"IFERROR(VLOOKUP(A51,STAGIONALITA!$A$3:$M$105,3,FALSE)*P51,\"\")","v":320.0220058230197},{"$f":"IFERROR(VLOOKUP(A51,STAGIONALITA!$A$3:$M$105,4,FALSE)*P51,\"\")","v":182.28802445435826},{"$f":"IFERROR(VLOOKUP(A51,STAGIONALITA!$A$3:$M$105,5,FALSE)*P51,\"\")","v":138.48171443957793},{"$f":"IFERROR(VLOOKUP(A51,STAGIONALITA!$A$3:$M$105,6,FALSE)*P51,\"\")","v":233.80024679065605},{"$f":"IFERROR(VLOOKUP(A51,STAGIONALITA!$A$3:$M$105,7,FALSE)*P51,\"\")","v":166.11684394655839},{"$f":"IFERROR(VLOOKUP(A51,STAGIONALITA!$A$3:$M$105,8,FALSE)*P51,\"\")","v":191.97368599472713},{"$f":"IFERROR(VLOOKUP(A51,STAGIONALITA!$A$3:$M$105,9,FALSE)*P51,\"\")","v":41.621224771273098},{"$f":"IFERROR(VLOOKUP(A51,STAGIONALITA!$A$3:$M$105,10,FALSE)*P51,\"\")","v":153.44025012252362},{"$f":"IFERROR(VLOOKUP(A51,STAGIONALITA!$A$3:$M$105,11,FALSE)*P51,\"\")","v":171.52919161531651},{"$f":"IFERROR(VLOOKUP(A51,STAGIONALITA!$A$3:$M$105,12,FALSE)*P51,\"\")","v":192.79503009335042},{"$f":"IFERROR(VLOOKUP(A51,STAGIONALITA!$A$3:$M$105,13,FALSE)*P51,\"\")","v":85.880823746142681},null,"Galassia ",2000]
["Arredamenti Montegrappa",{"$f":"IFERROR(VLOOKUP(A52,STAGIONALITA!$A$3:$M$105,2,FALSE)*P52,\"\")","v":220.67141903035426},{"$f":"IFERROR(VLOOKUP(A52,STAGIONALITA!$A$3:$M$105,3,FALSE)*P52,\"\")","v":65.915193479357214},{"$f":"IFERROR(VLOOKUP(A52,STAGIONALITA!$A$3:$M$105,4,FALSE)*P52,\"\")","v":265.83415630262306},{"$f":"IFERROR(VLOOKUP(A52,STAGIONALITA!$A$3:$M$105,5,FALSE)*P52,\"\")","v":74.331164494316866},{"$f":"IFERROR(VLOOKUP(A52,STAGIONALITA!$A$3:$M$105,6,FALSE)*P52,\"\")","v":112.78788952675033},{"$f":"IFERROR(VLOOKUP(A52,STAGIONALITA!$A$3:$M$105,7,FALSE)*P52,\"\")","v":387.39859510778331},{"$f":"IFERROR(VLOOKUP(A52,STAGIONALITA!$A$3:$M$105,8,FALSE)*P52,\"\")","v":84.267511898463141},{"$f":"IFERROR(VLOOKUP(A52,STAGIONALITA!$A$3:$M$105,9,FALSE)*P52,\"\")","v":59.461957754105441},{"$f":"IFERROR(VLOOKUP(A52,STAGIONALITA!$A$3:$M$105,10,FALSE)*P52,\"\")","v":378.8537576344084},{"$f":"IFERROR(VLOOKUP(A52,STAGIONALITA!$A$3:$M$105,11,FALSE)*P52,\"\")","v":153.95700568871067},{"$f":"IFERROR(VLOOKUP(A52,STAGIONALITA!$A$3:$M$105,12,FALSE)*P52,\"\")","v":48.595045828134317},{"$f":"IFERROR(VLOOKUP(A52,STAGIONALITA!$A$3:$M$105,13,FALSE)*P52,\"\")","v":147.92630325499326},null,"Arredamenti Montegrappa",2000]
["RM Manfredi",{"$f":"IFERROR(VLOOKUP(A53,STAGIONALITA!$A$3:$M$105,2,FALSE)*P53,\"\")","v":198.9807758253713},{"$f":"IFERROR(VLOOKUP(A53,STAGIONALITA!$A$3:$M$105,3,FALSE)*P53,\"\")","v":179.5810767666257},{"$f":"IFERROR(VLOOKUP(A53,STAGIONALITA!$A$3:$M$105,4,FALSE)*P53,\"\")","v":143.94296601551414},{"$f":"IFERROR(VLOOKUP(A53,STAGIONALITA!$A$3:$M$105,5,FALSE)*P53,\"\")","v":216.11196019771069},{"$f":"IFERROR(VLOOKUP(A53,STAGIONALITA!$A$3:$M$105,6,FALSE)*P53,\"\")","v":90.734675054394074},{"$f":"IFERROR(VLOOKUP(A53,STAGIONALITA!$A$3:$M$105,7,FALSE)*P53,\"\")","v":403.27643139248886},{"$f":"IFERROR(VLOOKUP(A53,STAGIONALITA!$A$3:$M$105,8,FALSE)*P53,\"\")","v":211.69872173871906},{"$f":"IFERROR(VLOOKUP(A53,STAGIONALITA!$A$3:$M$105,9,FALSE)*P53,\"\")","v":60.550385488600902},{"$f":"IFERROR(VLOOKUP(A53,STAGIONALITA!$A$3:$M$105,10,FALSE)*P53,\"\")","v":215.25983528048431},{"$f":"IFERROR(VLOOKUP(A53,STAGIONALITA!$A$3:$M$105,11,FALSE)*P53,\"\")","v":54.2858261990351},{"$f":"IFERROR(VLOOKUP(A53,STAGIONALITA!$A$3:$M$105,12,FALSE)*P53,\"\")","v":106.85779491060453},{"$f":"IFERROR(VLOOKUP(A53,STAGIONALITA!$A$3:$M$105,13,FALSE)*P53,\"\")","v":118.71955113045125},null,"RM Manfredi",2000]
["Atusa",{"$f":"IFERROR(VLOOKUP(A54,STAGIONALITA!$A$3:$M$105,2,FALSE)*P54,\"\")","v":112.74204693681794},{"$f":"IFERROR(VLOOKUP(A54,STAGIONALITA!$A$3:$M$105,3,FALSE)*P54,\"\")","v":136.62686754873781},{"$f":"IFERROR(VLOOKUP(A54,STAGIONALITA!$A$3:$M$105,4,FALSE)*P54,\"\")","v":163.89380485957992},{"$f":"IFERROR(VLOOKUP(A54,STAGIONALITA!$A$3:$M$105,5,FALSE)*P54,\"\")","v":116.19480802748313},{"$f":"IFERROR(VLOOKUP(A54,STAGIONALITA!$A$3:$M$105,6,FALSE)*P54,\"\")","v":136.27987246999018},{"$f":"IFERROR(VLOOKUP(A54,STAGIONALITA!$A$3:$M$105,7,FALSE)*P54,\"\")","v":235.62513796704994},{"$f":"IFERROR(VLOOKUP(A54,STAGIONALITA!$A$3:$M$105,8,FALSE)*P54,\"\")","v":154.16053370149692},{"$f":"IFERROR(VLOOKUP(A54,STAGIONALITA!$A$3:$M$105,9,FALSE)*P54,\"\")","v":96.657884427178374},{"$f":"IFERROR(VLOOKUP(A54,STAGIONALITA!$A$3:$M$105,10,FALSE)*P54,\"\")","v":0},{"$f":"IFERROR(VLOOKUP(A54,STAGIONALITA!$A$3:$M$105,11,FALSE)*P54,\"\")","v":271.75231155378282},{"$f":"IFERROR(VLOOKUP(A54,STAGIONALITA!$A$3:$M$105,12,FALSE)*P54,\"\")","v":246.83435508248044},{"$f":"IFERROR(VLOOKUP(A54,STAGIONALITA!$A$3:$M$105,13,FALSE)*P54,\"\")","v":329.23237742540255},null,"Atusa",2000]
["Griffon - Bostik",{"$f":"IFERROR(VLOOKUP(A55,STAGIONALITA!$A$3:$M$105,2,FALSE)*P55,\"\")","v":0},{"$f":"IFERROR(VLOOKUP(A55,STAGIONALITA!$A$3:$M$105,3,FALSE)*P55,\"\")","v":0},{"$f":"IFERROR(VLOOKUP(A55,STAGIONALITA!$A$3:$M$105,4,FALSE)*P55,\"\")","v":0},{"$f":"IFERROR(VLOOKUP(A55,STAGIONALITA!$A$3:$M$105,5,FALSE)*P55,\"\")","v":623.40579820384482},{"$f":"IFERROR(VLOOKUP(A55,STAGIONALITA!$A$3:$M$105,6,FALSE)*P55,\"\")","v":42.261877595728158},{"$f":"IFERROR(VLOOKUP(A55,STAGIONALITA!$A$3:$M$105,7,FALSE)*P55,\"\")","v":23.960567751357765},{"$f":"IFERROR(VLOOKUP(A55,STAGIONALITA!$A$3:$M$105,8,FALSE)*P55,\"\")","v":0},{"$f":"IFERROR(VLOOKUP(A55,STAGIONALITA!$A$3:$M$105,9,FALSE)*P55,\"\")","v":0},{"$f":"IFERROR(VLOOKUP(A55,STAGIONALITA!$A$3:$M$105,10,FALSE)*P55,\"\")","v":228.41647270016583},{"$f":"IFERROR(VLOOKUP(A55,STAGIONALITA!$A$3:$M$105,11,FALSE)*P55,\"\")","v":0},{"$f":"IFERROR(VLOOKUP(A55,STAGIONALITA!$A$3:$M$105,12,FALSE)*P55,\"\")","v":0},{"$f":"IFERROR(VLOOKUP(A55,STAGIONALITA!$A$3:$M$105,13,FALSE)*P55,\"\")","v":81.955283748903398},null,"Griffon - Bostik",1000]
["",{"$f":"IFERROR(VLOOKUP(A56,STAGIONALITA!$A$3:$M$105,2,FALSE)*P56,\"\")","v":""},{"$f":"IFERROR(VLOOKUP(A56,STAGIONALITA!$A$3:$M$105,3,FALSE)*P56,\"\")","v":""},{"$f":"IFERROR(VLOOKUP(A56,STAGIONALITA!$A$3:$M$105,4,FALSE)*P56,\"\")","v":""},{"$f":"IFERROR(VLOOKUP(A56,STAGIONALITA!$A$3:$M$105,5,FALSE)*P56,\"\")","v":""},{"$f":"IFERROR(VLOOKUP(A56,STAGIONALITA!$A$3:$M$105,6,FALSE)*P56,\"\")","v":""},{"$f":"IFERROR(VLOOKUP(A56,STAGIONALITA!$A$3:$M$105,7,FALSE)*P56,\"\")","v":""},{"$f":"IFERROR(VLOOKUP(A56,STAGIONALITA!$A$3:$M$105,8,FALSE)*P56,\"\")","v":""},{"$f":"IFERROR(VLOOKUP(A56,STAGIONALITA!$A$3:$M$105,9,FALSE)*P56,\"\")","v":""},{"$f":"IFERROR(VLOOKUP(A56,STAGIONALITA!$A$3:$M$105,10,FALSE)*P56,\"\")","v":""},{"$f":"IFERROR(VLOOKUP(A56,STAGIONALITA!$A$3:$M$105,11,FALSE)*P56,\"\")","v":""},{"$f":"IFERROR(VLOOKUP(A56,STAGIONALITA!$A$3:$M$105,12,FALSE)*P56,\"\")","v":""},{"$f":"IFERROR(VLOOKUP(A56,STAGIONALITA!$A$3:$M$105,13,FALSE)*P56,\"\")","v":""}]
["",{"$f":"IFERROR(VLOOKUP(A57,STAGIONALITA!$A$3:$M$105,2,FALSE)*P57,\"\")","v":""},{"$f":"IFERROR(VLOOKUP(A57,STAGIONALITA!$A$3:$M$105,3,FALSE)*P57,\"\")","v":""},{"$f":"IFERROR(VLOOKUP(A57,STAGIONALITA!$A$3:$M$105,4,FALSE)*P57,\"\")","v":""},{"$f":"IFERROR(VLOOKUP(A57,STAGIONALITA!$A$3:$M$105,5,FALSE)*P57,\"\")","v":""},{"$f":"IFERROR(VLOOKUP(A57,STAGIONALITA!$A$3:$M$105,6,FALSE)*P57,\"\")","v":""},{"$f":"IFERROR(VLOOKUP(A57,STAGIONALITA!$A$3:$M$105,7,FALSE)*P57,\"\")","v":""},{"$f":"IFERROR(VLOOKUP(A57,STAGIONALITA!$A$3:$M$105,8,FALSE)*P57,\"\")","v":""},{"$f":"IFERROR(VLOOKUP(A57,STAGIONALITA!$A$3:$M$105,9,FALSE)*P57,\"\")","v":""},{"$f":"IFERROR(VLOOKUP(A57,STAGIONALITA!$A$3:$M$105,10,FALSE)*P57,\"\")","v":""},{"$f":"IFERROR(VLOOKUP(A57,STAGIONALITA!$A$3:$M$105,11,FALSE)*P57,\"\")","v":""},{"$f":"IFERROR(VLOOKUP(A57,STAGIONALITA!$A$3:$M$105,12,FALSE)*P57,\"\")","v":""},{"$f":"IFERROR(VLOOKUP(A57,STAGIONALITA!$A$3:$M$105,13,FALSE)*P57,\"\")","v":""}]
["",{"$f":"IFERROR(VLOOKUP(A58,STAGIONALITA!$A$3:$M$105,2,FALSE)*P58,\"\")","v":""},{"$f":"IFERROR(VLOOKUP(A58,STAGIONALITA!$A$3:$M$105,3,FALSE)*P58,\"\")","v":""},{"$f":"IFERROR(VLOOKUP(A58,STAGIONALITA!$A$3:$M$105,4,FALSE)*P58,\"\")","v":""},{"$f":"IFERROR(VLOOKUP(A58,STAGIONALITA!$A$3:$M$105,5,FALSE)*P58,\"\")","v":""},{"$f":"IFERROR(VLOOKUP(A58,STAGIONALITA!$A$3:$M$105,6,FALSE)*P58,\"\")","v":""},{"$f":"IFERROR(VLOOKUP(A58,STAGIONALITA!$A$3:$M$105,7,FALSE)*P58,\"\")","v":""},{"$f":"IFERROR(VLOOKUP(A58,STAGIONALITA!$A$3:$M$105,8,FALSE)*P58,\"\")","v":""},{"$f":"IFERROR(VLOOKUP(A58,STAGIONALITA!$A$3:$M$105,9,FALSE)*P58,\"\")","v":""},{"$f":"IFERROR(VLOOKUP(A58,STAGIONALITA!$A$3:$M$105,10,FALSE)*P58,\"\")","v":""},{"$f":"IFERROR(VLOOKUP(A58,STAGIONALITA!$A$3:$M$105,11,FALSE)*P58,\"\")","v":""},{"$f":"IFERROR(VLOOKUP(A58,STAGIONALITA!$A$3:$M$105,12,FALSE)*P58,\"\")","v":""},{"$f":"IFERROR(VLOOKUP(A58,STAGIONALITA!$A$3:$M$105,13,FALSE)*P58,\"\")","v":""}]
["",{"$f":"IFERROR(VLOOKUP(A59,STAGIONALITA!$A$3:$M$105,2,FALSE)*P59,\"\")","v":""},{"$f":"IFERROR(VLOOKUP(A59,STAGIONALITA!$A$3:$M$105,3,FALSE)*P59,\"\")","v":""},{"$f":"IFERROR(VLOOKUP(A59,STAGIONALITA!$A$3:$M$105,4,FALSE)*P59,\"\")","v":""},{"$f":"IFERROR(VLOOKUP(A59,STAGIONALITA!$A$3:$M$105,5,FALSE)*P59,\"\")","v":""},{"$f":"IFERROR(VLOOKUP(A59,STAGIONALITA!$A$3:$M$105,6,FALSE)*P59,\"\")","v":""},{"$f":"IFERROR(VLOOKUP(A59,STAGIONALITA!$A$3:$M$105,7,FALSE)*P59,\"\")","v":""},{"$f":"IFERROR(VLOOKUP(A59,STAGIONALITA!$A$3:$M$105,8,FALSE)*P59,\"\")","v":""},{"$f":"IFERROR(VLOOKUP(A59,STAGIONALITA!$A$3:$M$105,9,FALSE)*P59,\"\")","v":""},{"$f":"IFERROR(VLOOKUP(A59,STAGIONALITA!$A$3:$M$105,10,FALSE)*P59,\"\")","v":""},{"$f":"IFERROR(VLOOKUP(A59,STAGIONALITA!$A$3:$M$105,11,FALSE)*P59,\"\")","v":""},{"$f":"IFERROR(VLOOKUP(A59,STAGIONALITA!$A$3:$M$105,12,FALSE)*P59,\"\")","v":""},{"$f":"IFERROR(VLOOKUP(A59,STAGIONALITA!$A$3:$M$105,13,FALSE)*P59,\"\")","v":""}]
["",{"$f":"IFERROR(VLOOKUP(A60,STAGIONALITA!$A$3:$M$105,2,FALSE)*P60,\"\")","v":""},{"$f":"IFERROR(VLOOKUP(A60,STAGIONALITA!$A$3:$M$105,3,FALSE)*P60,\"\")","v":""},{"$f":"IFERROR(VLOOKUP(A60,STAGIONALITA!$A$3:$M$105,4,FALSE)*P60,\"\")","v":""},{"$f":"IFERROR(VLOOKUP(A60,STAGIONALITA!$A$3:$M$105,5,FALSE)*P60,\"\")","v":""},{"$f":"IFERROR(VLOOKUP(A60,STAGIONALITA!$A$3:$M$105,6,FALSE)*P60,\"\")","v":""},{"$f":"IFERROR(VLOOKUP(A60,STAGIONALITA!$A$3:$M$105,7,FALSE)*P60,\"\")","v":""},{"$f":"IFERROR(VLOOKUP(A60,STAGIONALITA!$A$3:$M$105,8,FALSE)*P60,\"\")","v":""},{"$f":"IFERROR(VLOOKUP(A60,STAGIONALITA!$A$3:$M$105,9,FALSE)*P60,\"\")","v":""},{"$f":"IFERROR(VLOOKUP(A60,STAGIONALITA!$A$3:$M$105,10,FALSE)*P60,\"\")","v":""},{"$f":"IFERROR(VLOOKUP(A60,STAGIONALITA!$A$3:$M$105,11,FALSE)*P60,\"\")","v":""},{"$f":"IFERROR(VLOOKUP(A60,STAGIONALITA!$A$3:$M$105,12,FALSE)*P60,\"\")","v":""},{"$f":"IFERROR(VLOOKUP(A60,STAGIONALITA!$A$3:$M$105,13,FALSE)*P60,\"\")","v":""}]
["",{"$f":"IFERROR(VLOOKUP(A61,STAGIONALITA!$A$3:$M$105,2,FALSE)*P61,\"\")","v":""},{"$f":"IFERROR(VLOOKUP(A61,STAGIONALITA!$A$3:$M$105,3,FALSE)*P61,\"\")","v":""},{"$f":"IFERROR(VLOOKUP(A61,STAGIONALITA!$A$3:$M$105,4,FALSE)*P61,\"\")","v":""},{"$f":"IFERROR(VLOOKUP(A61,STAGIONALITA!$A$3:$M$105,5,FALSE)*P61,\"\")","v":""},{"$f":"IFERROR(VLOOKUP(A61,STAGIONALITA!$A$3:$M$105,6,FALSE)*P61,\"\")","v":""},{"$f":"IFERROR(VLOOKUP(A61,STAGIONALITA!$A$3:$M$105,7,FALSE)*P61,\"\")","v":""},{"$f":"IFERROR(VLOOKUP(A61,STAGIONALITA!$A$3:$M$105,8,FALSE)*P61,\"\")","v":""},{"$f":"IFERROR(VLOOKUP(A61,STAGIONALITA!$A$3:$M$105,9,FALSE)*P61,\"\")","v":""},{"$f":"IFERROR(VLOOKUP(A61,STAGIONALITA!$A$3:$M$105,10,FALSE)*P61,\"\")","v":""},{"$f":"IFERROR(VLOOKUP(A61,STAGIONALITA!$A$3:$M$105,11,FALSE)*P61,\"\")","v":""},{"$f":"IFERROR(VLOOKUP(A61,STAGIONALITA!$A$3:$M$105,12,FALSE)*P61,\"\")","v":""},{"$f":"IFERROR(VLOOKUP(A61,STAGIONALITA!$A$3:$M$105,13,FALSE)*P61,\"\")","v":""}]
["",{"$f":"IFERROR(VLOOKUP(A62,STAGIONALITA!$A$3:$M$105,2,FALSE)*P62,\"\")","v":""},{"$f":"IFERROR(VLOOKUP(A62,STAGIONALITA!$A$3:$M$105,3,FALSE)*P62,\"\")","v":""},{"$f":"IFERROR(VLOOKUP(A62,STAGIONALITA!$A$3:$M$105,4,FALSE)*P62,\"\")","v":""},{"$f":"IFERROR(VLOOKUP(A62,STAGIONALITA!$A$3:$M$105,5,FALSE)*P62,\"\")","v":""},{"$f":"IFERROR(VLOOKUP(A62,STAGIONALITA!$A$3:$M$105,6,FALSE)*P62,\"\")","v":""},{"$f":"IFERROR(VLOOKUP(A62,STAGIONALITA!$A$3:$M$105,7,FALSE)*P62,\"\")","v":""},{"$f":"IFERROR(VLOOKUP(A62,STAGIONALITA!$A$3:$M$105,8,FALSE)*P62,\"\")","v":""},{"$f":"IFERROR(VLOOKUP(A62,STAGIONALITA!$A$3:$M$105,9,FALSE)*P62,\"\")","v":""},{"$f":"IFERROR(VLOOKUP(A62,STAGIONALITA!$A$3:$M$105,10,FALSE)*P62,\"\")","v":""},{"$f":"IFERROR(VLOOKUP(A62,STAGIONALITA!$A$3:$M$105,11,FALSE)*P62,\"\")","v":""},{"$f":"IFERROR(VLOOKUP(A62,STAGIONALITA!$A$3:$M$105,12,FALSE)*P62,\"\")","v":""},{"$f":"IFERROR(VLOOKUP(A62,STAGIONALITA!$A$3:$M$105,13,FALSE)*P62,\"\")","v":""}]
["",{"$f":"IFERROR(VLOOKUP(A63,STAGIONALITA!$A$3:$M$105,2,FALSE)*P63,\"\")","v":""},{"$f":"IFERROR(VLOOKUP(A63,STAGIONALITA!$A$3:$M$105,3,FALSE)*P63,\"\")","v":""},{"$f":"IFERROR(VLOOKUP(A63,STAGIONALITA!$A$3:$M$105,4,FALSE)*P63,\"\")","v":""},{"$f":"IFERROR(VLOOKUP(A63,STAGIONALITA!$A$3:$M$105,5,FALSE)*P63,\"\")","v":""},{"$f":"IFERROR(VLOOKUP(A63,STAGIONALITA!$A$3:$M$105,6,FALSE)*P63,\"\")","v":""},{"$f":"IFERROR(VLOOKUP(A63,STAGIONALITA!$A$3:$M$105,7,FALSE)*P63,\"\")","v":""},{"$f":"IFERROR(VLOOKUP(A63,STAGIONALITA!$A$3:$M$105,8,FALSE)*P63,\"\")","v":""},{"$f":"IFERROR(VLOOKUP(A63,STAGIONALITA!$A$3:$M$105,9,FALSE)*P63,\"\")","v":""},{"$f":"IFERROR(VLOOKUP(A63,STAGIONALITA!$A$3:$M$105,10,FALSE)*P63,\"\")","v":""},{"$f":"IFERROR(VLOOKUP(A63,STAGIONALITA!$A$3:$M$105,11,FALSE)*P63,\"\")","v":""},{"$f":"IFERROR(VLOOKUP(A63,STAGIONALITA!$A$3:$M$105,12,FALSE)*P63,\"\")","v":""},{"$f":"IFERROR(VLOOKUP(A63,STAGIONALITA!$A$3:$M$105,13,FALSE)*P63,\"\")","v":""}]
["",{"$f":"IFERROR(VLOOKUP(A64,STAGIONALITA!$A$3:$M$105,2,FALSE)*P64,\"\")","v":""},{"$f":"IFERROR(VLOOKUP(A64,STAGIONALITA!$A$3:$M$105,3,FALSE)*P64,\"\")","v":""},{"$f":"IFERROR(VLOOKUP(A64,STAGIONALITA!$A$3:$M$105,4,FALSE)*P64,\"\")","v":""},{"$f":"IFERROR(VLOOKUP(A64,STAGIONALITA!$A$3:$M$105,5,FALSE)*P64,\"\")","v":""},{"$f":"IFERROR(VLOOKUP(A64,STAGIONALITA!$A$3:$M$105,6,FALSE)*P64,\"\")","v":""},{"$f":"IFERROR(VLOOKUP(A64,STAGIONALITA!$A$3:$M$105,7,FALSE)*P64,\"\")","v":""},{"$f":"IFERROR(VLOOKUP(A64,STAGIONALITA!$A$3:$M$105,8,FALSE)*P64,\"\")","v":""},{"$f":"IFERROR(VLOOKUP(A64,STAGIONALITA!$A$3:$M$105,9,FALSE)*P64,\"\")","v":""},{"$f":"IFERROR(VLOOKUP(A64,STAGIONALITA!$A$3:$M$105,10,FALSE)*P64,\"\")","v":""},{"$f":"IFERROR(VLOOKUP(A64,STAGIONALITA!$A$3:$M$105,11,FALSE)*P64,\"\")","v":""},{"$f":"IFERROR(VLOOKUP(A64,STAGIONALITA!$A$3:$M$105,12,FALSE)*P64,\"\")","v":""},{"$f":"IFERROR(VLOOKUP(A64,STAGIONALITA!$A$3:$M$105,13,FALSE)*P64,\"\")","v":""}]
["",{"$f":"IFERROR(VLOOKUP(A65,STAGIONALITA!$A$3:$M$105,2,FALSE)*P65,\"\")","v":""},{"$f":"IFERROR(VLOOKUP(A65,STAGIONALITA!$A$3:$M$105,3,FALSE)*P65,\"\")","v":""},{"$f":"IFERROR(VLOOKUP(A65,STAGIONALITA!$A$3:$M$105,4,FALSE)*P65,\"\")","v":""},{"$f":"IFERROR(VLOOKUP(A65,STAGIONALITA!$A$3:$M$105,5,FALSE)*P65,\"\")","v":""},{"$f":"IFERROR(VLOOKUP(A65,STAGIONALITA!$A$3:$M$105,6,FALSE)*P65,\"\")","v":""},{"$f":"IFERROR(VLOOKUP(A65,STAGIONALITA!$A$3:$M$105,7,FALSE)*P65,\"\")","v":""},{"$f":"IFERROR(VLOOKUP(A65,STAGIONALITA!$A$3:$M$105,8,FALSE)*P65,\"\")","v":""},{"$f":"IFERROR(VLOOKUP(A65,STAGIONALITA!$A$3:$M$105,9,FALSE)*P65,\"\")","v":""},{"$f":"IFERROR(VLOOKUP(A65,STAGIONALITA!$A$3:$M$105,10,FALSE)*P65,\"\")","v":""},{"$f":"IFERROR(VLOOKUP(A65,STAGIONALITA!$A$3:$M$105,11,FALSE)*P65,\"\")","v":""},{"$f":"IFERROR(VLOOKUP(A65,STAGIONALITA!$A$3:$M$105,12,FALSE)*P65,\"\")","v":""},{"$f":"IFERROR(VLOOKUP(A65,STAGIONALITA!$A$3:$M$105,13,FALSE)*P65,\"\")","v":""}]
["",{"$f":"IFERROR(VLOOKUP(A66,STAGIONALITA!$A$3:$M$105,2,FALSE)*P66,\"\")","v":""},{"$f":"IFERROR(VLOOKUP(A66,STAGIONALITA!$A$3:$M$105,3,FALSE)*P66,\"\")","v":""},{"$f":"IFERROR(VLOOKUP(A66,STAGIONALITA!$A$3:$M$105,4,FALSE)*P66,\"\")","v":""},{"$f":"IFERROR(VLOOKUP(A66,STAGIONALITA!$A$3:$M$105,5,FALSE)*P66,\"\")","v":""},{"$f":"IFERROR(VLOOKUP(A66,STAGIONALITA!$A$3:$M$105,6,FALSE)*P66,\"\")","v":""},{"$f":"IFERROR(VLOOKUP(A66,STAGIONALITA!$A$3:$M$105,7,FALSE)*P66,\"\")","v":""},{"$f":"IFERROR(VLOOKUP(A66,STAGIONALITA!$A$3:$M$105,8,FALSE)*P66,\"\")","v":""},{"$f":"IFERROR(VLOOKUP(A66,STAGIONALITA!$A$3:$M$105,9,FALSE)*P66,\"\")","v":""},{"$f":"IFERROR(VLOOKUP(A66,STAGIONALITA!$A$3:$M$105,10,FALSE)*P66,\"\")","v":""},{"$f":"IFERROR(VLOOKUP(A66,STAGIONALITA!$A$3:$M$105,11,FALSE)*P66,\"\")","v":""},{"$f":"IFERROR(VLOOKUP(A66,STAGIONALITA!$A$3:$M$105,12,FALSE)*P66,\"\")","v":""},{"$f":"IFERROR(VLOOKUP(A66,STAGIONALITA!$A$3:$M$105,13,FALSE)*P66,\"\")","v":""}]
["",{"$f":"IFERROR(VLOOKUP(A67,STAGIONALITA!$A$3:$M$105,2,FALSE)*P67,\"\")","v":""},{"$f":"IFERROR(VLOOKUP(A67,STAGIONALITA!$A$3:$M$105,3,FALSE)*P67,\"\")","v":""},{"$f":"IFERROR(VLOOKUP(A67,STAGIONALITA!$A$3:$M$105,4,FALSE)*P67,\"\")","v":""},{"$f":"IFERROR(VLOOKUP(A67,STAGIONALITA!$A$3:$M$105,5,FALSE)*P67,\"\")","v":""},{"$f":"IFERROR(VLOOKUP(A67,STAGIONALITA!$A$3:$M$105,6,FALSE)*P67,\"\")","v":""},{"$f":"IFERROR(VLOOKUP(A67,STAGIONALITA!$A$3:$M$105,7,FALSE)*P67,\"\")","v":""},{"$f":"IFERROR(VLOOKUP(A67,STAGIONALITA!$A$3:$M$105,8,FALSE)*P67,\"\")","v":""},{"$f":"IFERROR(VLOOKUP(A67,STAGIONALITA!$A$3:$M$105,9,FALSE)*P67,\"\")","v":""},{"$f":"IFERROR(VLOOKUP(A67,STAGIONALITA!$A$3:$M$105,10,FALSE)*P67,\"\")","v":""},{"$f":"IFERROR(VLOOKUP(A67,STAGIONALITA!$A$3:$M$105,11,FALSE)*P67,\"\")","v":""},{"$f":"IFERROR(VLOOKUP(A67,STAGIONALITA!$A$3:$M$105,12,FALSE)*P67,\"\")","v":""},{"$f":"IFERROR(VLOOKUP(A67,STAGIONALITA!$A$3:$M$105,13,FALSE)*P67,\"\")","v":""}]
[{"$f":"IF(O68=0,\"\",O68)","v":""},{"$f":"IFERROR(VLOOKUP(A68,STAGIONALITA!$A$3:$M$105,2,FALSE)*P68,\"\")","v":""},{"$f":"IFERROR(VLOOKUP(A68,STAGIONALITA!$A$3:$M$105,3,FALSE)*P68,\"\")","v":""},{"$f":"IFERROR(VLOOKUP(A68,STAGIONALITA!$A$3:$M$105,4,FALSE)*P68,\"\")","v":""},{"$f":"IFERROR(VLOOKUP(A68,STAGIONALITA!$A$3:$M$105,5,FALSE)*P68,\"\")","v":""},{"$f":"IFERROR(VLOOKUP(A68,STAGIONALITA!$A$3:$M$105,6,FALSE)*P68,\"\")","v":""},{"$f":"IFERROR(VLOOKUP(A68,STAGIONALITA!$A$3:$M$105,7,FALSE)*P68,\"\")","v":""},{"$f":"IFERROR(VLOOKUP(A68,STAGIONALITA!$A$3:$M$105,8,FALSE)*P68,\"\")","v":""},{"$f":"IFERROR(VLOOKUP(A68,STAGIONALITA!$A$3:$M$105,9,FALSE)*P68,\"\")","v":""},{"$f":"IFERROR(VLOOKUP(A68,STAGIONALITA!$A$3:$M$105,10,FALSE)*P68,\"\")","v":""},{"$f":"IFERROR(VLOOKUP(A68,STAGIONALITA!$A$3:$M$105,11,FALSE)*P68,\"\")","v":""},{"$f":"IFERROR(VLOOKUP(A68,STAGIONALITA!$A$3:$M$105,12,FALSE)*P68,\"\")","v":""},{"$f":"IFERROR(VLOOKUP(A68,STAGIONALITA!$A$3:$M$105,13,FALSE)*P68,\"\")","v":""}]
["",{"$f":"IFERROR(VLOOKUP(A69,STAGIONALITA!$A$3:$M$105,2,FALSE)*P69,\"\")","v":""},{"$f":"IFERROR(VLOOKUP(A69,STAGIONALITA!$A$3:$M$105,3,FALSE)*P69,\"\")","v":""},{"$f":"IFERROR(VLOOKUP(A69,STAGIONALITA!$A$3:$M$105,4,FALSE)*P69,\"\")","v":""},{"$f":"IFERROR(VLOOKUP(A69,STAGIONALITA!$A$3:$M$105,5,FALSE)*P69,\"\")","v":""},{"$f":"IFERROR(VLOOKUP(A69,STAGIONALITA!$A$3:$M$105,6,FALSE)*P69,\"\")","v":""},{"$f":"IFERROR(VLOOKUP(A69,STAGIONALITA!$A$3:$M$105,7,FALSE)*P69,\"\")","v":""},{"$f":"IFERROR(VLOOKUP(A69,STAGIONALITA!$A$3:$M$105,8,FALSE)*P69,\"\")","v":""},{"$f":"IFERROR(VLOOKUP(A69,STAGIONALITA!$A$3:$M$105,9,FALSE)*P69,\"\")","v":""},{"$f":"IFERROR(VLOOKUP(A69,STAGIONALITA!$A$3:$M$105,10,FALSE)*P69,\"\")","v":""},{"$f":"IFERROR(VLOOKUP(A69,STAGIONALITA!$A$3:$M$105,11,FALSE)*P69,\"\")","v":""},{"$f":"IFERROR(VLOOKUP(A69,STAGIONALITA!$A$3:$M$105,12,FALSE)*P69,\"\")","v":""},{"$f":"IFERROR(VLOOKUP(A69,STAGIONALITA!$A$3:$M$105,13,FALSE)*P69,\"\")","v":""}]
["",{"$f":"IFERROR(VLOOKUP(A70,STAGIONALITA!$A$3:$M$105,2,FALSE)*P70,\"\")","v":""},{"$f":"IFERROR(VLOOKUP(A70,STAGIONALITA!$A$3:$M$105,3,FALSE)*P70,\"\")","v":""},{"$f":"IFERROR(VLOOKUP(A70,STAGIONALITA!$A$3:$M$105,4,FALSE)*P70,\"\")","v":""},{"$f":"IFERROR(VLOOKUP(A70,STAGIONALITA!$A$3:$M$105,5,FALSE)*P70,\"\")","v":""},{"$f":"IFERROR(VLOOKUP(A70,STAGIONALITA!$A$3:$M$105,6,FALSE)*P70,\"\")","v":""},{"$f":"IFERROR(VLOOKUP(A70,STAGIONALITA!$A$3:$M$105,7,FALSE)*P70,\"\")","v":""},{"$f":"IFERROR(VLOOKUP(A70,STAGIONALITA!$A$3:$M$105,8,FALSE)*P70,\"\")","v":""},{"$f":"IFERROR(VLOOKUP(A70,STAGIONALITA!$A$3:$M$105,9,FALSE)*P70,\"\")","v":""},{"$f":"IFERROR(VLOOKUP(A70,STAGIONALITA!$A$3:$M$105,10,FALSE)*P70,\"\")","v":""},{"$f":"IFERROR(VLOOKUP(A70,STAGIONALITA!$A$3:$M$105,11,FALSE)*P70,\"\")","v":""},{"$f":"IFERROR(VLOOKUP(A70,STAGIONALITA!$A$3:$M$105,12,FALSE)*P70,\"\")","v":""},{"$f":"IFERROR(VLOOKUP(A70,STAGIONALITA!$A$3:$M$105,13,FALSE)*P70,\"\")","v":""}]
["",{"$f":"IFERROR(VLOOKUP(A71,STAGIONALITA!$A$3:$M$105,2,FALSE)*P71,\"\")","v":""},{"$f":"IFERROR(VLOOKUP(A71,STAGIONALITA!$A$3:$M$105,3,FALSE)*P71,\"\")","v":""},{"$f":"IFERROR(VLOOKUP(A71,STAGIONALITA!$A$3:$M$105,4,FALSE)*P71,\"\")","v":""},{"$f":"IFERROR(VLOOKUP(A71,STAGIONALITA!$A$3:$M$105,5,FALSE)*P71,\"\")","v":""},{"$f":"IFERROR(VLOOKUP(A71,STAGIONALITA!$A$3:$M$105,6,FALSE)*P71,\"\")","v":""},{"$f":"IFERROR(VLOOKUP(A71,STAGIONALITA!$A$3:$M$105,7,FALSE)*P71,\"\")","v":""},{"$f":"IFERROR(VLOOKUP(A71,STAGIONALITA!$A$3:$M$105,8,FALSE)*P71,\"\")","v":""},{"$f":"IFERROR(VLOOKUP(A71,STAGIONALITA!$A$3:$M$105,9,FALSE)*P71,\"\")","v":""},{"$f":"IFERROR(VLOOKUP(A71,STAGIONALITA!$A$3:$M$105,10,FALSE)*P71,\"\")","v":""},{"$f":"IFERROR(VLOOKUP(A71,STAGIONALITA!$A$3:$M$105,11,FALSE)*P71,\"\")","v":""},{"$f":"IFERROR(VLOOKUP(A71,STAGIONALITA!$A$3:$M$105,12,FALSE)*P71,\"\")","v":""},{"$f":"IFERROR(VLOOKUP(A71,STAGIONALITA!$A$3:$M$105,13,FALSE)*P71,\"\")","v":""}]
["",{"$f":"IFERROR(VLOOKUP(A72,STAGIONALITA!$A$3:$M$105,2,FALSE)*P72,\"\")","v":""},{"$f":"IFERROR(VLOOKUP(A72,STAGIONALITA!$A$3:$M$105,3,FALSE)*P72,\"\")","v":""},{"$f":"IFERROR(VLOOKUP(A72,STAGIONALITA!$A$3:$M$105,4,FALSE)*P72,\"\")","v":""},{"$f":"IFERROR(VLOOKUP(A72,STAGIONALITA!$A$3:$M$105,5,FALSE)*P72,\"\")","v":""},{"$f":"IFERROR(VLOOKUP(A72,STAGIONALITA!$A$3:$M$105,6,FALSE)*P72,\"\")","v":""},{"$f":"IFERROR(VLOOKUP(A72,STAGIONALITA!$A$3:$M$105,7,FALSE)*P72,\"\")","v":""},{"$f":"IFERROR(VLOOKUP(A72,STAGIONALITA!$A$3:$M$105,8,FALSE)*P72,\"\")","v":""},{"$f":"IFERROR(VLOOKUP(A72,STAGIONALITA!$A$3:$M$105,9,FALSE)*P72,\"\")","v":""},{"$f":"IFERROR(VLOOKUP(A72,STAGIONALITA!$A$3:$M$105,10,FALSE)*P72,\"\")","v":""},{"$f":"IFERROR(VLOOKUP(A72,STAGIONALITA!$A$3:$M$105,11,FALSE)*P72,\"\")","v":""},{"$f":"IFERROR(VLOOKUP(A72,STAGIONALITA!$A$3:$M$105,12,FALSE)*P72,\"\")","v":""},{"$f":"IFERROR(VLOOKUP(A72,STAGIONALITA!$A$3:$M$105,13,FALSE)*P72,\"\")","v":""}]
["",{"$f":"IFERROR(VLOOKUP(A73,STAGIONALITA!$A$3:$M$105,2,FALSE)*P73,\"\")","v":""},{"$f":"IFERROR(VLOOKUP(A73,STAGIONALITA!$A$3:$M$105,3,FALSE)*P73,\"\")","v":""},{"$f":"IFERROR(VLOOKUP(A73,STAGIONALITA!$A$3:$M$105,4,FALSE)*P73,\"\")","v":""},{"$f":"IFERROR(VLOOKUP(A73,STAGIONALITA!$A$3:$M$105,5,FALSE)*P73,\"\")","v":""},{"$f":"IFERROR(VLOOKUP(A73,STAGIONALITA!$A$3:$M$105,6,FALSE)*P73,\"\")","v":""},{"$f":"IFERROR(VLOOKUP(A73,STAGIONALITA!$A$3:$M$105,7,FALSE)*P73,\"\")","v":""},{"$f":"IFERROR(VLOOKUP(A73,STAGIONALITA!$A$3:$M$105,8,FALSE)*P73,\"\")","v":""},{"$f":"IFERROR(VLOOKUP(A73,STAGIONALITA!$A$3:$M$105,9,FALSE)*P73,\"\")","v":""},{"$f":"IFERROR(VLOOKUP(A73,STAGIONALITA!$A$3:$M$105,10,FALSE)*P73,\"\")","v":""},{"$f":"IFERROR(VLOOKUP(A73,STAGIONALITA!$A$3:$M$105,11,FALSE)*P73,\"\")","v":""},{"$f":"IFERROR(VLOOKUP(A73,STAGIONALITA!$A$3:$M$105,12,FALSE)*P73,\"\")","v":""},{"$f":"IFERROR(VLOOKUP(A73,STAGIONALITA!$A$3:$M$105,13,FALSE)*P73,\"\")","v":""}]
["",{"$f":"IFERROR(VLOOKUP(A74,STAGIONALITA!$A$3:$M$105,2,FALSE)*P74,\"\")","v":""},{"$f":"IFERROR(VLOOKUP(A74,STAGIONALITA!$A$3:$M$105,3,FALSE)*P74,\"\")","v":""},{"$f":"IFERROR(VLOOKUP(A74,STAGIONALITA!$A$3:$M$105,4,FALSE)*P74,\"\")","v":""},{"$f":"IFERROR(VLOOKUP(A74,STAGIONALITA!$A$3:$M$105,5,FALSE)*P74,\"\")","v":""},{"$f":"IFERROR(VLOOKUP(A74,STAGIONALITA!$A$3:$M$105,6,FALSE)*P74,\"\")","v":""},{"$f":"IFERROR(VLOOKUP(A74,STAGIONALITA!$A$3:$M$105,7,FALSE)*P74,\"\")","v":""},{"$f":"IFERROR(VLOOKUP(A74,STAGIONALITA!$A$3:$M$105,8,FALSE)*P74,\"\")","v":""},{"$f":"IFERROR(VLOOKUP(A74,STAGIONALITA!$A$3:$M$105,9,FALSE)*P74,\"\")","v":""},{"$f":"IFERROR(VLOOKUP(A74,STAGIONALITA!$A$3:$M$105,10,FALSE)*P74,\"\")","v":""},{"$f":"IFERROR(VLOOKUP(A74,STAGIONALITA!$A$3:$M$105,11,FALSE)*P74,\"\")","v":""},{"$f":"IFERROR(VLOOKUP(A74,STAGIONALITA!$A$3:$M$105,12,FALSE)*P74,\"\")","v":""},{"$f":"IFERROR(VLOOKUP(A74,STAGIONALITA!$A$3:$M$105,13,FALSE)*P74,\"\")","v":""}]
["",{"$f":"IFERROR(VLOOKUP(A75,STAGIONALITA!$A$3:$M$105,2,FALSE)*P75,\"\")","v":""},{"$f":"IFERROR(VLOOKUP(A75,STAGIONALITA!$A$3:$M$105,3,FALSE)*P75,\"\")","v":""},{"$f":"IFERROR(VLOOKUP(A75,STAGIONALITA!$A$3:$M$105,4,FALSE)*P75,\"\")","v":""},{"$f":"IFERROR(VLOOKUP(A75,STAGIONALITA!$A$3:$M$105,5,FALSE)*P75,\"\")","v":""},{"$f":"IFERROR(VLOOKUP(A75,STAGIONALITA!$A$3:$M$105,6,FALSE)*P75,\"\")","v":""},{"$f":"IFERROR(VLOOKUP(A75,STAGIONALITA!$A$3:$M$105,7,FALSE)*P75,\"\")","v":""},{"$f":"IFERROR(VLOOKUP(A75,STAGIONALITA!$A$3:$M$105,8,FALSE)*P75,\"\")","v":""},{"$f":"IFERROR(VLOOKUP(A75,STAGIONALITA!$A$3:$M$105,9,FALSE)*P75,\"\")","v":""},{"$f":"IFERROR(VLOOKUP(A75,STAGIONALITA!$A$3:$M$105,10,FALSE)*P75,\"\")","v":""},{"$f":"IFERROR(VLOOKUP(A75,STAGIONALITA!$A$3:$M$105,11,FALSE)*P75,\"\")","v":""},{"$f":"IFERROR(VLOOKUP(A75,STAGIONALITA!$A$3:$M$105,12,FALSE)*P75,\"\")","v":""},{"$f":"IFERROR(VLOOKUP(A75,STAGIONALITA!$A$3:$M$105,13,FALSE)*P75,\"\")","v":""}]
["",{"$f":"IFERROR(VLOOKUP(A76,STAGIONALITA!$A$3:$M$105,2,FALSE)*P76,\"\")","v":""},{"$f":"IFERROR(VLOOKUP(A76,STAGIONALITA!$A$3:$M$105,3,FALSE)*P76,\"\")","v":""},{"$f":"IFERROR(VLOOKUP(A76,STAGIONALITA!$A$3:$M$105,4,FALSE)*P76,\"\")","v":""},{"$f":"IFERROR(VLOOKUP(A76,STAGIONALITA!$A$3:$M$105,5,FALSE)*P76,\"\")","v":""},{"$f":"IFERROR(VLOOKUP(A76,STAGIONALITA!$A$3:$M$105,6,FALSE)*P76,\"\")","v":""},{"$f":"IFERROR(VLOOKUP(A76,STAGIONALITA!$A$3:$M$105,7,FALSE)*P76,\"\")","v":""},{"$f":"IFERROR(VLOOKUP(A76,STAGIONALITA!$A$3:$M$105,8,FALSE)*P76,\"\")","v":""},{"$f":"IFERROR(VLOOKUP(A76,STAGIONALITA!$A$3:$M$105,9,FALSE)*P76,\"\")","v":""},{"$f":"IFERROR(VLOOKUP(A76,STAGIONALITA!$A$3:$M$105,10,FALSE)*P76,\"\")","v":""},{"$f":"IFERROR(VLOOKUP(A76,STAGIONALITA!$A$3:$M$105,11,FALSE)*P76,\"\")","v":""},{"$f":"IFERROR(VLOOKUP(A76,STAGIONALITA!$A$3:$M$105,12,FALSE)*P76,\"\")","v":""},{"$f":"IFERROR(VLOOKUP(A76,STAGIONALITA!$A$3:$M$105,13,FALSE)*P76,\"\")","v":""}]
["",{"$f":"IFERROR(VLOOKUP(A77,STAGIONALITA!$A$3:$M$105,2,FALSE)*P77,\"\")","v":""},{"$f":"IFERROR(VLOOKUP(A77,STAGIONALITA!$A$3:$M$105,3,FALSE)*P77,\"\")","v":""},{"$f":"IFERROR(VLOOKUP(A77,STAGIONALITA!$A$3:$M$105,4,FALSE)*P77,\"\")","v":""},{"$f":"IFERROR(VLOOKUP(A77,STAGIONALITA!$A$3:$M$105,5,FALSE)*P77,\"\")","v":""},{"$f":"IFERROR(VLOOKUP(A77,STAGIONALITA!$A$3:$M$105,6,FALSE)*P77,\"\")","v":""},{"$f":"IFERROR(VLOOKUP(A77,STAGIONALITA!$A$3:$M$105,7,FALSE)*P77,\"\")","v":""},{"$f":"IFERROR(VLOOKUP(A77,STAGIONALITA!$A$3:$M$105,8,FALSE)*P77,\"\")","v":""},{"$f":"IFERROR(VLOOKUP(A77,STAGIONALITA!$A$3:$M$105,9,FALSE)*P77,\"\")","v":""},{"$f":"IFERROR(VLOOKUP(A77,STAGIONALITA!$A$3:$M$105,10,FALSE)*P77,\"\")","v":""},{"$f":"IFERROR(VLOOKUP(A77,STAGIONALITA!$A$3:$M$105,11,FALSE)*P77,\"\")","v":""},{"$f":"IFERROR(VLOOKUP(A77,STAGIONALITA!$A$3:$M$105,12,FALSE)*P77,\"\")","v":""},{"$f":"IFERROR(VLOOKUP(A77,STAGIONALITA!$A$3:$M$105,13,FALSE)*P77,\"\")","v":""}]
["",{"$f":"IFERROR(VLOOKUP(A78,STAGIONALITA!$A$3:$M$105,2,FALSE)*P78,\"\")","v":""},{"$f":"IFERROR(VLOOKUP(A78,STAGIONALITA!$A$3:$M$105,3,FALSE)*P78,\"\")","v":""},{"$f":"IFERROR(VLOOKUP(A78,STAGIONALITA!$A$3:$M$105,4,FALSE)*P78,\"\")","v":""},{"$f":"IFERROR(VLOOKUP(A78,STAGIONALITA!$A$3:$M$105,5,FALSE)*P78,\"\")","v":""},{"$f":"IFERROR(VLOOKUP(A78,STAGIONALITA!$A$3:$M$105,6,FALSE)*P78,\"\")","v":""},{"$f":"IFERROR(VLOOKUP(A78,STAGIONALITA!$A$3:$M$105,7,FALSE)*P78,\"\")","v":""},{"$f":"IFERROR(VLOOKUP(A78,STAGIONALITA!$A$3:$M$105,8,FALSE)*P78,\"\")","v":""},{"$f":"IFERROR(VLOOKUP(A78,STAGIONALITA!$A$3:$M$105,9,FALSE)*P78,\"\")","v":""},{"$f":"IFERROR(VLOOKUP(A78,STAGIONALITA!$A$3:$M$105,10,FALSE)*P78,\"\")","v":""},{"$f":"IFERROR(VLOOKUP(A78,STAGIONALITA!$A$3:$M$105,11,FALSE)*P78,\"\")","v":""},{"$f":"IFERROR(VLOOKUP(A78,STAGIONALITA!$A$3:$M$105,12,FALSE)*P78,\"\")","v":""},{"$f":"IFERROR(VLOOKUP(A78,STAGIONALITA!$A$3:$M$105,13,FALSE)*P78,\"\")","v":""}]
["",{"$f":"IFERROR(VLOOKUP(A79,STAGIONALITA!$A$3:$M$105,2,FALSE)*P79,\"\")","v":""},{"$f":"IFERROR(VLOOKUP(A79,STAGIONALITA!$A$3:$M$105,3,FALSE)*P79,\"\")","v":""},{"$f":"IFERROR(VLOOKUP(A79,STAGIONALITA!$A$3:$M$105,4,FALSE)*P79,\"\")","v":""},{"$f":"IFERROR(VLOOKUP(A79,STAGIONALITA!$A$3:$M$105,5,FALSE)*P79,\"\")","v":""},{"$f":"IFERROR(VLOOKUP(A79,STAGIONALITA!$A$3:$M$105,6,FALSE)*P79,\"\")","v":""},{"$f":"IFERROR(VLOOKUP(A79,STAGIONALITA!$A$3:$M$105,7,FALSE)*P79,\"\")","v":""},{"$f":"IFERROR(VLOOKUP(A79,STAGIONALITA!$A$3:$M$105,8,FALSE)*P79,\"\")","v":""},{"$f":"IFERROR(VLOOKUP(A79,STAGIONALITA!$A$3:$M$105,9,FALSE)*P79,\"\")","v":""},{"$f":"IFERROR(VLOOKUP(A79,STAGIONALITA!$A$3:$M$105,10,FALSE)*P79,\"\")","v":""},{"$f":"IFERROR(VLOOKUP(A79,STAGIONALITA!$A$3:$M$105,11,FALSE)*P79,\"\")","v":""},{"$f":"IFERROR(VLOOKUP(A79,STAGIONALITA!$A$3:$M$105,12,FALSE)*P79,\"\")","v":""},{"$f":"IFERROR(VLOOKUP(A79,STAGIONALITA!$A$3:$M$105,13,FALSE)*P79,\"\")","v":""}]
["",{"$f":"IFERROR(VLOOKUP(A80,STAGIONALITA!$A$3:$M$105,2,FALSE)*P80,\"\")","v":""},{"$f":"IFERROR(VLOOKUP(A80,STAGIONALITA!$A$3:$M$105,3,FALSE)*P80,\"\")","v":""},{"$f":"IFERROR(VLOOKUP(A80,STAGIONALITA!$A$3:$M$105,4,FALSE)*P80,\"\")","v":""},{"$f":"IFERROR(VLOOKUP(A80,STAGIONALITA!$A$3:$M$105,5,FALSE)*P80,\"\")","v":""},{"$f":"IFERROR(VLOOKUP(A80,STAGIONALITA!$A$3:$M$105,6,FALSE)*P80,\"\")","v":""},{"$f":"IFERROR(VLOOKUP(A80,STAGIONALITA!$A$3:$M$105,7,FALSE)*P80,\"\")","v":""},{"$f":"IFERROR(VLOOKUP(A80,STAGIONALITA!$A$3:$M$105,8,FALSE)*P80,\"\")","v":""},{"$f":"IFERROR(VLOOKUP(A80,STAGIONALITA!$A$3:$M$105,9,FALSE)*P80,\"\")","v":""},{"$f":"IFERROR(VLOOKUP(A80,STAGIONALITA!$A$3:$M$105,10,FALSE)*P80,\"\")","v":""},{"$f":"IFERROR(VLOOKUP(A80,STAGIONALITA!$A$3:$M$105,11,FALSE)*P80,\"\")","v":""},{"$f":"IFERROR(VLOOKUP(A80,STAGIONALITA!$A$3:$M$105,12,FALSE)*P80,\"\")","v":""},{"$f":"IFERROR(VLOOKUP(A80,STAGIONALITA!$A$3:$M$105,13,FALSE)*P80,\"\")","v":""}]
["",{"$f":"IFERROR(VLOOKUP(A81,STAGIONALITA!$A$3:$M$105,2,FALSE)*P81,\"\")","v":""},{"$f":"IFERROR(VLOOKUP(A81,STAGIONALITA!$A$3:$M$105,3,FALSE)*P81,\"\")","v":""},{"$f":"IFERROR(VLOOKUP(A81,STAGIONALITA!$A$3:$M$105,4,FALSE)*P81,\"\")","v":""},{"$f":"IFERROR(VLOOKUP(A81,STAGIONALITA!$A$3:$M$105,5,FALSE)*P81,\"\")","v":""},{"$f":"IFERROR(VLOOKUP(A81,STAGIONALITA!$A$3:$M$105,6,FALSE)*P81,\"\")","v":""},{"$f":"IFERROR(VLOOKUP(A81,STAGIONALITA!$A$3:$M$105,7,FALSE)*P81,\"\")","v":""},{"$f":"IFERROR(VLOOKUP(A81,STAGIONALITA!$A$3:$M$105,8,FALSE)*P81,\"\")","v":""},{"$f":"IFERROR(VLOOKUP(A81,STAGIONALITA!$A$3:$M$105,9,FALSE)*P81,\"\")","v":""},{"$f":"IFERROR(VLOOKUP(A81,STAGIONALITA!$A$3:$M$105,10,FALSE)*P81,\"\")","v":""},{"$f":"IFERROR(VLOOKUP(A81,STAGIONALITA!$A$3:$M$105,11,FALSE)*P81,\"\")","v":""},{"$f":"IFERROR(VLOOKUP(A81,STAGIONALITA!$A$3:$M$105,12,FALSE)*P81,\"\")","v":""},{"$f":"IFERROR(VLOOKUP(A81,STAGIONALITA!$A$3:$M$105,13,FALSE)*P81,\"\")","v":""}]
["",{"$f":"IFERROR(VLOOKUP(A82,STAGIONALITA!$A$3:$M$105,2,FALSE)*P82,\"\")","v":""},{"$f":"IFERROR(VLOOKUP(A82,STAGIONALITA!$A$3:$M$105,3,FALSE)*P82,\"\")","v":""},{"$f":"IFERROR(VLOOKUP(A82,STAGIONALITA!$A$3:$M$105,4,FALSE)*P82,\"\")","v":""},{"$f":"IFERROR(VLOOKUP(A82,STAGIONALITA!$A$3:$M$105,5,FALSE)*P82,\"\")","v":""},{"$f":"IFERROR(VLOOKUP(A82,STAGIONALITA!$A$3:$M$105,6,FALSE)*P82,\"\")","v":""},{"$f":"IFERROR(VLOOKUP(A82,STAGIONALITA!$A$3:$M$105,7,FALSE)*P82,\"\")","v":""},{"$f":"IFERROR(VLOOKUP(A82,STAGIONALITA!$A$3:$M$105,8,FALSE)*P82,\"\")","v":""},{"$f":"IFERROR(VLOOKUP(A82,STAGIONALITA!$A$3:$M$105,9,FALSE)*P82,\"\")","v":""},{"$f":"IFERROR(VLOOKUP(A82,STAGIONALITA!$A$3:$M$105,10,FALSE)*P82,\"\")","v":""},{"$f":"IFERROR(VLOOKUP(A82,STAGIONALITA!$A$3:$M$105,11,FALSE)*P82,\"\")","v":""},{"$f":"IFERROR(VLOOKUP(A82,STAGIONALITA!$A$3:$M$105,12,FALSE)*P82,\"\")","v":""},{"$f":"IFERROR(VLOOKUP(A82,STAGIONALITA!$A$3:$M$105,13,FALSE)*P82,\"\")","v":""}]
["",{"$f":"IFERROR(VLOOKUP(A83,STAGIONALITA!$A$3:$M$105,2,FALSE)*P83,\"\")","v":""},{"$f":"IFERROR(VLOOKUP(A83,STAGIONALITA!$A$3:$M$105,3,FALSE)*P83,\"\")","v":""},{"$f":"IFERROR(VLOOKUP(A83,STAGIONALITA!$A$3:$M$105,4,FALSE)*P83,\"\")","v":""},{"$f":"IFERROR(VLOOKUP(A83,STAGIONALITA!$A$3:$M$105,5,FALSE)*P83,\"\")","v":""},{"$f":"IFERROR(VLOOKUP(A83,STAGIONALITA!$A$3:$M$105,6,FALSE)*P83,\"\")","v":""},{"$f":"IFERROR(VLOOKUP(A83,STAGIONALITA!$A$3:$M$105,7,FALSE)*P83,\"\")","v":""},{"$f":"IFERROR(VLOOKUP(A83,STAGIONALITA!$A$3:$M$105,8,FALSE)*P83,\"\")","v":""},{"$f":"IFERROR(VLOOKUP(A83,STAGIONALITA!$A$3:$M$105,9,FALSE)*P83,\"\")","v":""},{"$f":"IFERROR(VLOOKUP(A83,STAGIONALITA!$A$3:$M$105,10,FALSE)*P83,\"\")","v":""},{"$f":"IFERROR(VLOOKUP(A83,STAGIONALITA!$A$3:$M$105,11,FALSE)*P83,\"\")","v":""},{"$f":"IFERROR(VLOOKUP(A83,STAGIONALITA!$A$3:$M$105,12,FALSE)*P83,\"\")","v":""},{"$f":"IFERROR(VLOOKUP(A83,STAGIONALITA!$A$3:$M$105,13,FALSE)*P83,\"\")","v":""}]
["",{"$f":"IFERROR(VLOOKUP(A84,STAGIONALITA!$A$3:$M$105,2,FALSE)*P84,\"\")","v":""},{"$f":"IFERROR(VLOOKUP(A84,STAGIONALITA!$A$3:$M$105,3,FALSE)*P84,\"\")","v":""},{"$f":"IFERROR(VLOOKUP(A84,STAGIONALITA!$A$3:$M$105,4,FALSE)*P84,\"\")","v":""},{"$f":"IFERROR(VLOOKUP(A84,STAGIONALITA!$A$3:$M$105,5,FALSE)*P84,\"\")","v":""},{"$f":"IFERROR(VLOOKUP(A84,STAGIONALITA!$A$3:$M$105,6,FALSE)*P84,\"\")","v":""},{"$f":"IFERROR(VLOOKUP(A84,STAGIONALITA!$A$3:$M$105,7,FALSE)*P84,\"\")","v":""},{"$f":"IFERROR(VLOOKUP(A84,STAGIONALITA!$A$3:$M$105,8,FALSE)*P84,\"\")","v":""},{"$f":"IFERROR(VLOOKUP(A84,STAGIONALITA!$A$3:$M$105,9,FALSE)*P84,\"\")","v":""},{"$f":"IFERROR(VLOOKUP(A84,STAGIONALITA!$A$3:$M$105,10,FALSE)*P84,\"\")","v":""},{"$f":"IFERROR(VLOOKUP(A84,STAGIONALITA!$A$3:$M$105,11,FALSE)*P84,\"\")","v":""},{"$f":"IFERROR(VLOOKUP(A84,STAGIONALITA!$A$3:$M$105,12,FALSE)*P84,\"\")","v":""},{"$f":"IFERROR(VLOOKUP(A84,STAGIONALITA!$A$3:$M$105,13,FALSE)*P84,\"\")","v":""}]
["",{"$f":"IFERROR(VLOOKUP(A85,STAGIONALITA!$A$3:$M$105,2,FALSE)*P85,\"\")","v":""},{"$f":"IFERROR(VLOOKUP(A85,STAGIONALITA!$A$3:$M$105,3,FALSE)*P85,\"\")","v":""},{"$f":"IFERROR(VLOOKUP(A85,STAGIONALITA!$A$3:$M$105,4,FALSE)*P85,\"\")","v":""},{"$f":"IFERROR(VLOOKUP(A85,STAGIONALITA!$A$3:$M$105,5,FALSE)*P85,\"\")","v":""},{"$f":"IFERROR(VLOOKUP(A85,STAGIONALITA!$A$3:$M$105,6,FALSE)*P85,\"\")","v":""},{"$f":"IFERROR(VLOOKUP(A85,STAGIONALITA!$A$3:$M$105,7,FALSE)*P85,\"\")","v":""},{"$f":"IFERROR(VLOOKUP(A85,STAGIONALITA!$A$3:$M$105,8,FALSE)*P85,\"\")","v":""},{"$f":"IFERROR(VLOOKUP(A85,STAGIONALITA!$A$3:$M$105,9,FALSE)*P85,\"\")","v":""},{"$f":"IFERROR(VLOOKUP(A85,STAGIONALITA!$A$3:$M$105,10,FALSE)*P85,\"\")","v":""},{"$f":"IFERROR(VLOOKUP(A85,STAGIONALITA!$A$3:$M$105,11,FALSE)*P85,\"\")","v":""},{"$f":"IFERROR(VLOOKUP(A85,STAGIONALITA!$A$3:$M$105,12,FALSE)*P85,\"\")","v":""},{"$f":"IFERROR(VLOOKUP(A85,STAGIONALITA!$A$3:$M$105,13,FALSE)*P85,\"\")","v":""}]
["",{"$f":"IFERROR(VLOOKUP(A86,STAGIONALITA!$A$3:$M$105,2,FALSE)*P86,\"\")","v":""},{"$f":"IFERROR(VLOOKUP(A86,STAGIONALITA!$A$3:$M$105,3,FALSE)*P86,\"\")","v":""},{"$f":"IFERROR(VLOOKUP(A86,STAGIONALITA!$A$3:$M$105,4,FALSE)*P86,\"\")","v":""},{"$f":"IFERROR(VLOOKUP(A86,STAGIONALITA!$A$3:$M$105,5,FALSE)*P86,\"\")","v":""},{"$f":"IFERROR(VLOOKUP(A86,STAGIONALITA!$A$3:$M$105,6,FALSE)*P86,\"\")","v":""},{"$f":"IFERROR(VLOOKUP(A86,STAGIONALITA!$A$3:$M$105,7,FALSE)*P86,\"\")","v":""},{"$f":"IFERROR(VLOOKUP(A86,STAGIONALITA!$A$3:$M$105,8,FALSE)*P86,\"\")","v":""},{"$f":"IFERROR(VLOOKUP(A86,STAGIONALITA!$A$3:$M$105,9,FALSE)*P86,\"\")","v":""},{"$f":"IFERROR(VLOOKUP(A86,STAGIONALITA!$A$3:$M$105,10,FALSE)*P86,\"\")","v":""},{"$f":"IFERROR(VLOOKUP(A86,STAGIONALITA!$A$3:$M$105,11,FALSE)*P86,\"\")","v":""},{"$f":"IFERROR(VLOOKUP(A86,STAGIONALITA!$A$3:$M$105,12,FALSE)*P86,\"\")","v":""},{"$f":"IFERROR(VLOOKUP(A86,STAGIONALITA!$A$3:$M$105,13,FALSE)*P86,\"\")","v":""}]
["",{"$f":"IFERROR(VLOOKUP(A87,STAGIONALITA!$A$3:$M$105,2,FALSE)*P87,\"\")","v":""},{"$f":"IFERROR(VLOOKUP(A87,STAGIONALITA!$A$3:$M$105,3,FALSE)*P87,\"\")","v":""},{"$f":"IFERROR(VLOOKUP(A87,STAGIONALITA!$A$3:$M$105,4,FALSE)*P87,\"\")","v":""},{"$f":"IFERROR(VLOOKUP(A87,STAGIONALITA!$A$3:$M$105,5,FALSE)*P87,\"\")","v":""},{"$f":"IFERROR(VLOOKUP(A87,STAGIONALITA!$A$3:$M$105,6,FALSE)*P87,\"\")","v":""},{"$f":"IFERROR(VLOOKUP(A87,STAGIONALITA!$A$3:$M$105,7,FALSE)*P87,\"\")","v":""},{"$f":"IFERROR(VLOOKUP(A87,STAGIONALITA!$A$3:$M$105,8,FALSE)*P87,\"\")","v":""},{"$f":"IFERROR(VLOOKUP(A87,STAGIONALITA!$A$3:$M$105,9,FALSE)*P87,\"\")","v":""},{"$f":"IFERROR(VLOOKUP(A87,STAGIONALITA!$A$3:$M$105,10,FALSE)*P87,\"\")","v":""},{"$f":"IFERROR(VLOOKUP(A87,STAGIONALITA!$A$3:$M$105,11,FALSE)*P87,\"\")","v":""},{"$f":"IFERROR(VLOOKUP(A87,STAGIONALITA!$A$3:$M$105,12,FALSE)*P87,\"\")","v":""},{"$f":"IFERROR(VLOOKUP(A87,STAGIONALITA!$A$3:$M$105,13,FALSE)*P87,\"\")","v":""}]
["",{"$f":"IFERROR(VLOOKUP(A88,STAGIONALITA!$A$3:$M$105,2,FALSE)*P88,\"\")","v":""},{"$f":"IFERROR(VLOOKUP(A88,STAGIONALITA!$A$3:$M$105,3,FALSE)*P88,\"\")","v":""},{"$f":"IFERROR(VLOOKUP(A88,STAGIONALITA!$A$3:$M$105,4,FALSE)*P88,\"\")","v":""},{"$f":"IFERROR(VLOOKUP(A88,STAGIONALITA!$A$3:$M$105,5,FALSE)*P88,\"\")","v":""},{"$f":"IFERROR(VLOOKUP(A88,STAGIONALITA!$A$3:$M$105,6,FALSE)*P88,\"\")","v":""},{"$f":"IFERROR(VLOOKUP(A88,STAGIONALITA!$A$3:$M$105,7,FALSE)*P88,\"\")","v":""},{"$f":"IFERROR(VLOOKUP(A88,STAGIONALITA!$A$3:$M$105,8,FALSE)*P88,\"\")","v":""},{"$f":"IFERROR(VLOOKUP(A88,STAGIONALITA!$A$3:$M$105,9,FALSE)*P88,\"\")","v":""},{"$f":"IFERROR(VLOOKUP(A88,STAGIONALITA!$A$3:$M$105,10,FALSE)*P88,\"\")","v":""},{"$f":"IFERROR(VLOOKUP(A88,STAGIONALITA!$A$3:$M$105,11,FALSE)*P88,\"\")","v":""},{"$f":"IFERROR(VLOOKUP(A88,STAGIONALITA!$A$3:$M$105,12,FALSE)*P88,\"\")","v":""},{"$f":"IFERROR(VLOOKUP(A88,STAGIONALITA!$A$3:$M$105,13,FALSE)*P88,\"\")","v":""}]
["",{"$f":"IFERROR(VLOOKUP(A89,STAGIONALITA!$A$3:$M$105,2,FALSE)*P89,\"\")","v":""},{"$f":"IFERROR(VLOOKUP(A89,STAGIONALITA!$A$3:$M$105,3,FALSE)*P89,\"\")","v":""},{"$f":"IFERROR(VLOOKUP(A89,STAGIONALITA!$A$3:$M$105,4,FALSE)*P89,\"\")","v":""},{"$f":"IFERROR(VLOOKUP(A89,STAGIONALITA!$A$3:$M$105,5,FALSE)*P89,\"\")","v":""},{"$f":"IFERROR(VLOOKUP(A89,STAGIONALITA!$A$3:$M$105,6,FALSE)*P89,\"\")","v":""},{"$f":"IFERROR(VLOOKUP(A89,STAGIONALITA!$A$3:$M$105,7,FALSE)*P89,\"\")","v":""},{"$f":"IFERROR(VLOOKUP(A89,STAGIONALITA!$A$3:$M$105,8,FALSE)*P89,\"\")","v":""},{"$f":"IFERROR(VLOOKUP(A89,STAGIONALITA!$A$3:$M$105,9,FALSE)*P89,\"\")","v":""},{"$f":"IFERROR(VLOOKUP(A89,STAGIONALITA!$A$3:$M$105,10,FALSE)*P89,\"\")","v":""},{"$f":"IFERROR(VLOOKUP(A89,STAGIONALITA!$A$3:$M$105,11,FALSE)*P89,\"\")","v":""},{"$f":"IFERROR(VLOOKUP(A89,STAGIONALITA!$A$3:$M$105,12,FALSE)*P89,\"\")","v":""},{"$f":"IFERROR(VLOOKUP(A89,STAGIONALITA!$A$3:$M$105,13,FALSE)*P89,\"\")","v":""}]
["",{"$f":"IFERROR(VLOOKUP(A90,STAGIONALITA!$A$3:$M$105,2,FALSE)*P90,\"\")","v":""},{"$f":"IFERROR(VLOOKUP(A90,STAGIONALITA!$A$3:$M$105,3,FALSE)*P90,\"\")","v":""},{"$f":"IFERROR(VLOOKUP(A90,STAGIONALITA!$A$3:$M$105,4,FALSE)*P90,\"\")","v":""},{"$f":"IFERROR(VLOOKUP(A90,STAGIONALITA!$A$3:$M$105,5,FALSE)*P90,\"\")","v":""},{"$f":"IFERROR(VLOOKUP(A90,STAGIONALITA!$A$3:$M$105,6,FALSE)*P90,\"\")","v":""},{"$f":"IFERROR(VLOOKUP(A90,STAGIONALITA!$A$3:$M$105,7,FALSE)*P90,\"\")","v":""},{"$f":"IFERROR(VLOOKUP(A90,STAGIONALITA!$A$3:$M$105,8,FALSE)*P90,\"\")","v":""},{"$f":"IFERROR(VLOOKUP(A90,STAGIONALITA!$A$3:$M$105,9,FALSE)*P90,\"\")","v":""},{"$f":"IFERROR(VLOOKUP(A90,STAGIONALITA!$A$3:$M$105,10,FALSE)*P90,\"\")","v":""},{"$f":"IFERROR(VLOOKUP(A90,STAGIONALITA!$A$3:$M$105,11,FALSE)*P90,\"\")","v":""},{"$f":"IFERROR(VLOOKUP(A90,STAGIONALITA!$A$3:$M$105,12,FALSE)*P90,\"\")","v":""},{"$f":"IFERROR(VLOOKUP(A90,STAGIONALITA!$A$3:$M$105,13,FALSE)*P90,\"\")","v":""}]
["",{"$f":"IFERROR(VLOOKUP(A91,STAGIONALITA!$A$3:$M$105,2,FALSE)*P91,\"\")","v":""},{"$f":"IFERROR(VLOOKUP(A91,STAGIONALITA!$A$3:$M$105,3,FALSE)*P91,\"\")","v":""},{"$f":"IFERROR(VLOOKUP(A91,STAGIONALITA!$A$3:$M$105,4,FALSE)*P91,\"\")","v":""},{"$f":"IFERROR(VLOOKUP(A91,STAGIONALITA!$A$3:$M$105,5,FALSE)*P91,\"\")","v":""},{"$f":"IFERROR(VLOOKUP(A91,STAGIONALITA!$A$3:$M$105,6,FALSE)*P91,\"\")","v":""},{"$f":"IFERROR(VLOOKUP(A91,STAGIONALITA!$A$3:$M$105,7,FALSE)*P91,\"\")","v":""},{"$f":"IFERROR(VLOOKUP(A91,STAGIONALITA!$A$3:$M$105,8,FALSE)*P91,\"\")","v":""},{"$f":"IFERROR(VLOOKUP(A91,STAGIONALITA!$A$3:$M$105,9,FALSE)*P91,\"\")","v":""},{"$f":"IFERROR(VLOOKUP(A91,STAGIONALITA!$A$3:$M$105,10,FALSE)*P91,\"\")","v":""},{"$f":"IFERROR(VLOOKUP(A91,STAGIONALITA!$A$3:$M$105,11,FALSE)*P91,\"\")","v":""},{"$f":"IFERROR(VLOOKUP(A91,STAGIONALITA!$A$3:$M$105,12,FALSE)*P91,\"\")","v":""},{"$f":"IFERROR(VLOOKUP(A91,STAGIONALITA!$A$3:$M$105,13,FALSE)*P91,\"\")","v":""}]
["",{"$f":"IFERROR(VLOOKUP(A92,STAGIONALITA!$A$3:$M$105,2,FALSE)*P92,\"\")","v":""},{"$f":"IFERROR(VLOOKUP(A92,STAGIONALITA!$A$3:$M$105,3,FALSE)*P92,\"\")","v":""},{"$f":"IFERROR(VLOOKUP(A92,STAGIONALITA!$A$3:$M$105,4,FALSE)*P92,\"\")","v":""},{"$f":"IFERROR(VLOOKUP(A92,STAGIONALITA!$A$3:$M$105,5,FALSE)*P92,\"\")","v":""},{"$f":"IFERROR(VLOOKUP(A92,STAGIONALITA!$A$3:$M$105,6,FALSE)*P92,\"\")","v":""},{"$f":"IFERROR(VLOOKUP(A92,STAGIONALITA!$A$3:$M$105,7,FALSE)*P92,\"\")","v":""},{"$f":"IFERROR(VLOOKUP(A92,STAGIONALITA!$A$3:$M$105,8,FALSE)*P92,\"\")","v":""},{"$f":"IFERROR(VLOOKUP(A92,STAGIONALITA!$A$3:$M$105,9,FALSE)*P92,\"\")","v":""},{"$f":"IFERROR(VLOOKUP(A92,STAGIONALITA!$A$3:$M$105,10,FALSE)*P92,\"\")","v":""},{"$f":"IFERROR(VLOOKUP(A92,STAGIONALITA!$A$3:$M$105,11,FALSE)*P92,\"\")","v":""},{"$f":"IFERROR(VLOOKUP(A92,STAGIONALITA!$A$3:$M$105,12,FALSE)*P92,\"\")","v":""},{"$f":"IFERROR(VLOOKUP(A92,STAGIONALITA!$A$3:$M$105,13,FALSE)*P92,\"\")","v":""}]
["",{"$f":"IFERROR(VLOOKUP(A93,STAGIONALITA!$A$3:$M$105,2,FALSE)*P93,\"\")","v":""},{"$f":"IFERROR(VLOOKUP(A93,STAGIONALITA!$A$3:$M$105,3,FALSE)*P93,\"\")","v":""},{"$f":"IFERROR(VLOOKUP(A93,STAGIONALITA!$A$3:$M$105,4,FALSE)*P93,\"\")","v":""},{"$f":"IFERROR(VLOOKUP(A93,STAGIONALITA!$A$3:$M$105,5,FALSE)*P93,\"\")","v":""},{"$f":"IFERROR(VLOOKUP(A93,STAGIONALITA!$A$3:$M$105,6,FALSE)*P93,\"\")","v":""},{"$f":"IFERROR(VLOOKUP(A93,STAGIONALITA!$A$3:$M$105,7,FALSE)*P93,\"\")","v":""},{"$f":"IFERROR(VLOOKUP(A93,STAGIONALITA!$A$3:$M$105,8,FALSE)*P93,\"\")","v":""},{"$f":"IFERROR(VLOOKUP(A93,STAGIONALITA!$A$3:$M$105,9,FALSE)*P93,\"\")","v":""},{"$f":"IFERROR(VLOOKUP(A93,STAGIONALITA!$A$3:$M$105,10,FALSE)*P93,\"\")","v":""},{"$f":"IFERROR(VLOOKUP(A93,STAGIONALITA!$A$3:$M$105,11,FALSE)*P93,\"\")","v":""},{"$f":"IFERROR(VLOOKUP(A93,STAGIONALITA!$A$3:$M$105,12,FALSE)*P93,\"\")","v":""},{"$f":"IFERROR(VLOOKUP(A93,STAGIONALITA!$A$3:$M$105,13,FALSE)*P93,\"\")","v":""}]
["",{"$f":"IFERROR(VLOOKUP(A94,STAGIONALITA!$A$3:$M$105,2,FALSE)*P94,\"\")","v":""},{"$f":"IFERROR(VLOOKUP(A94,STAGIONALITA!$A$3:$M$105,3,FALSE)*P94,\"\")","v":""},{"$f":"IFERROR(VLOOKUP(A94,STAGIONALITA!$A$3:$M$105,4,FALSE)*P94,\"\")","v":""},{"$f":"IFERROR(VLOOKUP(A94,STAGIONALITA!$A$3:$M$105,5,FALSE)*P94,\"\")","v":""},{"$f":"IFERROR(VLOOKUP(A94,STAGIONALITA!$A$3:$M$105,6,FALSE)*P94,\"\")","v":""},{"$f":"IFERROR(VLOOKUP(A94,STAGIONALITA!$A$3:$M$105,7,FALSE)*P94,\"\")","v":""},{"$f":"IFERROR(VLOOKUP(A94,STAGIONALITA!$A$3:$M$105,8,FALSE)*P94,\"\")","v":""},{"$f":"IFERROR(VLOOKUP(A94,STAGIONALITA!$A$3:$M$105,9,FALSE)*P94,\"\")","v":""},{"$f":"IFERROR(VLOOKUP(A94,STAGIONALITA!$A$3:$M$105,10,FALSE)*P94,\"\")","v":""},{"$f":"IFERROR(VLOOKUP(A94,STAGIONALITA!$A$3:$M$105,11,FALSE)*P94,\"\")","v":""},{"$f":"IFERROR(VLOOKUP(A94,STAGIONALITA!$A$3:$M$105,12,FALSE)*P94,\"\")","v":""},{"$f":"IFERROR(VLOOKUP(A94,STAGIONALITA!$A$3:$M$105,13,FALSE)*P94,\"\")","v":""}]
["",{"$f":"IFERROR(VLOOKUP(A95,STAGIONALITA!$A$3:$M$105,2,FALSE)*P95,\"\")","v":""},{"$f":"IFERROR(VLOOKUP(A95,STAGIONALITA!$A$3:$M$105,3,FALSE)*P95,\"\")","v":""},{"$f":"IFERROR(VLOOKUP(A95,STAGIONALITA!$A$3:$M$105,4,FALSE)*P95,\"\")","v":""},{"$f":"IFERROR(VLOOKUP(A95,STAGIONALITA!$A$3:$M$105,5,FALSE)*P95,\"\")","v":""},{"$f":"IFERROR(VLOOKUP(A95,STAGIONALITA!$A$3:$M$105,6,FALSE)*P95,\"\")","v":""},{"$f":"IFERROR(VLOOKUP(A95,STAGIONALITA!$A$3:$M$105,7,FALSE)*P95,\"\")","v":""},{"$f":"IFERROR(VLOOKUP(A95,STAGIONALITA!$A$3:$M$105,8,FALSE)*P95,\"\")","v":""},{"$f":"IFERROR(VLOOKUP(A95,STAGIONALITA!$A$3:$M$105,9,FALSE)*P95,\"\")","v":""},{"$f":"IFERROR(VLOOKUP(A95,STAGIONALITA!$A$3:$M$105,10,FALSE)*P95,\"\")","v":""},{"$f":"IFERROR(VLOOKUP(A95,STAGIONALITA!$A$3:$M$105,11,FALSE)*P95,\"\")","v":""},{"$f":"IFERROR(VLOOKUP(A95,STAGIONALITA!$A$3:$M$105,12,FALSE)*P95,\"\")","v":""},{"$f":"IFERROR(VLOOKUP(A95,STAGIONALITA!$A$3:$M$105,13,FALSE)*P95,\"\")","v":""}]
["",{"$f":"IFERROR(VLOOKUP(A96,STAGIONALITA!$A$3:$M$105,2,FALSE)*P96,\"\")","v":""},{"$f":"IFERROR(VLOOKUP(A96,STAGIONALITA!$A$3:$M$105,3,FALSE)*P96,\"\")","v":""},{"$f":"IFERROR(VLOOKUP(A96,STAGIONALITA!$A$3:$M$105,4,FALSE)*P96,\"\")","v":""},{"$f":"IFERROR(VLOOKUP(A96,STAGIONALITA!$A$3:$M$105,5,FALSE)*P96,\"\")","v":""},{"$f":"IFERROR(VLOOKUP(A96,STAGIONALITA!$A$3:$M$105,6,FALSE)*P96,\"\")","v":""},{"$f":"IFERROR(VLOOKUP(A96,STAGIONALITA!$A$3:$M$105,7,FALSE)*P96,\"\")","v":""},{"$f":"IFERROR(VLOOKUP(A96,STAGIONALITA!$A$3:$M$105,8,FALSE)*P96,\"\")","v":""},{"$f":"IFERROR(VLOOKUP(A96,STAGIONALITA!$A$3:$M$105,9,FALSE)*P96,\"\")","v":""},{"$f":"IFERROR(VLOOKUP(A96,STAGIONALITA!$A$3:$M$105,10,FALSE)*P96,\"\")","v":""},{"$f":"IFERROR(VLOOKUP(A96,STAGIONALITA!$A$3:$M$105,11,FALSE)*P96,\"\")","v":""},{"$f":"IFERROR(VLOOKUP(A96,STAGIONALITA!$A$3:$M$105,12,FALSE)*P96,\"\")","v":""},{"$f":"IFERROR(VLOOKUP(A96,STAGIONALITA!$A$3:$M$105,13,FALSE)*P96,\"\")","v":""}]
["",{"$f":"IFERROR(VLOOKUP(A97,STAGIONALITA!$A$3:$M$105,2,FALSE)*P97,\"\")","v":""},{"$f":"IFERROR(VLOOKUP(A97,STAGIONALITA!$A$3:$M$105,3,FALSE)*P97,\"\")","v":""},{"$f":"IFERROR(VLOOKUP(A97,STAGIONALITA!$A$3:$M$105,4,FALSE)*P97,\"\")","v":""},{"$f":"IFERROR(VLOOKUP(A97,STAGIONALITA!$A$3:$M$105,5,FALSE)*P97,\"\")","v":""},{"$f":"IFERROR(VLOOKUP(A97,STAGIONALITA!$A$3:$M$105,6,FALSE)*P97,\"\")","v":""},{"$f":"IFERROR(VLOOKUP(A97,STAGIONALITA!$A$3:$M$105,7,FALSE)*P97,\"\")","v":""},{"$f":"IFERROR(VLOOKUP(A97,STAGIONALITA!$A$3:$M$105,8,FALSE)*P97,\"\")","v":""},{"$f":"IFERROR(VLOOKUP(A97,STAGIONALITA!$A$3:$M$105,9,FALSE)*P97,\"\")","v":""},{"$f":"IFERROR(VLOOKUP(A97,STAGIONALITA!$A$3:$M$105,10,FALSE)*P97,\"\")","v":""},{"$f":"IFERROR(VLOOKUP(A97,STAGIONALITA!$A$3:$M$105,11,FALSE)*P97,\"\")","v":""},{"$f":"IFERROR(VLOOKUP(A97,STAGIONALITA!$A$3:$M$105,12,FALSE)*P97,\"\")","v":""},{"$f":"IFERROR(VLOOKUP(A97,STAGIONALITA!$A$3:$M$105,13,FALSE)*P97,\"\")","v":""}]
["",{"$f":"IFERROR(VLOOKUP(A98,STAGIONALITA!$A$3:$M$105,2,FALSE)*P98,\"\")","v":""},{"$f":"IFERROR(VLOOKUP(A98,STAGIONALITA!$A$3:$M$105,3,FALSE)*P98,\"\")","v":""},{"$f":"IFERROR(VLOOKUP(A98,STAGIONALITA!$A$3:$M$105,4,FALSE)*P98,\"\")","v":""},{"$f":"IFERROR(VLOOKUP(A98,STAGIONALITA!$A$3:$M$105,5,FALSE)*P98,\"\")","v":""},{"$f":"IFERROR(VLOOKUP(A98,STAGIONALITA!$A$3:$M$105,6,FALSE)*P98,\"\")","v":""},{"$f":"IFERROR(VLOOKUP(A98,STAGIONALITA!$A$3:$M$105,7,FALSE)*P98,\"\")","v":""},{"$f":"IFERROR(VLOOKUP(A98,STAGIONALITA!$A$3:$M$105,8,FALSE)*P98,\"\")","v":""},{"$f":"IFERROR(VLOOKUP(A98,STAGIONALITA!$A$3:$M$105,9,FALSE)*P98,\"\")","v":""},{"$f":"IFERROR(VLOOKUP(A98,STAGIONALITA!$A$3:$M$105,10,FALSE)*P98,\"\")","v":""},{"$f":"IFERROR(VLOOKUP(A98,STAGIONALITA!$A$3:$M$105,11,FALSE)*P98,\"\")","v":""},{"$f":"IFERROR(VLOOKUP(A98,STAGIONALITA!$A$3:$M$105,12,FALSE)*P98,\"\")","v":""},{"$f":"IFERROR(VLOOKUP(A98,STAGIONALITA!$A$3:$M$105,13,FALSE)*P98,\"\")","v":""}]
["",{"$f":"IFERROR(VLOOKUP(A99,STAGIONALITA!$A$3:$M$105,2,FALSE)*P99,\"\")","v":""},{"$f":"IFERROR(VLOOKUP(A99,STAGIONALITA!$A$3:$M$105,3,FALSE)*P99,\"\")","v":""},{"$f":"IFERROR(VLOOKUP(A99,STAGIONALITA!$A$3:$M$105,4,FALSE)*P99,\"\")","v":""},{"$f":"IFERROR(VLOOKUP(A99,STAGIONALITA!$A$3:$M$105,5,FALSE)*P99,\"\")","v":""},{"$f":"IFERROR(VLOOKUP(A99,STAGIONALITA!$A$3:$M$105,6,FALSE)*P99,\"\")","v":""},{"$f":"IFERROR(VLOOKUP(A99,STAGIONALITA!$A$3:$M$105,7,FALSE)*P99,\"\")","v":""},{"$f":"IFERROR(VLOOKUP(A99,STAGIONALITA!$A$3:$M$105,8,FALSE)*P99,\"\")","v":""},{"$f":"IFERROR(VLOOKUP(A99,STAGIONALITA!$A$3:$M$105,9,FALSE)*P99,\"\")","v":""},{"$f":"IFERROR(VLOOKUP(A99,STAGIONALITA!$A$3:$M$105,10,FALSE)*P99,\"\")","v":""},{"$f":"IFERROR(VLOOKUP(A99,STAGIONALITA!$A$3:$M$105,11,FALSE)*P99,\"\")","v":""},{"$f":"IFERROR(VLOOKUP(A99,STAGIONALITA!$A$3:$M$105,12,FALSE)*P99,\"\")","v":""},{"$f":"IFERROR(VLOOKUP(A99,STAGIONALITA!$A$3:$M$105,13,FALSE)*P99,\"\")","v":""}]
[{"$f":"IF(O100=0,\"\",O100)","v":""},{"$f":"IFERROR(VLOOKUP(A100,STAGIONALITA!$A$3:$M$105,2,FALSE)*P100,\"\")","v":""},{"$f":"IFERROR(VLOOKUP(A100,STAGIONALITA!$A$3:$M$105,3,FALSE)*P100,\"\")","v":""},{"$f":"IFERROR(VLOOKUP(A100,STAGIONALITA!$A$3:$M$105,4,FALSE)*P100,\"\")","v":""},{"$f":"IFERROR(VLOOKUP(A100,STAGIONALITA!$A$3:$M$105,5,FALSE)*P100,\"\")","v":""},{"$f":"IFERROR(VLOOKUP(A100,STAGIONALITA!$A$3:$M$105,6,FALSE)*P100,\"\")","v":""},{"$f":"IFERROR(VLOOKUP(A100,STAGIONALITA!$A$3:$M$105,7,FALSE)*P100,\"\")","v":""},{"$f":"IFERROR(VLOOKUP(A100,STAGIONALITA!$A$3:$M$105,8,FALSE)*P100,\"\")","v":""},{"$f":"IFERROR(VLOOKUP(A100,STAGIONALITA!$A$3:$M$105,9,FALSE)*P100,\"\")","v":""},{"$f":"IFERROR(VLOOKUP(A100,STAGIONALITA!$A$3:$M$105,10,FALSE)*P100,\"\")","v":""},{"$f":"IFERROR(VLOOKUP(A100,STAGIONALITA!$A$3:$M$105,11,FALSE)*P100,\"\")","v":""},{"$f":"IFERROR(VLOOKUP(A100,STAGIONALITA!$A$3:$M$105,12,FALSE)*P100,\"\")","v":""},{"$f":"IFERROR(VLOOKUP(A100,STAGIONALITA!$A$3:$M$105,13,FALSE)*P100,\"\")","v":""}]
["",{"$f":"IFERROR(VLOOKUP(A101,STAGIONALITA!$A$3:$M$105,2,FALSE)*P101,\"\")","v":""},{"$f":"IFERROR(VLOOKUP(A101,STAGIONALITA!$A$3:$M$105,3,FALSE)*P101,\"\")","v":""},{"$f":"IFERROR(VLOOKUP(A101,STAGIONALITA!$A$3:$M$105,4,FALSE)*P101,\"\")","v":""},{"$f":"IFERROR(VLOOKUP(A101,STAGIONALITA!$A$3:$M$105,5,FALSE)*P101,\"\")","v":""},{"$f":"IFERROR(VLOOKUP(A101,STAGIONALITA!$A$3:$M$105,6,FALSE)*P101,\"\")","v":""},{"$f":"IFERROR(VLOOKUP(A101,STAGIONALITA!$A$3:$M$105,7,FALSE)*P101,\"\")","v":""},{"$f":"IFERROR(VLOOKUP(A101,STAGIONALITA!$A$3:$M$105,8,FALSE)*P101,\"\")","v":""},{"$f":"IFERROR(VLOOKUP(A101,STAGIONALITA!$A$3:$M$105,9,FALSE)*P101,\"\")","v":""},{"$f":"IFERROR(VLOOKUP(A101,STAGIONALITA!$A$3:$M$105,10,FALSE)*P101,\"\")","v":""},{"$f":"IFERROR(VLOOKUP(A101,STAGIONALITA!$A$3:$M$105,11,FALSE)*P101,\"\")","v":""},{"$f":"IFERROR(VLOOKUP(A101,STAGIONALITA!$A$3:$M$105,12,FALSE)*P101,\"\")","v":""},{"$f":"IFERROR(VLOOKUP(A101,STAGIONALITA!$A$3:$M$105,13,FALSE)*P101,\"\")","v":""}]
["",{"$f":"IFERROR(VLOOKUP(A102,STAGIONALITA!$A$3:$M$105,2,FALSE)*P102,\"\")","v":""},{"$f":"IFERROR(VLOOKUP(A102,STAGIONALITA!$A$3:$M$105,3,FALSE)*P102,\"\")","v":""},{"$f":"IFERROR(VLOOKUP(A102,STAGIONALITA!$A$3:$M$105,4,FALSE)*P102,\"\")","v":""},{"$f":"IFERROR(VLOOKUP(A102,STAGIONALITA!$A$3:$M$105,5,FALSE)*P102,\"\")","v":""},{"$f":"IFERROR(VLOOKUP(A102,STAGIONALITA!$A$3:$M$105,6,FALSE)*P102,\"\")","v":""},{"$f":"IFERROR(VLOOKUP(A102,STAGIONALITA!$A$3:$M$105,7,FALSE)*P102,\"\")","v":""},{"$f":"IFERROR(VLOOKUP(A102,STAGIONALITA!$A$3:$M$105,8,FALSE)*P102,\"\")","v":""},{"$f":"IFERROR(VLOOKUP(A102,STAGIONALITA!$A$3:$M$105,9,FALSE)*P102,\"\")","v":""},{"$f":"IFERROR(VLOOKUP(A102,STAGIONALITA!$A$3:$M$105,10,FALSE)*P102,\"\")","v":""},{"$f":"IFERROR(VLOOKUP(A102,STAGIONALITA!$A$3:$M$105,11,FALSE)*P102,\"\")","v":""},{"$f":"IFERROR(VLOOKUP(A102,STAGIONALITA!$A$3:$M$105,12,FALSE)*P102,\"\")","v":""},{"$f":"IFERROR(VLOOKUP(A102,STAGIONALITA!$A$3:$M$105,13,FALSE)*P102,\"\")","v":""}]
["",{"$f":"IFERROR(VLOOKUP(A103,STAGIONALITA!$A$3:$M$105,2,FALSE)*P103,\"\")","v":""},{"$f":"IFERROR(VLOOKUP(A103,STAGIONALITA!$A$3:$M$105,3,FALSE)*P103,\"\")","v":""},{"$f":"IFERROR(VLOOKUP(A103,STAGIONALITA!$A$3:$M$105,4,FALSE)*P103,\"\")","v":""},{"$f":"IFERROR(VLOOKUP(A103,STAGIONALITA!$A$3:$M$105,5,FALSE)*P103,\"\")","v":""},{"$f":"IFERROR(VLOOKUP(A103,STAGIONALITA!$A$3:$M$105,6,FALSE)*P103,\"\")","v":""},{"$f":"IFERROR(VLOOKUP(A103,STAGIONALITA!$A$3:$M$105,7,FALSE)*P103,\"\")","v":""},{"$f":"IFERROR(VLOOKUP(A103,STAGIONALITA!$A$3:$M$105,8,FALSE)*P103,\"\")","v":""},{"$f":"IFERROR(VLOOKUP(A103,STAGIONALITA!$A$3:$M$105,9,FALSE)*P103,\"\")","v":""},{"$f":"IFERROR(VLOOKUP(A103,STAGIONALITA!$A$3:$M$105,10,FALSE)*P103,\"\")","v":""},{"$f":"IFERROR(VLOOKUP(A103,STAGIONALITA!$A$3:$M$105,11,FALSE)*P103,\"\")","v":""},{"$f":"IFERROR(VLOOKUP(A103,STAGIONALITA!$A$3:$M$105,12,FALSE)*P103,\"\")","v":""},{"$f":"IFERROR(VLOOKUP(A103,STAGIONALITA!$A$3:$M$105,13,FALSE)*P103,\"\")","v":""}]
["",{"$f":"IFERROR(VLOOKUP(A104,STAGIONALITA!$A$3:$M$105,2,FALSE)*P104,\"\")","v":""},{"$f":"IFERROR(VLOOKUP(A104,STAGIONALITA!$A$3:$M$105,3,FALSE)*P104,\"\")","v":""},{"$f":"IFERROR(VLOOKUP(A104,STAGIONALITA!$A$3:$M$105,4,FALSE)*P104,\"\")","v":""},{"$f":"IFERROR(VLOOKUP(A104,STAGIONALITA!$A$3:$M$105,5,FALSE)*P104,\"\")","v":""},{"$f":"IFERROR(VLOOKUP(A104,STAGIONALITA!$A$3:$M$105,6,FALSE)*P104,\"\")","v":""},{"$f":"IFERROR(VLOOKUP(A104,STAGIONALITA!$A$3:$M$105,7,FALSE)*P104,\"\")","v":""},{"$f":"IFERROR(VLOOKUP(A104,STAGIONALITA!$A$3:$M$105,8,FALSE)*P104,\"\")","v":""},{"$f":"IFERROR(VLOOKUP(A104,STAGIONALITA!$A$3:$M$105,9,FALSE)*P104,\"\")","v":""},{"$f":"IFERROR(VLOOKUP(A104,STAGIONALITA!$A$3:$M$105,10,FALSE)*P104,\"\")","v":""},{"$f":"IFERROR(VLOOKUP(A104,STAGIONALITA!$A$3:$M$105,11,FALSE)*P104,\"\")","v":""},{"$f":"IFERROR(VLOOKUP(A104,STAGIONALITA!$A$3:$M$105,12,FALSE)*P104,\"\")","v":""},{"$f":"IFERROR(VLOOKUP(A104,STAGIONALITA!$A$3:$M$105,13,FALSE)*P104,\"\")","v":""}]
["",{"$f":"IFERROR(VLOOKUP(A105,STAGIONALITA!$A$3:$M$105,2,FALSE)*P105,\"\")","v":""},{"$f":"IFERROR(VLOOKUP(A105,STAGIONALITA!$A$3:$M$105,3,FALSE)*P105,\"\")","v":""},{"$f":"IFERROR(VLOOKUP(A105,STAGIONALITA!$A$3:$M$105,4,FALSE)*P105,\"\")","v":""},{"$f":"IFERROR(VLOOKUP(A105,STAGIONALITA!$A$3:$M$105,5,FALSE)*P105,\"\")","v":""},{"$f":"IFERROR(VLOOKUP(A105,STAGIONALITA!$A$3:$M$105,6,FALSE)*P105,\"\")","v":""},{"$f":"IFERROR(VLOOKUP(A105,STAGIONALITA!$A$3:$M$105,7,FALSE)*P105,\"\")","v":""},{"$f":"IFERROR(VLOOKUP(A105,STAGIONALITA!$A$3:$M$105,8,FALSE)*P105,\"\")","v":""},{"$f":"IFERROR(VLOOKUP(A105,STAGIONALITA!$A$3:$M$105,9,FALSE)*P105,\"\")","v":""},{"$f":"IFERROR(VLOOKUP(A105,STAGIONALITA!$A$3:$M$105,10,FALSE)*P105,\"\")","v":""},{"$f":"IFERROR(VLOOKUP(A105,STAGIONALITA!$A$3:$M$105,11,FALSE)*P105,\"\")","v":""},{"$f":"IFERROR(VLOOKUP(A105,STAGIONALITA!$A$3:$M$105,12,FALSE)*P105,\"\")","v":""},{"$f":"IFERROR(VLOOKUP(A105,STAGIONALITA!$A$3:$M$105,13,FALSE)*P105,\"\")","v":""}]
["",{"$f":"IFERROR(VLOOKUP(A106,STAGIONALITA!$A$3:$M$105,2,FALSE)*P106,\"\")","v":""},{"$f":"IFERROR(VLOOKUP(A106,STAGIONALITA!$A$3:$M$105,3,FALSE)*P106,\"\")","v":""},{"$f":"IFERROR(VLOOKUP(A106,STAGIONALITA!$A$3:$M$105,4,FALSE)*P106,\"\")","v":""},{"$f":"IFERROR(VLOOKUP(A106,STAGIONALITA!$A$3:$M$105,5,FALSE)*P106,\"\")","v":""},{"$f":"IFERROR(VLOOKUP(A106,STAGIONALITA!$A$3:$M$105,6,FALSE)*P106,\"\")","v":""},{"$f":"IFERROR(VLOOKUP(A106,STAGIONALITA!$A$3:$M$105,7,FALSE)*P106,\"\")","v":""},{"$f":"IFERROR(VLOOKUP(A106,STAGIONALITA!$A$3:$M$105,8,FALSE)*P106,\"\")","v":""},{"$f":"IFERROR(VLOOKUP(A106,STAGIONALITA!$A$3:$M$105,9,FALSE)*P106,\"\")","v":""},{"$f":"IFERROR(VLOOKUP(A106,STAGIONALITA!$A$3:$M$105,10,FALSE)*P106,\"\")","v":""},{"$f":"IFERROR(VLOOKUP(A106,STAGIONALITA!$A$3:$M$105,11,FALSE)*P106,\"\")","v":""},{"$f":"IFERROR(VLOOKUP(A106,STAGIONALITA!$A$3:$M$105,12,FALSE)*P106,\"\")","v":""},{"$f":"IFERROR(VLOOKUP(A106,STAGIONALITA!$A$3:$M$105,13,FALSE)*P106,\"\")","v":""}]
["",{"$f":"IFERROR(VLOOKUP(A107,STAGIONALITA!$A$3:$M$105,2,FALSE)*P107,\"\")","v":""},{"$f":"IFERROR(VLOOKUP(A107,STAGIONALITA!$A$3:$M$105,3,FALSE)*P107,\"\")","v":""},{"$f":"IFERROR(VLOOKUP(A107,STAGIONALITA!$A$3:$M$105,4,FALSE)*P107,\"\")","v":""},{"$f":"IFERROR(VLOOKUP(A107,STAGIONALITA!$A$3:$M$105,5,FALSE)*P107,\"\")","v":""},{"$f":"IFERROR(VLOOKUP(A107,STAGIONALITA!$A$3:$M$105,6,FALSE)*P107,\"\")","v":""},{"$f":"IFERROR(VLOOKUP(A107,STAGIONALITA!$A$3:$M$105,7,FALSE)*P107,\"\")","v":""},{"$f":"IFERROR(VLOOKUP(A107,STAGIONALITA!$A$3:$M$105,8,FALSE)*P107,\"\")","v":""},{"$f":"IFERROR(VLOOKUP(A107,STAGIONALITA!$A$3:$M$105,9,FALSE)*P107,\"\")","v":""},{"$f":"IFERROR(VLOOKUP(A107,STAGIONALITA!$A$3:$M$105,10,FALSE)*P107,\"\")","v":""},{"$f":"IFERROR(VLOOKUP(A107,STAGIONALITA!$A$3:$M$105,11,FALSE)*P107,\"\")","v":""},{"$f":"IFERROR(VLOOKUP(A107,STAGIONALITA!$A$3:$M$105,12,FALSE)*P107,\"\")","v":""},{"$f":"IFERROR(VLOOKUP(A107,STAGIONALITA!$A$3:$M$105,13,FALSE)*P107,\"\")","v":""}]
["",{"$f":"IFERROR(VLOOKUP(A108,STAGIONALITA!$A$3:$M$105,2,FALSE)*P108,\"\")","v":""},{"$f":"IFERROR(VLOOKUP(A108,STAGIONALITA!$A$3:$M$105,3,FALSE)*P108,\"\")","v":""},{"$f":"IFERROR(VLOOKUP(A108,STAGIONALITA!$A$3:$M$105,4,FALSE)*P108,\"\")","v":""},{"$f":"IFERROR(VLOOKUP(A108,STAGIONALITA!$A$3:$M$105,5,FALSE)*P108,\"\")","v":""},{"$f":"IFERROR(VLOOKUP(A108,STAGIONALITA!$A$3:$M$105,6,FALSE)*P108,\"\")","v":""},{"$f":"IFERROR(VLOOKUP(A108,STAGIONALITA!$A$3:$M$105,7,FALSE)*P108,\"\")","v":""},{"$f":"IFERROR(VLOOKUP(A108,STAGIONALITA!$A$3:$M$105,8,FALSE)*P108,\"\")","v":""},{"$f":"IFERROR(VLOOKUP(A108,STAGIONALITA!$A$3:$M$105,9,FALSE)*P108,\"\")","v":""},{"$f":"IFERROR(VLOOKUP(A108,STAGIONALITA!$A$3:$M$105,10,FALSE)*P108,\"\")","v":""},{"$f":"IFERROR(VLOOKUP(A108,STAGIONALITA!$A$3:$M$105,11,FALSE)*P108,\"\")","v":""},{"$f":"IFERROR(VLOOKUP(A108,STAGIONALITA!$A$3:$M$105,12,FALSE)*P108,\"\")","v":""},{"$f":"IFERROR(VLOOKUP(A108,STAGIONALITA!$A$3:$M$105,13,FALSE)*P108,\"\")","v":""}]
["",{"$f":"IFERROR(VLOOKUP(A109,STAGIONALITA!$A$3:$M$105,2,FALSE)*P109,\"\")","v":""},{"$f":"IFERROR(VLOOKUP(A109,STAGIONALITA!$A$3:$M$105,3,FALSE)*P109,\"\")","v":""},{"$f":"IFERROR(VLOOKUP(A109,STAGIONALITA!$A$3:$M$105,4,FALSE)*P109,\"\")","v":""},{"$f":"IFERROR(VLOOKUP(A109,STAGIONALITA!$A$3:$M$105,5,FALSE)*P109,\"\")","v":""},{"$f":"IFERROR(VLOOKUP(A109,STAGIONALITA!$A$3:$M$105,6,FALSE)*P109,\"\")","v":""},{"$f":"IFERROR(VLOOKUP(A109,STAGIONALITA!$A$3:$M$105,7,FALSE)*P109,\"\")","v":""},{"$f":"IFERROR(VLOOKUP(A109,STAGIONALITA!$A$3:$M$105,8,FALSE)*P109,\"\")","v":""},{"$f":"IFERROR(VLOOKUP(A109,STAGIONALITA!$A$3:$M$105,9,FALSE)*P109,\"\")","v":""},{"$f":"IFERROR(VLOOKUP(A109,STAGIONALITA!$A$3:$M$105,10,FALSE)*P109,\"\")","v":""},{"$f":"IFERROR(VLOOKUP(A109,STAGIONALITA!$A$3:$M$105,11,FALSE)*P109,\"\")","v":""},{"$f":"IFERROR(VLOOKUP(A109,STAGIONALITA!$A$3:$M$105,12,FALSE)*P109,\"\")","v":""},{"$f":"IFERROR(VLOOKUP(A109,STAGIONALITA!$A$3:$M$105,13,FALSE)*P109,\"\")","v":""}]
["",{"$f":"IFERROR(VLOOKUP(A110,STAGIONALITA!$A$3:$M$105,2,FALSE)*P110,\"\")","v":""},{"$f":"IFERROR(VLOOKUP(A110,STAGIONALITA!$A$3:$M$105,3,FALSE)*P110,\"\")","v":""},{"$f":"IFERROR(VLOOKUP(A110,STAGIONALITA!$A$3:$M$105,4,FALSE)*P110,\"\")","v":""},{"$f":"IFERROR(VLOOKUP(A110,STAGIONALITA!$A$3:$M$105,5,FALSE)*P110,\"\")","v":""},{"$f":"IFERROR(VLOOKUP(A110,STAGIONALITA!$A$3:$M$105,6,FALSE)*P110,\"\")","v":""},{"$f":"IFERROR(VLOOKUP(A110,STAGIONALITA!$A$3:$M$105,7,FALSE)*P110,\"\")","v":""},{"$f":"IFERROR(VLOOKUP(A110,STAGIONALITA!$A$3:$M$105,8,FALSE)*P110,\"\")","v":""},{"$f":"IFERROR(VLOOKUP(A110,STAGIONALITA!$A$3:$M$105,9,FALSE)*P110,\"\")","v":""},{"$f":"IFERROR(VLOOKUP(A110,STAGIONALITA!$A$3:$M$105,10,FALSE)*P110,\"\")","v":""},{"$f":"IFERROR(VLOOKUP(A110,STAGIONALITA!$A$3:$M$105,11,FALSE)*P110,\"\")","v":""},{"$f":"IFERROR(VLOOKUP(A110,STAGIONALITA!$A$3:$M$105,12,FALSE)*P110,\"\")","v":""},{"$f":"IFERROR(VLOOKUP(A110,STAGIONALITA!$A$3:$M$105,13,FALSE)*P110,\"\")","v":""}]
["",{"$f":"IFERROR(VLOOKUP(A111,STAGIONALITA!$A$3:$M$105,2,FALSE)*P111,\"\")","v":""},{"$f":"IFERROR(VLOOKUP(A111,STAGIONALITA!$A$3:$M$105,3,FALSE)*P111,\"\")","v":""},{"$f":"IFERROR(VLOOKUP(A111,STAGIONALITA!$A$3:$M$105,4,FALSE)*P111,\"\")","v":""},{"$f":"IFERROR(VLOOKUP(A111,STAGIONALITA!$A$3:$M$105,5,FALSE)*P111,\"\")","v":""},{"$f":"IFERROR(VLOOKUP(A111,STAGIONALITA!$A$3:$M$105,6,FALSE)*P111,\"\")","v":""},{"$f":"IFERROR(VLOOKUP(A111,STAGIONALITA!$A$3:$M$105,7,FALSE)*P111,\"\")","v":""},{"$f":"IFERROR(VLOOKUP(A111,STAGIONALITA!$A$3:$M$105,8,FALSE)*P111,\"\")","v":""},{"$f":"IFERROR(VLOOKUP(A111,STAGIONALITA!$A$3:$M$105,9,FALSE)*P111,\"\")","v":""},{"$f":"IFERROR(VLOOKUP(A111,STAGIONALITA!$A$3:$M$105,10,FALSE)*P111,\"\")","v":""},{"$f":"IFERROR(VLOOKUP(A111,STAGIONALITA!$A$3:$M$105,11,FALSE)*P111,\"\")","v":""},{"$f":"IFERROR(VLOOKUP(A111,STAGIONALITA!$A$3:$M$105,12,FALSE)*P111,\"\")","v":""},{"$f":"IFERROR(VLOOKUP(A111,STAGIONALITA!$A$3:$M$105,13,FALSE)*P111,\"\")","v":""}]
["",{"$f":"IFERROR(VLOOKUP(A112,STAGIONALITA!$A$3:$M$105,2,FALSE)*P112,\"\")","v":""},{"$f":"IFERROR(VLOOKUP(A112,STAGIONALITA!$A$3:$M$105,3,FALSE)*P112,\"\")","v":""},{"$f":"IFERROR(VLOOKUP(A112,STAGIONALITA!$A$3:$M$105,4,FALSE)*P112,\"\")","v":""},{"$f":"IFERROR(VLOOKUP(A112,STAGIONALITA!$A$3:$M$105,5,FALSE)*P112,\"\")","v":""},{"$f":"IFERROR(VLOOKUP(A112,STAGIONALITA!$A$3:$M$105,6,FALSE)*P112,\"\")","v":""},{"$f":"IFERROR(VLOOKUP(A112,STAGIONALITA!$A$3:$M$105,7,FALSE)*P112,\"\")","v":""},{"$f":"IFERROR(VLOOKUP(A112,STAGIONALITA!$A$3:$M$105,8,FALSE)*P112,\"\")","v":""},{"$f":"IFERROR(VLOOKUP(A112,STAGIONALITA!$A$3:$M$105,9,FALSE)*P112,\"\")","v":""},{"$f":"IFERROR(VLOOKUP(A112,STAGIONALITA!$A$3:$M$105,10,FALSE)*P112,\"\")","v":""},{"$f":"IFERROR(VLOOKUP(A112,STAGIONALITA!$A$3:$M$105,11,FALSE)*P112,\"\")","v":""},{"$f":"IFERROR(VLOOKUP(A112,STAGIONALITA!$A$3:$M$105,12,FALSE)*P112,\"\")","v":""},{"$f":"IFERROR(VLOOKUP(A112,STAGIONALITA!$A$3:$M$105,13,FALSE)*P112,\"\")","v":""}]
["",{"$f":"IFERROR(VLOOKUP(A113,STAGIONALITA!$A$3:$M$105,2,FALSE)*P113,\"\")","v":""},{"$f":"IFERROR(VLOOKUP(A113,STAGIONALITA!$A$3:$M$105,3,FALSE)*P113,\"\")","v":""},{"$f":"IFERROR(VLOOKUP(A113,STAGIONALITA!$A$3:$M$105,4,FALSE)*P113,\"\")","v":""},{"$f":"IFERROR(VLOOKUP(A113,STAGIONALITA!$A$3:$M$105,5,FALSE)*P113,\"\")","v":""},{"$f":"IFERROR(VLOOKUP(A113,STAGIONALITA!$A$3:$M$105,6,FALSE)*P113,\"\")","v":""},{"$f":"IFERROR(VLOOKUP(A113,STAGIONALITA!$A$3:$M$105,7,FALSE)*P113,\"\")","v":""},{"$f":"IFERROR(VLOOKUP(A113,STAGIONALITA!$A$3:$M$105,8,FALSE)*P113,\"\")","v":""},{"$f":"IFERROR(VLOOKUP(A113,STAGIONALITA!$A$3:$M$105,9,FALSE)*P113,\"\")","v":""},{"$f":"IFERROR(VLOOKUP(A113,STAGIONALITA!$A$3:$M$105,10,FALSE)*P113,\"\")","v":""},{"$f":"IFERROR(VLOOKUP(A113,STAGIONALITA!$A$3:$M$105,11,FALSE)*P113,\"\")","v":""},{"$f":"IFERROR(VLOOKUP(A113,STAGIONALITA!$A$3:$M$105,12,FALSE)*P113,\"\")","v":""},{"$f":"IFERROR(VLOOKUP(A113,STAGIONALITA!$A$3:$M$105,13,FALSE)*P113,\"\")","v":""}]

{"sheet":"STAGIONALITA","index":3,"n_rows":96,"n_cols":42,"rows_kept":96,"cut":false,"hidden":false,"merged":[[0,0,0,12],[0,29,0,41]]}
["STAGIONALITA' 2021 GRUPPO DELTA"]
["Fornitori","GEN 21 ","FEB 21 ","MAR 21 ","APR 21 ","MAG 21 ","GIU 21","LUG 21 ","AGO 21 ","SET 21 ","OTT 21 ","NOV 21 ","DIC 21 ",null,null,"Socio","GEN 21 ","FEB 21 ","MAR 21 ","APR 21 ","MAG 21 ","GIU 21","LUG 21 ","AGO 21 ","SET 21 ","OTT 21 ","NOV 21 ","DIC 21 ",null,null,"GEN 21 ","FEB 21 ","MAR 21 ","APR 21 ","MAG 21 ","GIU 21","LUG 21 ","AGO 21 ","SET 21 ","OTT 21 ","NOV 21 ","DIC 21 "]
["Albatros",6.5824738952378909E-3,5.6712193657668473E-3,0.2138982396706619,5.442869701322927E-2,0.16969703467055469,7.5258903492785006E-3,0.13854285040416819,5.9574604944359871E-2,9.9326743712343749E-2,1.0999378202791656E-2,0.11247025021977315,0.1212826175518343,null,null,"CALLIPO Srl",5.023261877495163E-2,9.9261228627445242E-2,6.0295547692397075E-2,0.11061881850026933,6.9790380308053429E-2,9.5386250649836787E-2,0.10048755325695176,2.3424727775072172E-2,8.9364973371552872E-2,9.3905159629456725E-2,0.12599385919671852,8.1238882217294375E-2,null,"DELTA",5.6919649382350716E-2,9.8672681628164255E-2,9.6385500020043854E-2,9.1485996761555652E-2,8.2609683240008822E-2,9.3939631900102086E-2,8.7493676949499097E-2,2.9994697538913845E-2,8.6082240288608655E-2,0.10633675961254326,0.10168845522185693,6.8391027456352907E-2]
["Arbi Arredobagno",5.100171884245823E-3,6.9401786469046753E-2,9.2366648820761357E-2,5.3763137873707345E-2,7.8925864352334521E-2,0.1184028854011102,6.9937163628166474E-2,7.4811913550677678E-2,8.6139367127842426E-2,4.0998619290484373E-2,0.20843078136887486,0.10172166023274817,null,null,"CASAÉ F.lli LARUFFA srl",6.846732325539634E-2,0.10155942142189887,7.9259182751148113E-2,5.8382358694262594E-2,4.7944683253418996E-2,6.8699004608255676E-2,0.17514740345505417,3.6480139224877382E-2,6.4841773617822007E-2,0.12057264611565442,7.4449363940239446E-2,0.10419669966197175,null,{"$f":"ACQUISTI!A5","v":"VIRLINZI SPA"},{"$f":"VLOOKUP($AD$4,$P$2:$AB$23,2,FALSE)","v":3.8218617217752625E-2},{"$f":"VLOOKUP($AD$4,$P$2:$AB$23,3,FALSE)","v":9.2963360172913373E-2},{"$f":"VLOOKUP($AD$4,$P$2:$AB$23,4,FALSE)","v":9.7482898753236902E-2},{"$f":"VLOOKUP($AD$4,$P$2:$AB$23,5,FALSE)","v":0.12567107518049808},{"$f":"VLOOKUP($AD$4,$P$2:$AB$23,6,FALSE)","v":0.10007833175366979},{"$f":"VLOOKUP($AD$4,$P$2:$AB$23,7,FALSE)","v":0.10976216046663954},{"$f":"VLOOKUP($AD$4,$P$2:$AB$23,8,FALSE)","v":8.3606142201942082E-2},{"$f":"VLOOKUP($AD$4,$P$2:$AB$23,9,FALSE)","v":3.0952645518421869E-2},{"$f":"VLOOKUP($AD$4,$P$2:$AB$23,10,FALSE)","v":8.3909938615840396E-2},{"$f":"VLOOKUP($AD$4,$P$2:$AB$23,11,FALSE)","v":7.1116121874806815E-2},{"$f":"VLOOKUP($AD$4,$P$2:$AB$23,12,FALSE)","v":9.3408467273161294E-2},{"$f":"VLOOKUP($AD$4,$P$2:$AB$23,13,FALSE)","v":7.2830240971117205E-2}]
["Arblu",4.1826374572185812E-2,6.9876167432293315E-2,0.11367076780299863,0.10293303694971385,7.5748552989291687E-2,0.10491476320273048,0.1176450050651676,2.3321699583297925E-2,0.10156076647433536,7.0969220415240578E-2,8.3320341421968036E-2,9.4213304090776676E-2,null,null,"COICO +3 snc",4.9275150044262861E-2,9.2414721982734441E-2,8.8153259001393369E-2,0.12234848023271591,7.9538343626965366E-2,6.0980264087094775E-2,0.11408905718026761,1.8382688108255295E-2,7.6536248877856206E-2,0.13908224547355999,0.12260916351515931,3.6590377869734819E-2]
["Ariston ",8.014351867514774E-2,0.1221844305508568,9.6947022035245745E-2,9.8411977585971561E-2,9.3503797072148842E-2,0.10495484065565154,8.7759933852308777E-2,1.4149238404459752E-2,8.2322102940667816E-2,0.10207445192279953,6.1165779255014478E-2,5.638290704972742E-2,null,null,"COLONNA SAVERIO srl",4.0311718860245704E-2,9.1487690593948831E-2,8.9997331413197892E-2,8.4853357395302573E-2,5.3408274998749596E-2,0.1039265732560069,6.7018739177546638E-2,3.4430133123030199E-2,5.8215739472028037E-2,0.11813462293444954,0.12638800038534684,0.13182781839014757]
["Arredamenti Montegrappa",0.11033570951517713,3.2957596739678609E-2,0.13291707815131154,3.7165582247158435E-2,5.639394476337517E-2,0.19369929755389165,4.213375594923157E-2,2.973097887705272E-2,0.18942687881720419,7.697850284435534E-2,2.4297522914067157E-2,7.3963151627496629E-2,null,null,"DELIZIA ALESSANDRO srl",4.7000490303349178E-2,8.5312782757202124E-2,0.12304299568997559,5.494853181028822E-2,0.11088827842286746,7.0120049179812752E-2,6.2160997746822648E-2,5.4562621847534677E-3,0.11605193374081847,0.182042858829362,4.0300106474825001E-2,0.10267471285992312]
["Atusa",5.6371023468408971E-2,6.8313433774368909E-2,8.1946902429789956E-2,5.8097404013741569E-2,6.8139936234995091E-2,0.11781256898352496,7.7080266850748452E-2,4.8328942213589188E-2,0,0.13587615577689141,0.12341717754124022,0.16461618871270128,null,null,"F.LLI CARERE Srl",5.5927019970074189E-2,8.0487642367746276E-2,6.1625022339553838E-2,4.5597259832448375E-2,0.10922384955192022,9.7544475892116442E-2,9.9907618333076986E-2,3.7017561225955037E-2,0.10097786352012457,0.12271155876131101,0.10719817244747755,8.1781955758195246E-2]
["Bernasconi ",0.13548624099059325,5.6484108680029878E-2,6.7513459687043254E-2,6.4844088175818063E-2,6.9769752997169879E-2,0.19693477299559431,0.11597818941169558,2.0025770328964819E-2,0.10580812109964768,6.6151057525400722E-2,5.1433868247618343E-2,4.9570569860424171E-2,null,null,"F.LLI CRUSCO srl",5.5535151190686381E-2,0.12435948212048548,0.14141764707505619,0.15015142830637576,5.1881384666896103E-2,0.12165902924220799,5.8253419396078865E-2,3.0953012025354755E-2,4.6180964102243989E-2,8.6406896923150442E-2,7.4404991723237363E-2,5.8796593228226682E-2]
["Beza",0,0,0,0,0,0,0,0,0,0,0,1,null,null,"F.LLI ZANGRILLO srl",4.7743139800552101E-2,8.1347343740324429E-2,7.0297383811266906E-2,9.7048483858796358E-2,0.10980759314427344,0.11922943419768023,8.54698998185415E-2,5.0019004686209484E-2,9.476053462651321E-2,9.3123323983516249E-2,7.9904647969285342E-2,7.1249210363040633E-2]
["Bmeters",2.6102425990180266E-2,0.20906334824060122,0.15219705125535199,9.3264550469984789E-3,0.1134017161595019,1.7888721422343969E-2,0.11683703544211757,2.5766747733024589E-2,0.17223859629306726,1.7687526252439946E-2,0.1233700543932907,1.612032177108224E-2,null,null,"GIUSEPPE MIELE Srl",4.5954544523380055E-2,9.9907693327827396E-2,0.11077806074315433,0.18952779523849059,0.18420305203675774,5.9528315465902745E-2,7.8529217373115717E-2,2.4001176846052585E-2,5.4905825361005495E-2,5.9663776753975009E-2,5.3903322878469488E-2,3.9097219451869003E-2]
["Bosch",7.2761532380624064E-2,4.9819077356128949E-2,9.4873113429879238E-2,0.10853213136702777,7.178066296104757E-2,5.61076367654606E-2,7.4919804668850329E-2,1.3271912250832095E-2,9.9562083701610404E-2,0.22576384440621811,8.0551219551204575E-2,5.2056981161116185E-2,null,null,"IDROPLAST SRL",3.9514145844484413E-2,8.1224348147220501E-2,7.4290673681072908E-2,6.7596050243744682E-2,9.4263898798073523E-2,8.5150422087111696E-2,7.6736080913996238E-2,4.6084601174476596E-2,0.104414208942596,0.12970684664133339,0.11218499595355225,8.8833727572337803E-2]
["Bossini ",0.10329809898604701,0.10908359235520707,0.10715417300826624,3.8845308519355012E-2,0.11592724772949731,3.8664511851568745E-2,0.11566363950121716,5.3902289045264978E-2,6.1409658502612721E-2,0.11544471608236506,0.11842708956456033,2.217967485403817E-2,null,null,"IDROSANITARIA FORNITURE SRL",7.4417612424051732E-2,0.1185895875332911,8.1061922154090513E-2,7.401835414826459E-2,9.34008547642559E-2,0.10022017576772539,9.064448108667611E-2,3.4073161779135101E-2,6.8350778377524193E-2,0.1230847458266387,0.10215746625259021,3.9980859885756621E-2]
["BT-Flex",0,0,0,0,0,0.50893693253532013,0,0.12083154552923699,7.2429816292036875E-2,0.29780170564340597,0,0,null,null,"IDROSANITARIA ROMAGNOLA SRL",3.4632952277205573E-2,8.8590809623831993E-2,0.13418655344631952,8.9858055485869726E-2,8.514780617201316E-2,9.3314247942336337E-2,8.2503709450799517E-2,1.9873536437164028E-2,9.530110858792526E-2,9.1201017769299425E-2,0.13156090842410684,5.3829294383128369E-2]
["Bwt/Cillichemie",4.9336518958175597E-2,6.4353944722471829E-2,9.9501703618992146E-2,0.17134567703156628,8.0920800042238117E-2,6.7639748273442185E-2,0.12024028537348136,2.8271924963874637E-2,0.10920856428002813,4.4759071316202638E-2,0.13533516467462595,2.9086596744901067E-2,null,null,"ITER DI RUGGERI Srl",5.0042443932723071E-2,8.0154874433569404E-2,7.8056955472887199E-2,7.3765414051258416E-2,8.3027099030288806E-2,6.9874366940437818E-2,0.10738377281925966,3.4759258748307459E-2,8.6425720851765614E-2,0.11047621856068671,0.12270532844556382,0.10332854671325169]
["Caleffi",6.7700080336390397E-2,8.8090649022138062E-2,7.6616768428675763E-2,7.6768312391576235E-2,7.0814326229320504E-2,9.1142874556471284E-2,9.3211939986026365E-2,3.9345059173617143E-2,7.6777915994335116E-2,0.11352174446721083,9.9823642815747848E-2,0.10618668659849033,null,null,"LA FENICE SRL",6.7053211876441074E-2,0.11424978468271979,0.11364050878924659,7.4283982280860791E-2,9.3411566486238606E-2,9.327172777551275E-2,7.4045535189320208E-2,3.1999735783639641E-2,8.8474531313873311E-2,9.905144373740693E-2,9.6377384692010987E-2,5.4140587392729846E-2]
["Camon",0,0,0,0,0,0.49242522271458888,0,0,0,0.33366173380715025,0,0.17391304347826089,null,null,"NIGRELLI E NIGRELLI SRL",4.1280492750226445E-2,6.6238587736849222E-2,9.1353639095231157E-2,7.7641211712492567E-2,8.3641784897626817E-2,8.0174582781615517E-2,0.10021527858342245,3.2175003551500547E-2,9.1580022008409465E-2,0.11274690395202754,0.12966712641757999,9.3285366513018442E-2]
["Carlo Nobili ",3.4037156750761674E-2,0.24026839113345985,4.2536503889550464E-2,3.7508036489528815E-2,0.10196123484666046,6.7654538103454745E-2,0.10766355222779223,4.0254251330577542E-2,0.11605906018916405,3.0656860124209331E-2,0.13072247764696004,5.0677937267880772E-2,null,null,"RAFFAELE SpA",7.4221705953806838E-2,0.13324516344715584,0.10471262280769859,8.1666531061294623E-2,7.0149779782220589E-2,0.11094629115148283,8.8357132448936268E-2,2.0644264719029835E-2,7.5666975683750581E-2,9.8029604319653824E-2,9.4216957761064618E-2,4.8142970863905572E-2]
["Carrier",0,0,0,0,0.30702952774241626,4.3406712826404195E-2,3.2368739714968794E-3,0.20748595025926042,8.6689229049585495E-2,0.1410640543981122,0.13408575775452541,7.700189399819915E-2,null,null,"REGINE GIUSEPPA & C. snc",3.7252430751234342E-2,0.10109634102431721,7.2007174494857801E-2,8.9106037360619339E-2,7.9958100864070153E-2,8.4374117685577787E-2,6.166155260792501E-2,3.7741458284696119E-2,0.14093501999424682,7.1498203576071229E-2,0.13649934062284047,8.787022273354389E-2]
["Cordivari ",4.7505385601440804E-2,6.620869752521287E-2,8.5674461193143606E-2,8.7964476476884171E-2,8.3171641808257493E-2,8.6750786052693235E-2,9.9838492637846846E-2,4.5755869453772094E-2,7.9684564654177836E-2,0.10043025272940115,0.13367468962127388,8.334068224589597E-2,null,null,"REGINE Srl  ",9.0420791172361362E-2,6.3422215048929656E-2,8.712693790294071E-2,5.8195261204116368E-2,6.0337933042154859E-2,0.15299415101607158,0.1352401776776157,3.1868892455731594E-2,0.1559832273677394,1.9016525087655525E-2,5.525678296972332E-2,9.013710505495981E-2]
["Cuprumfoma",0.15785451805122869,0.19811384665584189,0.25433408174522404,7.7188716331176147E-2,0,7.424023244792842E-2,0.23826860476860084,0,0,0,0,0,null,null,"TERMOIDRAULICA LAFENICE SRL",3.860681561025156E-2,8.6515693495181914E-2,8.7167329061612842E-2,0.10047257197154812,7.0266830881831069E-2,6.727035229447334E-2,8.7471259827487949E-2,3.790227947032164E-2,0.12737273072885472,0.11117772060055063,0.11279969797305719,7.2976718084828904E-2]
["Dab Pumps",6.2090124668753362E-2,0.10731870700187097,8.4877288725120889E-2,0.10665090191557468,4.4888777844885222E-2,0.15145672792229889,7.0164870835931398E-2,4.321769127712196E-2,3.2452454914058071E-2,8.3950919424678666E-2,8.3077136454937611E-2,0.12985439901476839,null,null,"VEMIT PUNTO CLIMA Srl",6.681363651010816E-2,0.1031750118371751,6.5231473282136104E-2,0.1140315049306091,7.5793493064432754E-2,9.7146924474141014E-2,0.10469834405316457,2.1954646398439144E-2,9.3338590297010596E-2,0.12270640201419454,8.8002957220634712E-2,4.7107015917954166E-2]
["Ebara",0,0.18185907680191038,0.11340999332017636,8.5446190851366302E-2,5.4956696587725805E-2,0.12666178180064988,0.13788135440092536,2.8791000680028402E-2,6.2334940382072171E-2,8.032487920245944E-2,8.5791762019308715E-2,4.2542323953377169E-2,null,null,"VIRLINZI SPA",3.8218617217752625E-2,9.2963360172913373E-2,9.7482898753236902E-2,0.12567107518049808,0.10007833175366979,0.10976216046663954,8.3606142201942082E-2,3.0952645518421869E-2,8.3909938615840396E-2,7.1116121874806815E-2,9.3408467273161294E-2,7.2830240971117205E-2]
["Effebi ",0,0.21890555284145691,8.9955921267574651E-2,2.0866722365282798E-2,4.7740068493360613E-2,0.19899871214828499,0.12925740422790502,1.42533800744024E-2,5.4260913485909966E-2,9.351642363394852E-2,6.3235082282139463E-2,6.9009819179734699E-2]
["Enolgas",6.1956792103906595E-2,4.8488613289880897E-2,0.14683636823179191,7.259984605191587E-2,7.9015347128987959E-2,7.0171052142040599E-2,8.1555347682640555E-2,4.3108728334004087E-2,0.14010567963957346,0.10265481886274178,9.0288912139881675E-2,6.3218494392634592E-2]
["Ercos ",6.4560244965712305E-2,8.2856000522500847E-2,0.11779904501149524,0.13580384965451628,9.3619795459727012E-2,7.1990141286760873E-2,0.11052488043413149,0,0.12994467872858229,7.8639687314305123E-2,8.0822816306555828E-2,3.3438860315712755E-2]
["Euroacque",0,0.20548138581867176,5.424044039678947E-2,8.2745472943886303E-2,8.7382618937136503E-2,3.4161965833468436E-2,8.0846457463283186E-2,4.7932239050180112E-2,9.5861216868210794E-2,0.15567421781676349,8.4898724765051586E-2,7.0775260106558435E-2]
["Eurocornici",0,0.1657223893818493,9.6133883052533009E-2,-1.5987250894105091E-5,3.0391763949693937E-2,0.19944858518279787,0.19003027767311376,4.5272624412604844E-2,9.6815521295199755E-2,6.5020149386325776E-2,6.5047400382167928E-2,4.6133392534607964E-2]
["Farg",1.0249306119816405E-2,9.5708704226517269E-2,7.4486171120422828E-2,9.443178241151319E-2,0.13532328612120453,0.13085833627196877,7.9509730447090907E-2,0,0.15268869369650429,0.11367324290047875,2.9520351598676099E-2,8.3550395085806986E-2]
["Ferrari ",0.10201512739803764,7.7281755654871387E-2,9.3880575800286234E-2,7.9349940703464156E-2,5.2492353296681241E-2,8.7418175663139253E-2,0.12402361445207939,2.2586934797681087E-2,8.7758873051162117E-2,0.11695251611531196,7.2449191060708157E-2,8.3790942006577412E-2]
["Ferroli",9.0271689639205621E-2,6.322876653948549E-2,1.3873609530514372E-2,1.8380180314534787E-2,0.11068441178561267,0.10642294978162702,0,7.7885362913073214E-2,6.6854862289950398E-2,0.14081605535333072,0.19559319492702185,0.11598891692564395]
["Fima Carlo Frattini",8.0335243658070432E-2,0.11184689813690561,5.4676785326059109E-2,5.8169246269669267E-2,1.8327240960792798E-2,0.16794886530513081,7.0840204201990109E-2,4.0661262646420969E-2,9.1243489675764955E-2,0.15435988483483803,0.12210144198427186,2.948943700008606E-2]
["Fimi",4.3185382694177231E-2,7.305749210870989E-2,0.109325727831892,7.2921647319632785E-2,6.2416736387742366E-2,9.3056826193391867E-2,0.11213530005486057,4.2784284863086663E-2,0.12040939467136109,0.12273593631371732,5.4879455776834729E-2,9.3091815784593454E-2]
["First Corporation ",0,0.16833334376579237,0.10646362992967419,0.13507061742471699,0.1785735440899808,5.2712217601389333E-2,6.6569695047860214E-2,3.8654812727691813E-2,7.8308657399649831E-2,7.5524887330261345E-2,3.346744832985999E-2,6.6321146353123098E-2]
["Fluidmaster",0.10989774249623059,6.2612675646330496E-2,8.3380671392544417E-2,9.7103990565560058E-2,2.4155105017532714E-2,0.20695970883044379,1.9635676179366984E-2,9.3595842752913806E-3,9.8772556834489753E-2,0.19577506179969648,5.852764311621933E-2,3.3819583846294028E-2]
["Galassia ",6.1025479101248094E-2,0.16001100291150985,9.1144012227179133E-2,6.9240857219788968E-2,0.11690012339532803,8.3058421973279201E-2,9.598684299736357E-2,2.081061238563655E-2,7.6720125061261815E-2,8.5764595807658259E-2,9.6397515046675208E-2,4.2940411873071342E-2]
["Galletti",0,0.16046690851790299,2.1307017724327682E-2,0.36470044811818547,1.6572341636587658E-2,1.3082064071528227E-2,6.7455129128291602E-2,8.2816446798443123E-3,6.2932891996735685E-2,6.6415976506750712E-2,0.13329566123149061,8.5489916388354861E-2]
["GBD ",5.002101467676727E-2,8.4172195752834592E-2,8.2955646212443723E-2,0.11868541860774499,3.7920035137362001E-2,0.13277529258305587,5.1583342858051301E-2,3.7874238960957679E-2,7.7554804436615304E-2,0.11715024877449048,0.12846343869649998,8.0844323303176799E-2]
["Geberit",6.9573318682862414E-2,0.10452927418981385,0.10813110689594813,7.7725135966741396E-2,7.7124643307743213E-2,9.6789368385005597E-2,8.6843011746611784E-2,4.2425283038468077E-2,7.0903726423295829E-2,0.10367526666814172,0.11109220604419304,5.1187658651175055E-2]
["General d'aspirazione",1.3727120369810069E-2,7.054437536669235E-2,4.5654021316172341E-2,0.20289433734908061,6.2780363443106418E-2,2.9014409858795491E-2,0.11970219975952873,1.4828184073646299E-2,5.3254254946893752E-2,7.5539942171134467E-2,0.18524245764785435,0.12681833369728507]
["General Fittings ",0,0.31269446503344656,5.2921932935268971E-2,7.3410062189498151E-2,0.1072534761735527,7.9460252817629931E-2,0,8.5132640624413405E-2,0.12987043165262618,8.4738580911104144E-2,3.1894460624795583E-2,4.2623697037664492E-2]
["Giacomini",9.2296245059243956E-2,7.0505923056603484E-2,0.14351486839754179,6.8959860000239126E-2,7.2252127824858625E-2,9.9392369208509565E-2,9.7460498959383829E-2,2.8167412509244139E-2,5.9239868507686949E-2,0.1063215951208934,9.1869380314351795E-2,7.001985104144326E-2]
["Giuseppe Tirinnanzi",9.75292176636295E-2,6.1153757411816015E-2,0.12909170378608401,6.2618864194098331E-2,6.7664981087922321E-2,9.2860570007510732E-2,0.11330430633511157,5.2782882301036997E-2,8.9627101905109405E-2,7.8280941375455396E-2,0.10025977558440154,5.4825898347823872E-2]
["Global ",0.12779822229408844,8.5952168971576953E-2,0.11395859192320426,8.9511672691879235E-2,4.3713715978437394E-2,9.7820918512304816E-2,1.7307235659007245E-2,1.2126937150097604E-2,7.6664726829371532E-2,5.8091196581091305E-2,0.21598872131232422,6.106589209661703E-2]
["Grantour",9.6312586612038315E-2,0.1379466168584684,0.16499969874073628,0.15394348376212569,8.4292341989516184E-2,8.1731638247876118E-2,7.6037838163523525E-2,6.8807615834186903E-2,4.8171356269205275E-2,3.6783756100500088E-2,3.4554437548954632E-2,1.641862987286859E-2]
["Griffon - Bostik",0,0,0,0.62340579820384479,4.2261877595728158E-2,2.3960567751357766E-2,0,0,0.22841647270016582,0,0,8.1955283748903401E-2]
["Grohe",5.0591773079402706E-2,0.10439834764616684,5.3773494289532174E-2,5.1821757932845949E-2,2.9312132925455515E-2,0.10051893331623583,4.4492972876999527E-2,2.0248136963895762E-2,7.75018869290863E-2,0.25143088739166886,7.4750119104034465E-2,0.14115955754467599]
["Gruppo Salteco",7.2826023477194413E-2,9.0988728610640654E-2,0.10296092974361969,7.9337732873912284E-2,8.5674239327220694E-2,0.11966361034865386,7.224201366582958E-2,4.5727968229866259E-2,0.11759037551830871,0.10328213513987035,5.6999357589207496E-2,5.2706885475675994E-2]
["Haier ",0,8.8558292028665081E-2,0.13807050978994978,0.15553393439139124,0.24404933665189257,3.2091069120949188E-2,0.1872539315706068,7.7602603305773871E-2,2.0264712136766075E-2,-5.9508850006561266E-3,4.7572348755894958E-2,1.4954147248766734E-2]
["Ibp Banninger ",9.5084250989546315E-2,6.9613188876484336E-2,9.8109573226428493E-2,0.12657566223485234,8.442606312798133E-2,8.596620318684664E-2,0.10355094894955851,3.1314066781690852E-2,9.9611793362427689E-2,8.0273774484928451E-2,7.5951486856794884E-2,4.9522987922460161E-2]
["Ideal Standard",0,0.22405857446405675,1.1255347881613618E-2,7.2850288442850533E-2,8.5814497624307623E-2,7.5271832339046302E-2,9.2226632161666572E-2,3.0704260577367824E-2,0.13264202803422445,0.10236788302985772,7.8136549202017458E-2,9.467210624299105E-2]
["Immergas ",4.2827525398570279E-2,7.9939863970528977E-2,0.10302903224580441,6.2533844626222773E-2,5.6898879849348681E-2,9.4999583413917635E-2,4.9981525592171207E-2,1.1996894284005626E-2,0.10695809062252477,0.12378469475464519,0.17970257260424286,8.7347492638017429E-2]
["Isoclima",0,0,7.3582842495680853E-2,4.1910121820600076E-2,8.2949338219647034E-2,7.0491264969013645E-2,0.10758782279756794,4.0328152562620512E-2,0.17829247125626074,6.2609325612468708E-2,0.12385617763800537,0.21839248262813507]
["Italkero",0,0.25009848373338012,0.25831240997140359,0,2.122824317782121E-2,1.2485737938826921E-2,4.1694992261688511E-3,3.1842364766731815E-2,0.25052730275388596,7.9403839461730033E-2,8.9485978724110307E-2,2.4461402459413219E-3]
["Itap",6.440933563148743E-2,7.0567454510183314E-2,0.15523930806866229,4.9657512771233453E-2,0.14180480454174849,7.4798100395795472E-2,4.3767377893583176E-2,0,9.2326194949268914E-2,0.13355417295613919,9.1292399593935897E-2,8.258333868796229E-2]
["Kinedo",0,0,0,0,0.45671676908115638,0.14079254458116477,6.2030906614935051E-2,-1.0641974190697211E-4,0.15540126627883444,4.1510858489992843E-2,9.8322167000050684E-2,4.5331907695772652E-2]
["LG",0,0.19515905774527331,3.6289055563093787E-2,6.5677547050026333E-2,2.3941587560156938E-2,6.4891511142451577E-2,0.16226725292793934,9.7130732964178373E-2,0.10198235232381841,6.6826654662153651E-2,8.188587406485541E-2,0.10394837399605282]
["L'isolante K-Flex ",3.240900725286526E-2,6.7554112423146948E-2,0.10706210623266114,8.502915926070391E-2,6.8001800866532833E-2,0.12162024697119311,0.10043768078865208,3.4673271093845257E-2,9.8695417127599647E-2,0.1717690224197316,6.4291128385938562E-2,4.8457047177129779E-2]
["Megius",0,0.11108890638087246,4.6776153031868183E-2,3.3954787069190522E-2,0.10132564312580594,0.10526417260096148,7.580591250695945E-2,1.7706452683090377E-2,0.13362074177941843,0.12173681161679618,0.14953572880450822,0.10318469040052891]
["Mut Meccanica Tovo",0.14762549340188377,2.6293624003394835E-2,0.11397931306744746,0.12908368068709211,7.8509051238303276E-2,9.1527058765387727E-3,4.5742905101260369E-2,0,1.6712867002764614E-2,0.12778454552547458,0.16936426430756021,0.13575154978828005]
["Negrari",8.2483321879318866E-2,9.4313682546896815E-2,7.1862669913610885E-2,7.7524683343986378E-2,1.6616674070010693E-2,0.17334535261086306,0.10189804805742893,3.091382438901815E-2,0.19591170636895838,7.4240207504175995E-2,3.1430456510560249E-2,4.9459372805171688E-2]
["Neoperl",7.871819542388879E-2,9.6996015420160814E-2,6.7075120297987303E-2,0.10647956100237307,0.10523620299882605,8.911721210928597E-2,7.9471412366024896E-2,4.4745478514631974E-2,8.9465864905323142E-2,0.10842364437843308,8.1920098766555233E-2,5.23511938165096E-2]
["Novellini ",6.2186323384026417E-2,7.3758117554672112E-2,7.0500844884766115E-2,0.10676078893306129,8.3617242660720931E-2,0.11937066251586349,0.1142179872811538,3.1892569922102348E-2,6.7623847486029606E-2,9.5461026622634504E-2,0.11719920349452755,5.7411385260441844E-2]
["Olimpia Splendid ",3.8994155074172143E-2,5.8088978589592465E-2,9.4067977431800454E-2,6.051999202487679E-2,8.3504437036752033E-2,4.1544095785427212E-2,0.10952502544693919,4.2289140190773346E-3,0.16319970338138229,0.11781145829325368,0.16451140127811842,6.4003861638607995E-2]
["Omp Tea ",8.2046114223828376E-2,8.2102794495962403E-2,0.12625692467112559,6.6038792823828324E-2,9.5167993588391023E-2,9.8498488063649955E-2,9.4602049659052986E-2,4.1735672806060588E-2,9.1010086049637395E-2,0.12062331519872906,6.6581780582342875E-2,3.5335987837391301E-2]
["Paini",1.5800877940909109E-2,0.49455840438552745,0.11957067865504784,2.9360857288287731E-2,4.2568222728349987E-2,3.7153798968971433E-2,4.9328667440262722E-2,0,4.8068570564972421E-2,5.3709119139415597E-2,7.2176660707408885E-2,3.7704142180847028E-2]
["Panasonic",4.0361596837860413E-2,8.0498943778664067E-2,6.6014349592963165E-2,9.2424467848177025E-2,0.11749976871678892,0.15243510375530481,0.16514975125832709,2.8104258774875428E-2,6.5804502386790004E-2,6.2352633467215896E-2,2.7363576391704489E-2,0.10199104719132876]
["Planus",0,0,0.5,0,0,0,0,0,0,0,0,0.5]
["Polieco",2.545668810848049E-2,0.10102157089019802,8.5738094448405966E-2,8.8746401091750193E-2,0.1234002417832773,0.13786120900569068,0.13303300768928927,1.734969068877134E-2,8.2546403237716268E-2,3.1112241507456184E-2,0.11703276527954995,5.670168626941427E-2]
["Raccorderie Metalliche  ",7.4983459879956763E-2,6.0928669955636193E-2,0.11972391296243369,9.3782816169800262E-2,8.7969454834660926E-2,0.12410839929912638,0.11512245405177021,3.4306284251469456E-2,5.9780716034347765E-2,0.10081870487504818,7.025166830286686E-2,5.8223459382883265E-2]
["Rainbox ",7.6778473288453206E-2,6.5642100704696671E-2,8.0429904334475028E-2,0.11547773709696468,0.14775500964528956,8.0006692649895669E-2,0.1866166686350931,4.9948820912562496E-2,6.842742411716074E-2,5.4869887012322351E-2,5.2911302704617927E-2,2.1135978898468563E-2]
["Rems",6.132829530591484E-2,8.9552467129165744E-2,8.8168029432686493E-2,8.7028354201883137E-2,0.10315208162828231,6.4303689029287361E-2,8.0733369537781388E-2,1.21922303214802E-2,7.5448030044592662E-2,0.12856913392331287,0.13795424471657272,7.1570074729040298E-2]
["River",9.5117578358554181E-2,4.7150120356853661E-2,9.6969736892620395E-2,4.6791525173042234E-2,0.13114188172513927,7.117476255677542E-2,0.10715326372565778,3.040442517161155E-2,0.16557679736829833,8.1487256027389071E-2,9.6810201147813371E-2,3.0222451496244567E-2]
["Rizzo Aquae",0,6.190413547074592E-2,7.2513683390580522E-2,0.15168675497511919,4.6250067329325337E-2,0.10848825983733233,3.4176365542301454E-2,1.24300292934357E-2,0.13066602168625777,0.10601468400793869,5.9438328409660561E-2,0.21643167005730243]
["RM Manfredi",9.9490387912685649E-2,8.9790538383312843E-2,7.1971483007757076E-2,0.10805598009885535,4.5367337527197037E-2,0.20163821569624443,0.10584936086935953,3.0275192744300451E-2,0.10762991764024216,2.7142913099517548E-2,5.3428897455302264E-2,5.9359775565225627E-2]
["Royo",0,0,0,0,0.47461408532124177,6.218894238151583E-2,0.13685029792282005,5.4423980754697669E-2,7.3392285620519498E-2,7.5665471362375919E-2,3.4918240584344222E-2,8.7946696052484993E-2]
["Rubinetterie Bresciane ",5.5268348812692034E-2,7.2750316611966653E-2,0.14078058173007232,8.3803050093221657E-2,7.2864212949746696E-2,0.1114529119058843,8.8359037742142349E-2,2.1511035657749523E-2,8.245196132551999E-2,9.318559458542891E-2,0.10975376258315758,6.7819186002417889E-2]
["Sabiana",0,0,0,0.33252210335119198,5.114270506018305E-2,8.287308950827818E-2,0.10158371122378106,3.2060454159736899E-2,0.16292639609480947,0.1169295467403538,6.4163698171919095E-2,5.5798295689746716E-2]
["Samsung",1.7146135655635528E-2,0.1743991766867373,0.15756775148295363,0.12137032462930936,9.9834818408141124E-2,0.11029742603806754,4.5578118220683549E-2,2.6308435654598006E-2,1.2828643294445226E-2,0.11852043881974028,6.3290427949317926E-2,5.2858303160370407E-2]
["Silmet",0,0.2086060254511713,8.1490031753807091E-2,0.14996428620443475,4.7232818817568327E-3,5.9847409755091945E-2,4.6159002310066068E-2,0,0.19958116150706282,0.12009445872094263,0.1295343424156665,0]
["System Group (Rototec)",6.5682281892152347E-2,0,0.11104557272279551,0.11958022278027776,0.12139520064638321,0.20874677429407076,0.11922464954728931,4.4188731519079302E-2,7.8728866968607744E-2,2.3509704895784515E-2,9.2072717515101668E-2,1.5825277218457851E-2]
["System Group (Sa.Mi. Plastic)",0.10200694436081276,0.13007422081006431,6.836856411023913E-2,0.10740638205735337,7.3237093851343901E-2,5.8214645694926515E-2,6.1456788732440232E-2,1.8383225161740235E-2,0.14122813857893554,8.0392539328836249E-2,9.8136149034143555E-2,6.109530827916413E-2]
["System Group (Sab)",2.3827898900250818E-2,0.2694867837159946,4.9802238086050547E-2,0.28645330889446269,3.2003665830600041E-2,6.1535307736831954E-2,8.8932568010804555E-2,2.0608238471927456E-2,5.1635153386069846E-2,5.6820374300598109E-2,2.7674609299633418E-2,3.1219853366775997E-2]
["TECNOCONTROL",1.7151110397866851E-2,0.27169997654523681,8.136679546212057E-2,3.2030812152036257E-2,5.2323379461034193E-2,7.718690977322952E-2,6.3407853642277828E-2,0,0.15980742404977338,0.11208117816978787,6.0850543780167153E-2,7.2094016566469535E-2]
["Tecnosystemi",5.9507783046238528E-2,6.94287283344944E-2,0.11261499520891305,6.9952523197594346E-2,0.14691347710653699,5.5375165494014125E-2,9.6273292072631161E-2,5.362333029281003E-2,0.10385292858122082,8.7496701255719206E-2,0.10503175727004385,3.9929318139783558E-2]
["Tenaris Dalmine ",3.3216918307463074E-2,4.6333612349757296E-2,9.8307197539879848E-2,0.15778856708100755,0.1104488256306289,7.814656367773383E-2,9.1264029727657139E-2,1.9588068309225955E-3,8.5132958455232305E-2,9.1463888281638206E-2,0.16491149547091058,4.1027136647168658E-2]
["Thermomat Saniline ",6.999120341898972E-2,8.6696922753563388E-2,0.14419386730396469,0.14483998785604746,7.8639877314940959E-2,4.2745156042005621E-2,0.10454697607797041,1.3350563214722206E-2,0.12372819343136721,6.3148553234884289E-2,5.5659782498696082E-2,7.2458916852847985E-2]
["Tiemme Raccorderie",6.6611112700040859E-2,0.11247998932493648,7.6772245521975244E-2,7.2191691049847087E-2,0.10641594166346889,3.7006894637824861E-2,8.7092340229291021E-2,2.5430896079168392E-2,0.10828393464729581,0.12049172559734088,0.11044225252712789,7.6780976021682587E-2]
["Unidelta",0,0.200677652559072,9.8309942521682001E-2,0.12131027859087447,8.8526666188071826E-2,0.10466411968312099,9.3931587095872043E-2,2.5980662702480076E-2,5.6631978714004619E-2,9.3957165711713822E-2,9.6908036119843333E-2,1.9101910113264779E-2]
["Va-Albertoni ",7.9097176002249345E-2,0.10559940126251578,7.6298322800439689E-2,0.15064661352033176,0.10505217556014464,6.5289493579640895E-2,9.1490471339265064E-2,9.6660387404981646E-2,6.686854540201434E-2,8.9719567454116661E-2,2.1421276860966249E-2,5.1856568813333816E-2]
["Valsir",0.101784448887073,8.6905848405680636E-2,0.1306495408992642,7.3405759846284224E-2,8.5680216565259426E-2,9.1792458470736624E-2,9.5493044852099002E-2,1.238513745599904E-2,8.8496097389809153E-2,0.10579930933443284,6.5735473719625251E-2,6.1872664173736672E-2]
["Varem",7.869520086341128E-2,4.2247885567973251E-2,0.18285747097116112,9.9464393936518944E-2,8.4923203287589275E-2,7.5636680856105087E-2,4.1101384002372017E-2,6.2343879189738452E-2,8.988623424271909E-2,7.7942966476482273E-2,9.5366457276337246E-2,6.9534243329591794E-2]
["Vortice",0.1650180583965237,0.10086187323804499,-3.7049670050601771E-3,0.22413302878621927,1.3318330218487695E-2,4.4689669924465873E-2,0.14940432518568197,0,7.6228007753127602E-2,3.8152698563527036E-2,0.13466184653936794,5.7237128399614104E-2]
["Wavin ",5.9469545501208643E-2,0.10561344126924618,9.8462364358992777E-2,0.1735468649752972,9.0521702169537629E-2,6.9516290593160765E-2,4.1266308349966668E-2,4.5544087424742058E-2,7.7239803776886801E-2,8.5679772643630595E-2,8.9326565048590351E-2,6.3813253888740443E-2]
["Wilo",4.8577426473520251E-2,0.11747450105588624,3.2923607404092128E-2,0.14591979942425107,0.18271383919554648,7.8038532640134689E-2,2.5291730042986682E-2,6.090948582404809E-3,1.9718430877438502E-2,3.3373525472712412E-2,0.27644492933809339,3.3432729492933425E-2]
["Xylem",0,0,0,0,0,0.45562139489758019,8.8055687621380344E-2,6.1498542534161878E-2,0.13533962613777184,5.6245409098328314E-2,0.1269345597406365,7.6304779970141123E-2]

{"sheet":"PREMI","index":4,"n_rows":102,"n_cols":6,"rows_kept":102,"cut":false,"hidden":false,"merged":[[0,1,2,5]]}
[null,"STIMA PREMI AD OGGI"]
[]
[]
["SOCIO","FORNITORE","Fatt. Progr.2022 ","Incondizionato","Premio a Target","Totale premi"]
["VIRLINZI SPA",null,3972038.44,null,null,{"$f":"SUM(F6:F102)","v":118461.69047500001}]
[null,"Albatros",2640,{"$f":"IFERROR(VLOOKUP(B6,'[1]FATT+ORD+P.O.'!$A$3:$I$96,6,FALSE),\"\")","v":0},{"$f":"IFERROR(VLOOKUP(B6,'[1]FATT+ORD+P.O.'!$A$3:$I$96,7,FALSE),\"\")","v":0},{"$f":"IFERROR(C6*(D6+E6),\"\")","v":0}]
[null,"Ariston ",204698.19000000003,{"$f":"IFERROR(VLOOKUP(B7,'[1]FATT+ORD+P.O.'!$A$3:$I$96,6,TRUE),\"\")","v":0},{"$f":"IFERROR(VLOOKUP(B7,'[1]FATT+ORD+P.O.'!$A$3:$I$96,7,TRUE),\"\")","v":0},{"$f":"IFERROR(C7*(D7+E7),\"\")","v":0}]
[null,"Atusa",1378.04,{"$f":"IFERROR(VLOOKUP(B8,'[1]FATT+ORD+P.O.'!$A$3:$I$96,6,FALSE),\"\")","v":0.1},{"$f":"IFERROR(VLOOKUP(B8,'[1]FATT+ORD+P.O.'!$A$3:$I$96,7,FALSE),\"\")","v":0},137.804]
[null,"Bmeters",9983.8700000000008,{"$f":"IFERROR(VLOOKUP(B9,'[1]FATT+ORD+P.O.'!$A$3:$I$96,6,FALSE),\"\")","v":0},{"$f":"IFERROR(VLOOKUP(B9,'[1]FATT+ORD+P.O.'!$A$3:$I$96,7,FALSE),\"\")","v":0.02},199.67740000000003]
[null,"Bosch",142477.16,{"$f":"IFERROR(VLOOKUP(B10,'[1]FATT+ORD+P.O.'!$A$3:$I$96,6,FALSE),\"\")","v":0},{"$f":"IFERROR(VLOOKUP(B10,'[1]FATT+ORD+P.O.'!$A$3:$I$96,7,FALSE),\"\")","v":0},0]
[null,"Caleffi",29491.72,{"$f":"IFERROR(VLOOKUP(B11,'[1]FATT+ORD+P.O.'!$A$3:$I$96,6,FALSE),\"\")","v":0},{"$f":"IFERROR(VLOOKUP(B11,'[1]FATT+ORD+P.O.'!$A$3:$I$96,7,FALSE),\"\")","v":0.01},294.91720000000004]
[null,"Carrier",15347,{"$f":"IFERROR(VLOOKUP(B12,'[1]FATT+ORD+P.O.'!$A$3:$I$96,6,FALSE),\"\")","v":1.4999999999999999E-2},{"$f":"IFERROR(VLOOKUP(B12,'[1]FATT+ORD+P.O.'!$A$3:$I$96,7,FALSE),\"\")","v":0},230.20499999999998]
[null,"Cordivari ",98239.239999999976,{"$f":"IFERROR(VLOOKUP(B13,'[1]FATT+ORD+P.O.'!$A$3:$I$96,6,FALSE),\"\")","v":0.02},{"$f":"IFERROR(VLOOKUP(B13,'[1]FATT+ORD+P.O.'!$A$3:$I$96,7,FALSE),\"\")","v":0.03},4911.9619999999995]
[null,"Ebara",36868.400000000001,{"$f":"IFERROR(VLOOKUP(B14,'[1]FATT+ORD+P.O.'!$A$3:$I$96,6,FALSE),\"\")","v":0},{"$f":"IFERROR(VLOOKUP(B14,'[1]FATT+ORD+P.O.'!$A$3:$I$96,7,FALSE),\"\")","v":7.0000000000000007E-2},2580.7880000000005]
[null,"Enolgas",9556.3700000000008,{"$f":"IFERROR(VLOOKUP(B15,'[1]FATT+ORD+P.O.'!$A$3:$I$96,6,FALSE),\"\")","v":0},{"$f":"IFERROR(VLOOKUP(B15,'[1]FATT+ORD+P.O.'!$A$3:$I$96,7,FALSE),\"\")","v":0},0]
[null,"Ercos ",9663,{"$f":"IFERROR(VLOOKUP(B16,'[1]FATT+ORD+P.O.'!$A$3:$I$96,6,FALSE),\"\")","v":0},{"$f":"IFERROR(VLOOKUP(B16,'[1]FATT+ORD+P.O.'!$A$3:$I$96,7,FALSE),\"\")","v":0},0]
[null,"Farg",14470.33,{"$f":"IFERROR(VLOOKUP(B17,'[1]FATT+ORD+P.O.'!$A$3:$I$96,6,FALSE),\"\")","v":0},{"$f":"IFERROR(VLOOKUP(B17,'[1]FATT+ORD+P.O.'!$A$3:$I$96,7,FALSE),\"\")","v":0.01},144.70330000000001]
[null,"Ferrari ",38598,{"$f":"IFERROR(VLOOKUP(B18,'[1]FATT+ORD+P.O.'!$A$3:$I$96,6,FALSE),\"\")","v":0},{"$f":"IFERROR(VLOOKUP(B18,'[1]FATT+ORD+P.O.'!$A$3:$I$96,7,FALSE),\"\")","v":0},0]
[null,"Fima Carlo Frattini",3373,{"$f":"IFERROR(VLOOKUP(B19,'[1]FATT+ORD+P.O.'!$A$3:$I$96,6,FALSE),\"\")","v":0},{"$f":"IFERROR(VLOOKUP(B19,'[1]FATT+ORD+P.O.'!$A$3:$I$96,7,FALSE),\"\")","v":0},0]
[null,"Fimi",6222.7400000000007,{"$f":"IFERROR(VLOOKUP(B20,'[1]FATT+ORD+P.O.'!$A$3:$I$96,6,FALSE),\"\")","v":0},{"$f":"IFERROR(VLOOKUP(B20,'[1]FATT+ORD+P.O.'!$A$3:$I$96,7,FALSE),\"\")","v":0.1},622.27400000000011]
[null,"Fluidmaster",17561,{"$f":"IFERROR(VLOOKUP(B21,'[1]FATT+ORD+P.O.'!$A$3:$I$96,6,FALSE),\"\")","v":0.04},{"$f":"IFERROR(VLOOKUP(B21,'[1]FATT+ORD+P.O.'!$A$3:$I$96,7,FALSE),\"\")","v":0},702.44]
[null,"Geberit",27421.549999999996,{"$f":"IFERROR(VLOOKUP(B22,'[1]FATT+ORD+P.O.'!$A$3:$I$96,6,FALSE),\"\")","v":0},{"$f":"IFERROR(VLOOKUP(B22,'[1]FATT+ORD+P.O.'!$A$3:$I$96,7,FALSE),\"\")","v":7.4999999999999997E-3},205.66162499999996]
[null,"Giacomini",28897.35,{"$f":"IFERROR(VLOOKUP(B23,'[1]FATT+ORD+P.O.'!$A$3:$I$96,6,FALSE),\"\")","v":0},{"$f":"IFERROR(VLOOKUP(B23,'[1]FATT+ORD+P.O.'!$A$3:$I$96,7,FALSE),\"\")","v":4.4999999999999998E-2},1300.3807499999998]
[null,"Global ",62829,{"$f":"IFERROR(VLOOKUP(B24,'[1]FATT+ORD+P.O.'!$A$3:$I$96,6,FALSE),\"\")","v":0.06},{"$f":"IFERROR(VLOOKUP(B24,'[1]FATT+ORD+P.O.'!$A$3:$I$96,7,FALSE),\"\")","v":0},3769.74]
[null,"Griffon - Bostik",668.96,{"$f":"IFERROR(VLOOKUP(B25,'[1]FATT+ORD+P.O.'!$A$3:$I$96,6,FALSE),\"\")","v":0},{"$f":"IFERROR(VLOOKUP(B25,'[1]FATT+ORD+P.O.'!$A$3:$I$96,7,FALSE),\"\")","v":0},0]
[null,"Grohe",8058.64,{"$f":"IFERROR(VLOOKUP(B26,'[1]FATT+ORD+P.O.'!$A$3:$I$96,6,FALSE),\"\")","v":0},{"$f":"IFERROR(VLOOKUP(B26,'[1]FATT+ORD+P.O.'!$A$3:$I$96,7,FALSE),\"\")","v":0},0]
[null,"Haier ",145178.23000000001,{"$f":"IFERROR(VLOOKUP(B27,'[1]FATT+ORD+P.O.'!$A$3:$I$96,6,FALSE),\"\")","v":0},{"$f":"IFERROR(VLOOKUP(B27,'[1]FATT+ORD+P.O.'!$A$3:$I$96,7,FALSE),\"\")","v":0.05},7258.9115000000011]
[null,"Ibp Banninger ",46597,{"$f":"IFERROR(VLOOKUP(B28,'[1]FATT+ORD+P.O.'!$A$3:$I$96,6,FALSE),\"\")","v":0},{"$f":"IFERROR(VLOOKUP(B28,'[1]FATT+ORD+P.O.'!$A$3:$I$96,7,FALSE),\"\")","v":0.12},5591.6399999999994]
[null,"Isoclima",277736.08,{"$f":"IFERROR(VLOOKUP(B29,'[1]FATT+ORD+P.O.'!$A$3:$I$96,6,TRUE),\"\")","v":0},{"$f":"IFERROR(VLOOKUP(B29,'[1]FATT+ORD+P.O.'!$A$3:$I$96,7,TRUE),\"\")","v":0.02},5554.7216000000008]
[null,"Itap",35659.47,{"$f":"IFERROR(VLOOKUP(B30,'[1]FATT+ORD+P.O.'!$A$3:$I$96,6,FALSE),\"\")","v":0},{"$f":"IFERROR(VLOOKUP(B30,'[1]FATT+ORD+P.O.'!$A$3:$I$96,7,FALSE),\"\")","v":0.05},1782.9735000000001]
[null,"L'isolante K-Flex ",41762.04,{"$f":"IFERROR(VLOOKUP(B31,'[1]FATT+ORD+P.O.'!$A$3:$I$96,6,FALSE),\"\")","v":0.18},{"$f":"IFERROR(VLOOKUP(B31,'[1]FATT+ORD+P.O.'!$A$3:$I$96,7,FALSE),\"\")","v":0.06},10022.8896]
[null,"Neoperl",1796.91,{"$f":"IFERROR(VLOOKUP(B32,'[1]FATT+ORD+P.O.'!$A$3:$I$96,6,FALSE),\"\")","v":0},{"$f":"IFERROR(VLOOKUP(B32,'[1]FATT+ORD+P.O.'!$A$3:$I$96,7,FALSE),\"\")","v":0.05},89.845500000000015]
[null,"Novellini ",7972.64,{"$f":"IFERROR(VLOOKUP(B33,'[1]FATT+ORD+P.O.'!$A$3:$I$96,6,FALSE),\"\")","v":0.05},{"$f":"IFERROR(VLOOKUP(B33,'[1]FATT+ORD+P.O.'!$A$3:$I$96,7,FALSE),\"\")","v":0.03},637.81119999999999]
[null,"Omp Tea ",8116.7,{"$f":"IFERROR(VLOOKUP(B34,'[1]FATT+ORD+P.O.'!$A$3:$I$96,6,FALSE),\"\")","v":0.1},{"$f":"IFERROR(VLOOKUP(B34,'[1]FATT+ORD+P.O.'!$A$3:$I$96,7,FALSE),\"\")","v":0},811.67000000000007]
[null,"Paini",8123.2,{"$f":"IFERROR(VLOOKUP(B35,'[1]FATT+ORD+P.O.'!$A$3:$I$96,6,FALSE),\"\")","v":0},{"$f":"IFERROR(VLOOKUP(B35,'[1]FATT+ORD+P.O.'!$A$3:$I$96,7,FALSE),\"\")","v":0.03},243.696]
[null,"Polieco",404686.45,{"$f":"IFERROR(VLOOKUP(B36,'[1]FATT+ORD+P.O.'!$A$3:$I$96,6,FALSE),\"\")","v":0},{"$f":"IFERROR(VLOOKUP(B36,'[1]FATT+ORD+P.O.'!$A$3:$I$96,7,FALSE),\"\")","v":0.01},4046.8645000000001]
[null,"Raccorderie Metalliche  ",199251.82,{"$f":"IFERROR(VLOOKUP(B37,'[1]FATT+ORD+P.O.'!$A$3:$I$96,6,FALSE),\"\")","v":0},{"$f":"IFERROR(VLOOKUP(B37,'[1]FATT+ORD+P.O.'!$A$3:$I$96,7,FALSE),\"\")","v":0.13},25902.7366]
[null,"Rems",15012,{"$f":"IFERROR(VLOOKUP(B38,'[1]FATT+ORD+P.O.'!$A$3:$I$96,6,FALSE),\"\")","v":0},{"$f":"IFERROR(VLOOKUP(B38,'[1]FATT+ORD+P.O.'!$A$3:$I$96,7,FALSE),\"\")","v":0},0]
[null,"Rubinetterie Bresciane ",32345.309999999998,{"$f":"IFERROR(VLOOKUP(B39,'[1]FATT+ORD+P.O.'!$A$3:$I$96,6,FALSE),\"\")","v":0.17},{"$f":"IFERROR(VLOOKUP(B39,'[1]FATT+ORD+P.O.'!$A$3:$I$96,7,FALSE),\"\")","v":0},5498.7026999999998]
[null,"Samsung",93774.49,{"$f":"IFERROR(VLOOKUP(B40,'[1]FATT+ORD+P.O.'!$A$3:$I$96,6,FALSE),\"\")","v":0},{"$f":"IFERROR(VLOOKUP(B40,'[1]FATT+ORD+P.O.'!$A$3:$I$96,7,FALSE),\"\")","v":0.03},2813.2347]
[null,"System Group (Sa.Mi. Plastic)",40533.870000000003,{"$f":"IFERROR(VLOOKUP(B41,'[1]FATT+ORD+P.O.'!$A$3:$I$96,6,TRUE),\"\")","v":0},{"$f":"IFERROR(VLOOKUP(B41,'[1]FATT+ORD+P.O.'!$A$3:$I$96,7,TRUE),\"\")","v":0.05},2026.6935000000003]
[null,"System Group Sicilia",180542,{"$f":"IFERROR(VLOOKUP(B42,'[1]FATT+ORD+P.O.'!$A$3:$I$96,6,TRUE),\"\")","v":0},{"$f":"IFERROR(VLOOKUP(B42,'[1]FATT+ORD+P.O.'!$A$3:$I$96,7,TRUE),\"\")","v":0.05},9027.1]
[null,"Tenaris Dalmine ",701116.29,{"$f":"IFERROR(VLOOKUP(B43,'[1]FATT+ORD+P.O.'!$A$3:$I$96,6,FALSE),\"\")","v":0},{"$f":"IFERROR(VLOOKUP(B43,'[1]FATT+ORD+P.O.'!$A$3:$I$96,7,FALSE),\"\")","v":0},0]
[null,"Thermomat Saniline ",16496,{"$f":"IFERROR(VLOOKUP(B44,'[1]FATT+ORD+P.O.'!$A$3:$I$96,6,FALSE),\"\")","v":0},{"$f":"IFERROR(VLOOKUP(B44,'[1]FATT+ORD+P.O.'!$A$3:$I$96,7,FALSE),\"\")","v":0},0]
[null,"Tiemme Raccorderie",64212.219999999994,{"$f":"IFERROR(VLOOKUP(B45,'[1]FATT+ORD+P.O.'!$A$3:$I$96,6,FALSE),\"\")","v":0.01},{"$f":"IFERROR(VLOOKUP(B45,'[1]FATT+ORD+P.O.'!$A$3:$I$96,7,FALSE),\"\")","v":0.03},2568.4887999999996]
[null,"Unidelta",513325.87,{"$f":"IFERROR(VLOOKUP(B46,'[1]FATT+ORD+P.O.'!$A$3:$I$96,6,FALSE),\"\")","v":0.02},{"$f":"IFERROR(VLOOKUP(B46,'[1]FATT+ORD+P.O.'!$A$3:$I$96,7,FALSE),\"\")","v":0},10266.517400000001]
[null,"Va-Albertoni ",2101.91,{"$f":"IFERROR(VLOOKUP(B47,'[1]FATT+ORD+P.O.'!$A$3:$I$96,6,FALSE),\"\")","v":0.1},{"$f":"IFERROR(VLOOKUP(B47,'[1]FATT+ORD+P.O.'!$A$3:$I$96,7,FALSE),\"\")","v":0},210.191]
[null,"Valsir",19118,{"$f":"IFERROR(VLOOKUP(B48,'[1]FATT+ORD+P.O.'!$A$3:$I$96,6,FALSE),\"\")","v":0},{"$f":"IFERROR(VLOOKUP(B48,'[1]FATT+ORD+P.O.'!$A$3:$I$96,7,FALSE),\"\")","v":0.09},1720.62]
[null,"Varem",15739.339999999998,{"$f":"IFERROR(VLOOKUP(B49,'[1]FATT+ORD+P.O.'!$A$3:$I$96,6,FALSE),\"\")","v":0},{"$f":"IFERROR(VLOOKUP(B49,'[1]FATT+ORD+P.O.'!$A$3:$I$96,7,FALSE),\"\")","v":0.04},629.57359999999994]
[null,"Wavin ",266250.21999999997,{"$f":"IFERROR(VLOOKUP(B50,'[1]FATT+ORD+P.O.'!$A$3:$I$96,6,FALSE),\"\")","v":0},{"$f":"IFERROR(VLOOKUP(B50,'[1]FATT+ORD+P.O.'!$A$3:$I$96,7,FALSE),\"\")","v":2.5000000000000001E-2},6656.2554999999993]
[null,"Xylem",66146.820000000007,{"$f":"IFERROR(VLOOKUP(B51,'[1]FATT+ORD+P.O.'!$A$3:$I$96,6,FALSE),\"\")","v":0},{"$f":"IFERROR(VLOOKUP(B51,'[1]FATT+ORD+P.O.'!$A$3:$I$96,7,FALSE),\"\")","v":0},0]
["Totale complessivo",null,3972038.44,{"$f":"IFERROR(VLOOKUP(B52,'[1]FATT+ORD+P.O.'!$A$3:$I$96,6,FALSE),\"\")","v":""},{"$f":"IFERROR(VLOOKUP(B52,'[1]FATT+ORD+P.O.'!$A$3:$I$96,7,FALSE),\"\")","v":""},""]
[null,null,null,{"$f":"IFERROR(VLOOKUP(B53,'[1]FATT+ORD+P.O.'!$A$3:$I$96,6,FALSE),\"\")","v":""},{"$f":"IFERROR(VLOOKUP(B53,'[1]FATT+ORD+P.O.'!$A$3:$I$96,7,FALSE),\"\")","v":""},""]
[null,null,null,{"$f":"IFERROR(VLOOKUP(B54,'[1]FATT+ORD+P.O.'!$A$3:$I$96,6,FALSE),\"\")","v":""},{"$f":"IFERROR(VLOOKUP(B54,'[1]FATT+ORD+P.O.'!$A$3:$I$96,7,FALSE),\"\")","v":""},""]
[null,null,null,{"$f":"IFERROR(VLOOKUP(B55,'[1]FATT+ORD+P.O.'!$A$3:$I$96,6,FALSE),\"\")","v":""},{"$f":"IFERROR(VLOOKUP(B55,'[1]FATT+ORD+P.O.'!$A$3:$I$96,7,FALSE),\"\")","v":""},""]
[null,null,null,{"$f":"IFERROR(VLOOKUP(B56,'[1]FATT+ORD+P.O.'!$A$3:$I$96,6,FALSE),\"\")","v":""},{"$f":"IFERROR(VLOOKUP(B56,'[1]FATT+ORD+P.O.'!$A$3:$I$96,7,FALSE),\"\")","v":""},""]
[null,null,null,{"$f":"IFERROR(VLOOKUP(B57,'[1]FATT+ORD+P.O.'!$A$3:$I$96,6,FALSE),\"\")","v":""},{"$f":"IFERROR(VLOOKUP(B57,'[1]FATT+ORD+P.O.'!$A$3:$I$96,7,FALSE),\"\")","v":""},""]
[null,null,null,{"$f":"IFERROR(VLOOKUP(B58,'[1]FATT+ORD+P.O.'!$A$3:$I$96,6,FALSE),\"\")","v":""},{"$f":"IFERROR(VLOOKUP(B58,'[1]FATT+ORD+P.O.'!$A$3:$I$96,7,FALSE),\"\")","v":""},""]
[null,null,null,{"$f":"IFERROR(VLOOKUP(B59,'[1]FATT+ORD+P.O.'!$A$3:$I$96,6,FALSE),\"\")","v":""},{"$f":"IFERROR(VLOOKUP(B59,'[1]FATT+ORD+P.O.'!$A$3:$I$96,7,FALSE),\"\")","v":""},""]
[null,null,null,{"$f":"IFERROR(VLOOKUP(B60,'[1]FATT+ORD+P.O.'!$A$3:$I$96,6,FALSE),\"\")","v":""},{"$f":"IFERROR(VLOOKUP(B60,'[1]FATT+ORD+P.O.'!$A$3:$I$96,7,FALSE),\"\")","v":""},""]
[null,null,null,{"$f":"IFERROR(VLOOKUP(B61,'[1]FATT+ORD+P.O.'!$A$3:$I$96,6,FALSE),\"\")","v":""},{"$f":"IFERROR(VLOOKUP(B61,'[1]FATT+ORD+P.O.'!$A$3:$I$96,7,FALSE),\"\")","v":""},""]
[null,null,null,{"$f":"IFERROR(VLOOKUP(B62,'[1]FATT+ORD+P.O.'!$A$3:$I$96,6,FALSE),\"\")","v":""},{"$f":"IFERROR(VLOOKUP(B62,'[1]FATT+ORD+P.O.'!$A$3:$I$96,7,FALSE),\"\")","v":""},""]
[null,null,null,{"$f":"IFERROR(VLOOKUP(B63,'[1]FATT+ORD+P.O.'!$A$3:$I$96,6,FALSE),\"\")","v":""},{"$f":"IFERROR(VLOOKUP(B63,'[1]FATT+ORD+P.O.'!$A$3:$I$96,7,FALSE),\"\")","v":""},""]
[null,null,null,{"$f":"IFERROR(VLOOKUP(B64,'[1]FATT+ORD+P.O.'!$A$3:$I$96,6,FALSE),\"\")","v":""},{"$f":"IFERROR(VLOOKUP(B64,'[1]FATT+ORD+P.O.'!$A$3:$I$96,7,FALSE),\"\")","v":""},""]
[null,null,null,{"$f":"IFERROR(VLOOKUP(B65,'[1]FATT+ORD+P.O.'!$A$3:$I$96,6,FALSE),\"\")","v":""},{"$f":"IFERROR(VLOOKUP(B65,'[1]FATT+ORD+P.O.'!$A$3:$I$96,7,FALSE),\"\")","v":""},""]
[null,null,null,{"$f":"IFERROR(VLOOKUP(B66,'[1]FATT+ORD+P.O.'!$A$3:$I$96,6,FALSE),\"\")","v":""},{"$f":"IFERROR(VLOOKUP(B66,'[1]FATT+ORD+P.O.'!$A$3:$I$96,7,FALSE),\"\")","v":""},""]
[null,null,null,{"$f":"IFERROR(VLOOKUP(B67,'[1]FATT+ORD+P.O.'!$A$3:$I$96,6,FALSE),\"\")","v":""},{"$f":"IFERROR(VLOOKUP(B67,'[1]FATT+ORD+P.O.'!$A$3:$I$96,7,FALSE),\"\")","v":""},""]
[null,null,null,{"$f":"IFERROR(VLOOKUP(B68,'[1]FATT+ORD+P.O.'!$A$3:$I$96,6,FALSE),\"\")","v":""},{"$f":"IFERROR(VLOOKUP(B68,'[1]FATT+ORD+P.O.'!$A$3:$I$96,7,FALSE),\"\")","v":""},""]
[null,null,null,{"$f":"IFERROR(VLOOKUP(B69,'[1]FATT+ORD+P.O.'!$A$3:$I$96,6,FALSE),\"\")","v":""},{"$f":"IFERROR(VLOOKUP(B69,'[1]FATT+ORD+P.O.'!$A$3:$I$96,7,FALSE),\"\")","v":""},""]
[null,null,null,{"$f":"IFERROR(VLOOKUP(B70,'[1]FATT+ORD+P.O.'!$A$3:$I$96,6,FALSE),\"\")","v":""},{"$f":"IFERROR(VLOOKUP(B70,'[1]FATT+ORD+P.O.'!$A$3:$I$96,7,FALSE),\"\")","v":""},""]
[null,null,null,{"$f":"IFERROR(VLOOKUP(B71,'[1]FATT+ORD+P.O.'!$A$3:$I$96,6,FALSE),\"\")","v":""},{"$f":"IFERROR(VLOOKUP(B71,'[1]FATT+ORD+P.O.'!$A$3:$I$96,7,FALSE),\"\")","v":""},{"$f":"IFERROR(C71*(D71+E71),\"\")","v":""}]
[null,null,null,{"$f":"IFERROR(VLOOKUP(B72,'[1]FATT+ORD+P.O.'!$A$3:$I$96,6,FALSE),\"\")","v":""},{"$f":"IFERROR(VLOOKUP(B72,'[1]FATT+ORD+P.O.'!$A$3:$I$96,7,FALSE),\"\")","v":""},""]
[null,null,null,{"$f":"IFERROR(VLOOKUP(B73,'[1]FATT+ORD+P.O.'!$A$3:$I$96,6,FALSE),\"\")","v":""},{"$f":"IFERROR(VLOOKUP(B73,'[1]FATT+ORD+P.O.'!$A$3:$I$96,7,FALSE),\"\")","v":""},""]
[null,null,null,{"$f":"IFERROR(VLOOKUP(B74,'[1]FATT+ORD+P.O.'!$A$3:$I$96,6,FALSE),\"\")","v":""},{"$f":"IFERROR(VLOOKUP(B74,'[1]FATT+ORD+P.O.'!$A$3:$I$96,7,FALSE),\"\")","v":""},""]
[null,null,null,{"$f":"IFERROR(VLOOKUP(B75,'[1]FATT+ORD+P.O.'!$A$3:$I$96,6,FALSE),\"\")","v":""},{"$f":"IFERROR(VLOOKUP(B75,'[1]FATT+ORD+P.O.'!$A$3:$I$96,7,FALSE),\"\")","v":""},""]
[null,null,null,{"$f":"IFERROR(VLOOKUP(B76,'[1]FATT+ORD+P.O.'!$A$3:$I$96,6,FALSE),\"\")","v":""},{"$f":"IFERROR(VLOOKUP(B76,'[1]FATT+ORD+P.O.'!$A$3:$I$96,7,FALSE),\"\")","v":""},""]
[null,null,null,{"$f":"IFERROR(VLOOKUP(B77,'[1]FATT+ORD+P.O.'!$A$3:$I$96,6,FALSE),\"\")","v":""},{"$f":"IFERROR(VLOOKUP(B77,'[1]FATT+ORD+P.O.'!$A$3:$I$96,7,FALSE),\"\")","v":""},""]
[null,null,null,{"$f":"IFERROR(VLOOKUP(B78,'[1]FATT+ORD+P.O.'!$A$3:$I$96,6,FALSE),\"\")","v":""},{"$f":"IFERROR(VLOOKUP(B78,'[1]FATT+ORD+P.O.'!$A$3:$I$96,7,FALSE),\"\")","v":""},""]
[null,null,null,{"$f":"IFERROR(VLOOKUP(B79,'[1]FATT+ORD+P.O.'!$A$3:$I$96,6,FALSE),\"\")","v":""},{"$f":"IFERROR(VLOOKUP(B79,'[1]FATT+ORD+P.O.'!$A$3:$I$96,7,FALSE),\"\")","v":""},""]
[null,null,null,{"$f":"IFERROR(VLOOKUP(B80,'[1]FATT+ORD+P.O.'!$A$3:$I$96,6,FALSE),\"\")","v":""},{"$f":"IFERROR(VLOOKUP(B80,'[1]FATT+ORD+P.O.'!$A$3:$I$96,7,FALSE),\"\")","v":""},""]
[null,null,null,{"$f":"IFERROR(VLOOKUP(B81,'[1]FATT+ORD+P.O.'!$A$3:$I$96,6,FALSE),\"\")","v":""},{"$f":"IFERROR(VLOOKUP(B81,'[1]FATT+ORD+P.O.'!$A$3:$I$96,7,FALSE),\"\")","v":""},""]
[null,null,null,{"$f":"IFERROR(VLOOKUP(B82,'[1]FATT+ORD+P.O.'!$A$3:$I$96,6,FALSE),\"\")","v":""},{"$f":"IFERROR(VLOOKUP(B82,'[1]FATT+ORD+P.O.'!$A$3:$I$96,7,FALSE),\"\")","v":""},""]
[null,null,null,{"$f":"IFERROR(VLOOKUP(B83,'[1]FATT+ORD+P.O.'!$A$3:$I$96,6,FALSE),\"\")","v":""},{"$f":"IFERROR(VLOOKUP(B83,'[1]FATT+ORD+P.O.'!$A$3:$I$96,7,FALSE),\"\")","v":""},""]
[null,null,null,{"$f":"IFERROR(VLOOKUP(B84,'[1]FATT+ORD+P.O.'!$A$3:$I$96,6,FALSE),\"\")","v":""},{"$f":"IFERROR(VLOOKUP(B84,'[1]FATT+ORD+P.O.'!$A$3:$I$96,7,FALSE),\"\")","v":""},""]
[null,null,null,{"$f":"IFERROR(VLOOKUP(B85,'[1]FATT+ORD+P.O.'!$A$3:$I$96,6,FALSE),\"\")","v":""},{"$f":"IFERROR(VLOOKUP(B85,'[1]FATT+ORD+P.O.'!$A$3:$I$96,7,FALSE),\"\")","v":""},""]
[null,null,null,{"$f":"IFERROR(VLOOKUP(B86,'[1]FATT+ORD+P.O.'!$A$3:$I$96,6,FALSE),\"\")","v":""},{"$f":"IFERROR(VLOOKUP(B86,'[1]FATT+ORD+P.O.'!$A$3:$I$96,7,FALSE),\"\")","v":""},""]
[null,null,null,{"$f":"IFERROR(VLOOKUP(B87,'[1]FATT+ORD+P.O.'!$A$3:$I$96,6,FALSE),\"\")","v":""},{"$f":"IFERROR(VLOOKUP(B87,'[1]FATT+ORD+P.O.'!$A$3:$I$96,7,FALSE),\"\")","v":""},""]
[null,null,null,{"$f":"IFERROR(VLOOKUP(B88,'[1]FATT+ORD+P.O.'!$A$3:$I$96,6,FALSE),\"\")","v":""},{"$f":"IFERROR(VLOOKUP(B88,'[1]FATT+ORD+P.O.'!$A$3:$I$96,7,FALSE),\"\")","v":""},""]
[null,null,null,{"$f":"IFERROR(VLOOKUP(B89,'[1]FATT+ORD+P.O.'!$A$3:$I$96,6,FALSE),\"\")","v":""},{"$f":"IFERROR(VLOOKUP(B89,'[1]FATT+ORD+P.O.'!$A$3:$I$96,7,FALSE),\"\")","v":""},""]
[null,null,null,{"$f":"IFERROR(VLOOKUP(B90,'[1]FATT+ORD+P.O.'!$A$3:$I$96,6,FALSE),\"\")","v":""},{"$f":"IFERROR(VLOOKUP(B90,'[1]FATT+ORD+P.O.'!$A$3:$I$96,7,FALSE),\"\")","v":""},""]
[null,null,null,{"$f":"IFERROR(VLOOKUP(B91,'[1]FATT+ORD+P.O.'!$A$3:$I$96,6,FALSE),\"\")","v":""},{"$f":"IFERROR(VLOOKUP(B91,'[1]FATT+ORD+P.O.'!$A$3:$I$96,7,FALSE),\"\")","v":""},""]
[null,null,null,{"$f":"IFERROR(VLOOKUP(B92,'[1]FATT+ORD+P.O.'!$A$3:$I$96,6,FALSE),\"\")","v":""},{"$f":"IFERROR(VLOOKUP(B92,'[1]FATT+ORD+P.O.'!$A$3:$I$96,7,FALSE),\"\")","v":""},""]
[null,null,null,{"$f":"IFERROR(VLOOKUP(B93,'[1]FATT+ORD+P.O.'!$A$3:$I$96,6,FALSE),\"\")","v":""},{"$f":"IFERROR(VLOOKUP(B93,'[1]FATT+ORD+P.O.'!$A$3:$I$96,7,FALSE),\"\")","v":""},""]
[null,null,null,{"$f":"IFERROR(VLOOKUP(B94,'[1]FATT+ORD+P.O.'!$A$3:$I$96,6,FALSE),\"\")","v":""},{"$f":"IFERROR(VLOOKUP(B94,'[1]FATT+ORD+P.O.'!$A$3:$I$96,7,FALSE),\"\")","v":""},""]
[null,null,null,{"$f":"IFERROR(VLOOKUP(B95,'[1]FATT+ORD+P.O.'!$A$3:$I$96,6,FALSE),\"\")","v":""},{"$f":"IFERROR(VLOOKUP(B95,'[1]FATT+ORD+P.O.'!$A$3:$I$96,7,FALSE),\"\")","v":""},""]
[null,null,null,{"$f":"IFERROR(VLOOKUP(B96,'[1]FATT+ORD+P.O.'!$A$3:$I$96,6,FALSE),\"\")","v":""},{"$f":"IFERROR(VLOOKUP(B96,'[1]FATT+ORD+P.O.'!$A$3:$I$96,7,FALSE),\"\")","v":""},""]
[null,null,null,{"$f":"IFERROR(VLOOKUP(B97,'[1]FATT+ORD+P.O.'!$A$3:$I$96,6,FALSE),\"\")","v":""},{"$f":"IFERROR(VLOOKUP(B97,'[1]FATT+ORD+P.O.'!$A$3:$I$96,7,FALSE),\"\")","v":""},""]
[null,null,null,{"$f":"IFERROR(VLOOKUP(B98,'[1]FATT+ORD+P.O.'!$A$3:$I$96,6,FALSE),\"\")","v":""},{"$f":"IFERROR(VLOOKUP(B98,'[1]FATT+ORD+P.O.'!$A$3:$I$96,7,FALSE),\"\")","v":""},""]
[null,null,null,{"$f":"IFERROR(VLOOKUP(B99,'[1]FATT+ORD+P.O.'!$A$3:$I$96,6,FALSE),\"\")","v":""},{"$f":"IFERROR(VLOOKUP(B99,'[1]FATT+ORD+P.O.'!$A$3:$I$96,7,FALSE),\"\")","v":""},""]
[null,null,null,{"$f":"IFERROR(VLOOKUP(B100,'[1]FATT+ORD+P.O.'!$A$3:$I$96,6,FALSE),\"\")","v":""},{"$f":"IFERROR(VLOOKUP(B100,'[1]FATT+ORD+P.O.'!$A$3:$I$96,7,FALSE),\"\")","v":""},""]
[null,null,null,{"$f":"IFERROR(VLOOKUP(B101,'[1]FATT+ORD+P.O.'!$A$3:$I$96,6,FALSE),\"\")","v":""},{"$f":"IFERROR(VLOOKUP(B101,'[1]FATT+ORD+P.O.'!$A$3:$I$96,7,FALSE),\"\")","v":""},""]
[null,null,null,null,null,{"$f":"IFERROR(C102*(#REF!+D102+E102),\"\")","v":""}]