{"text_format":"1","workbook":"xlsx","n_sheets":5,"sheets":["INDICE","ACQUISTI","BUDGET","STAGIONALITA","PREMI"],"not_rendered":{"charts":2,"images":1,"macros":1,"external_links":1,"defined_names":0,"comments":0,"pivot_tables":4},"unopened":[],"bounds":{"document_bytes":16777216,"sheet_cells":100000,"rows_first":2000,"rows_last":500,"rows_between":2000,"halvings":0,"cell_chars":16384,"cell_head_chars":4096},"cells_cut":0,"cells_raw":0,"read":"whole","date_system":"1900"}

{"sheet":"INDICE","index":0,"n_rows":19,"n_cols":4,"rows_kept":19,"cut":false,"hidden":false,"merged":[[17,2,17,4],[18,2,18,4],[13,2,13,3],[11,0,11,4],[15,2,15,4],[16,2,16,4],[0,0,1,10],[8,0,8,2],[3,0,3,3],[4,0,4,2],[5,0,5,2],[6,0,6,2],[7,0,7,2]]}
["CRUSCOTTO DELTA: ANALISI DEGLI ACQUISTI "]
[]
[]
["SINTESI ECONOMICA "]
["FATT. PROGR. 2022",null,null,{"$f":"ACQUISTI!D5","v":1033305.776}]
["BUDGET PROGR. TRIMEST.",null,null,{"$f":"IF(MONTH(TODAY())<=3,BUDGET!$U$5,IF(MONTH(TODAY())<=6,BUDGET!$V$5,IF(MONTH(TODAY())<=9,BUDGET!$W$5,BUDGET!$X$5)))","v":2099470.3480083193}]
["Δ € BDG",null,null,{"$f":"D5-D6","v":-1066164.5720083192}]
["STIMA PREMI MATURATI",null,null,{"$f":"SUM(PREMI!G6:G102)","v":0}]
["% SU FATTURATO",null,null,{"$f":"IFERROR(D8/D5,0)","v":0}]
[]
[]
["INDICE"]
[]
["CAPITOLO",null,"DESCRIZIONE"]
[]
["ACQUISTI",null,"Analisi mensile degli acquisti in accordo"]
["STAGIONALITA'",null,"Analisi della stagionalità mensile degli acquisti propri e del gruppo "]
["BUDGET",null,"Verifica dei dati di budget e degli scostamenti degli acquisti rispetto agli obiettivi"]
["PREMI",null,"Stima dei premi maturati secondo gli accordi commerciali vigenti"]

{"sheet":"ACQUISTI","index":1,"n_rows":96,"n_cols":65,"rows_kept":96,"cut":false,"hidden":false,"merged":[[0,0,2,5],[0,24,2,29],[0,7,2,22]]}
["ANALISI FATT. PROGRESSIVO 2022",null,null,null,null,null,null,"ANDAMENTO MENSILE 2022",null,null,null,null,null,null,null,null,null,null,null,null,null,null,null,null,"ANDAMENTO MENSILE 2022"]
[]
[]
["SOCIO","FORNITORE","Fatt. Progr.2021 ","Fatt. Progr.2022 ","Δ € Fatt. Progr  ","Δ % Fatt. Progr  ",null,"GRAFICO","SOCIO","FORNITORE","Fatt. Progr.2022 ","GEN 22 ","FEB 22 ","MAR 22 ","APR 22 ","MAG 22 ","GIU 22 ","LUG 22 ","AGO 22 ","SET 22 ","OTT 22 ","NOV 22 ","DIC 22 ",null,"SOCIO","FORNITORE","Fatt. Progr.2022 ","Somma di GEN 21","Somma di FEB 21","Somma di MAR 21","Somma di APR 21","Somma di MAG 21","Somma di GIU 21","Somma di LUG 21","Somma di AGO 21","Somma di SET 21","Somma di OTT 21","Somma di NOV 21","Somma di DIC 21","Somma di GEN 22","Somma di FEB 22","Somma di MAR 22","Somma di APR 22","Somma di MAG 22","Somma di GIU 22","Somma di LUG 22","Somma di AGO 22","Somma di SET 22","Somma di OTT 22","Somma di NOV 22","Somma di DIC 22",null,null,"GEN","FEB","MAR","APR","MAG","GIU","LUG","AGO","SET","OTT","NOV ","DIC"]
["RAFFAELE SpA",null,661942.46509130427,1033305.776,371363.31090869568,0.56102052745244579,null,null,"RAFFAELE SpA",null,1033305.776,1033305.776,null,null,null,null,null,null,null,null,null,null,null,null,"RAFFAELE SpA",null,1033305.776,661942.46509130427,null,null,null,null,null,null,null,null,null,null,null,1033305.776,null,null,null,null,null,null,null,null,null,null,null,null,2021,{"$f":"AB5","v":661942.46509130427},{"$f":"AC5","v":0},0,0,0,0,0,0,0,0,0,0]
[null,"Geberit",41022.019999999997,149260.83000000002,108238.81000000003,2.6385538791117558,null,null,null,"Geberit",149260.83000000002,149260.83000000002,null,null,null,null,null,null,null,null,null,null,null,null,null,"Albatros",0,null,null,null,null,null,null,null,null,null,null,null,null,null,null,null,null,null,null,null,null,null,null,null,null,null,2022,{"$f":"AN5","v":1033305.776},{"$f":"AO5","v":0},0,0,0,0,0,0,0,0,0,0]
[null,"General Fittings ",28373.897391304308,132901.34,104527.44260869568,3.6839296754745439,null,null,null,"General Fittings ",132901.34,132901.34,null,null,null,null,null,null,null,null,null,null,null,null,null,"Arbi arredobagno",0]
[null,"Immergas ",0,124928.85,124928.85,{"$error":"#DIV/0!"},null,null,null,"Immergas ",124928.85,124928.85,null,null,null,null,null,null,null,null,null,null,null,null,null,"Arblu",8399.7800000000007,7730.32,null,null,null,null,null,null,null,null,null,null,null,8399.7800000000007]
[null,"Carlo Nobili ",0,84309,84309,{"$error":"#DIV/0!"},null,null,null,"Carlo Nobili ",84309,84309,null,null,null,null,null,null,null,null,null,null,null,null,null,"Ariston ",39569.51,86877.25,null,null,null,null,null,null,null,null,null,null,null,39569.51]
[null,"Ebara",0,75856.850000000006,75856.850000000006,{"$error":"#DIV/0!"},null,null,null,"Ebara",75856.850000000006,75856.850000000006,null,null,null,null,null,null,null,null,null,null,null,null,null,"Arredamenti Montegrappa",0]
[null,"Ferrari ",39104,64659,25555,0.65351370703764311,null,null,null,"Ferrari ",64659,64659,null,null,null,null,null,null,null,null,null,null,null,null,null,"Atusa",0]
[null,"LG",16720.180000000004,58297.91,41577.729999999996,2.4866795692390866,null,null,null,"LG",58297.91,58297.91,null,null,null,null,null,null,null,null,null,null,null,null,null,"Bernasconi ",0]
[null,"Ariston ",86877.25,39569.51,-47307.74,-0.54453542210417571,null,null,null,"Ariston ",39569.51,39569.51,null,null,null,null,null,null,null,null,null,null,null,null,null,"Beza",0]
[null,"Global ",70949.509999999995,34301.5,-36648.009999999995,-0.51653647784177781,null,null,null,"Global ",34301.5,34301.5,null,null,null,null,null,null,null,null,null,null,null,null,null,"Bmeters",0]
[null,"Bosch",3632.13,34199.31,30567.179999999997,8.415772563206712,null,null,null,"Bosch",34199.31,34199.31,null,null,null,null,null,null,null,null,null,null,null,null,null,"Bosch",34199.31,3632.13,null,null,null,null,null,null,null,null,null,null,null,34199.31]
[null,"Valsir",121488,29347,-92141,-0.75843704728038985,null,null,null,"Valsir",29347,29347,null,null,null,null,null,null,null,null,null,null,null,null,null,"Bossini ",0]
[null,"Cordivari ",18382.21,24622.399999999998,6240.1899999999987,0.33946897571075496,null,null,null,"Cordivari ",24622.399999999998,24622.399999999998,null,null,null,null,null,null,null,null,null,null,null,null,null,"BT-Flex",0]
[null,"System Group (Sa.Mi. Plastic)",37019.78,22329.4,-14690.379999999997,-0.39682515671351903,null,null,null,"System Group (Sa.Mi. Plastic)",22329.4,22329.4,null,null,null,null,null,null,null,null,null,null,null,null,null,"Bwt/Cillichemie",355,null,null,null,null,null,null,null,null,null,null,null,null,355]
[null,"Grohe",4860.07,18078.07,13218,2.7197139135856068,null,null,null,"Grohe",18078.07,18078.07,null,null,null,null,null,null,null,null,null,null,null,null,null,"Caleffi",2988.57,3522.45,null,null,null,null,null,null,null,null,null,null,null,2988.57]
[null,"Raccorderie Metalliche  ",10410.42,17654.93,7244.51,0.69589027147799998,null,null,null,"Raccorderie Metalliche  ",17654.93,17654.93,null,null,null,null,null,null,null,null,null,null,null,null,null,"Carlo Nobili ",84309,null,null,null,null,null,null,null,null,null,null,null,null,84309]
[null,"Varem",645.30000000000007,16405.439999999999,15760.14,24.422966062296602,null,null,null,"Varem",16405.439999999999,16405.439999999999,null,null,null,null,null,null,null,null,null,null,null,null,null,"Carrier",0]
[null,"Va-Albertoni ",9959.09,13618.21,3659.119999999999,0.36741509515427606,null,null,null,"Va-Albertoni ",13618.21,13618.21,null,null,null,null,null,null,null,null,null,null,null,null,null,"Cordivari ",24622.399999999998,18382.21,null,null,null,null,null,null,null,null,null,null,null,24622.399999999998]
[null,"Neoperl",3600.07,12866.1,9266.0300000000007,2.5738471751938157,null,null,null,"Neoperl",12866.1,12866.1,null,null,null,null,null,null,null,null,null,null,null,null,null,"Dab Pumps",0]
[null,"Haier ",5619.72,9225.85,3606.13,0.64169211277430183,null,null,null,"Haier ",9225.85,9225.85,null,null,null,null,null,null,null,null,null,null,null,null,null,"Ebara",75856.850000000006,null,null,null,null,null,null,null,null,null,null,null,null,75856.850000000006]
[null,"Thermomat Saniline ",2984,8961,5977,2.0030160857908847,null,null,null,"Thermomat Saniline ",8961,8961,null,null,null,null,null,null,null,null,null,null,null,null,null,"Effebi ",2452.3000000000002,2665.64,null,null,null,null,null,null,null,null,null,null,null,2452.3000000000002]
[null,"Fluidmaster",1176,8941,7765,6.6028911564625847,null,null,null,"Fluidmaster",8941,8941,null,null,null,null,null,null,null,null,null,null,null,null,null,"Enolgas",0]
[null,"Arblu",7730.32,8399.7800000000007,669.46000000000095,8.6601848306409268E-2,null,null,null,"Arblu",8399.7800000000007,8399.7800000000007,null,null,null,null,null,null,null,null,null,null,null,null,null,"Ercos ",687,null,null,null,null,null,null,null,null,null,null,null,null,687]
[null,"Giacomini",90155.32,7884.35,-82270.97,-0.91254703549385663,null,null,null,"Giacomini",7884.35,7884.35,null,null,null,null,null,null,null,null,null,null,null,null,null,"Euroacque",4608,null,null,null,null,null,null,null,null,null,null,null,null,4608]
[null,"L'isolante K-Flex ",0,6049.4299999999994,6049.4299999999994,{"$error":"#DIV/0!"},null,null,null,"L'isolante K-Flex ",6049.4299999999994,6049.4299999999994,null,null,null,null,null,null,null,null,null,null,null,null,null,"Eurocornici",0]
[null,"Euroacque",0,4608,4608,{"$error":"#DIV/0!"},null,null,null,"Euroacque",4608,4608,null,null,null,null,null,null,null,null,null,null,null,null,null,"Farg",0]
[null,"Megius",792.51,4375.8,3583.29,4.521444524359314,null,null,null,"Megius",4375.8,4375.8,null,null,null,null,null,null,null,null,null,null,null,null,null,"Ferrari ",64659,39104,null,null,null,null,null,null,null,null,null,null,null,64659]
[null,"Novellini ",7384.18,3267.23,-4116.9500000000007,-0.55753651725716336,null,null,null,"Novellini ",3267.23,3267.23,null,null,null,null,null,null,null,null,null,null,null,null,null,"Ferroli",0]
[null,"Caleffi",3522.45,2988.57,-533.87999999999965,-0.1515649618873226,null,null,null,"Caleffi",2988.57,2988.57,null,null,null,null,null,null,null,null,null,null,null,null,null,"Fima Carlo Frattini",0]
[null,"Paini",2388.5,2524.73,136.23000000000002,5.703579652501567E-2,null,null,null,"Paini",2524.73,2524.73,null,null,null,null,null,null,null,null,null,null,null,null,null,"Fimi",2299,1013.06,null,null,null,null,null,null,null,null,null,null,null,2299]
[null,"Effebi ",2665.64,2452.3000000000002,-213.33999999999969,-8.0033312825437686E-2,null,null,null,"Effebi ",2452.3000000000002,2452.3000000000002,null,null,null,null,null,null,null,null,null,null,null,null,null,"First Corporation ",459.58600000000001,14258.4277,null,null,null,null,null,null,null,null,null,null,null,459.58600000000001]
[null,"Fimi",1013.06,2299,1285.94,1.2693621305746947,null,null,null,"Fimi",2299,2299,null,null,null,null,null,null,null,null,null,null,null,null,null,"Fluidmaster",8941,1176,null,null,null,null,null,null,null,null,null,null,null,8941]
[null,"Giuseppe Tirinnanzi",2110.06,1849.4,-260.65999999999985,-0.12353203226448528,null,null,null,"Giuseppe Tirinnanzi",1849.4,1849.4,null,null,null,null,null,null,null,null,null,null,null,null,null,"Galassia ",0]
[null,"River",1493.77,1642.99,149.22000000000003,9.9894896804729072E-2,null,null,null,"River",1642.99,1642.99,null,null,null,null,null,null,null,null,null,null,null,null,null,"Galletti",0]
[null,"Negrari",659.6,1532.11,872.50999999999988,1.3227865372953302,null,null,null,"Negrari",1532.11,1532.11,null,null,null,null,null,null,null,null,null,null,null,null,null,"GBD ",0]
[null,"Olimpia Splendid ",5641,1281,-4360,-0.77291260414820062,null,null,null,"Olimpia Splendid ",1281,1281,null,null,null,null,null,null,null,null,null,null,null,null,null,"Geberit",149260.83000000002,41022.019999999997,null,null,null,null,null,null,null,null,null,null,null,149260.83000000002]
[null,"Ercos ",0,687,687,{"$error":"#DIV/0!"},null,null,null,"Ercos ",687,687,null,null,null,null,null,null,null,null,null,null,null,null,null,"General d'aspirazione",0]
[null,"First Corporation ",14258.4277,459.58600000000001,-13798.841700000001,-0.96776741379415909,null,null,null,"First Corporation ",459.58600000000001,459.58600000000001,null,null,null,null,null,null,null,null,null,null,null,null,null,"General Fittings ",132901.34,28373.897391304308,null,null,null,null,null,null,null,null,null,null,null,132901.34]
[null,"Bwt/Cillichemie",0,355,355,{"$error":"#DIV/0!"},null,null,null,"Bwt/Cillichemie",355,355,null,null,null,null,null,null,null,null,null,null,null,null,null,"Giacomini",7884.35,90155.32,null,null,null,null,null,null,null,null,null,null,null,7884.35]
[null,"Rems",1302,316,-986,-0.75729646697388631,null,null,null,"Rems",316,316,null,null,null,null,null,null,null,null,null,null,null,null,null,"Giuseppe Tirinnanzi",1849.4,2110.06,null,null,null,null,null,null,null,null,null,null,null,1849.4]
[null,"Tenaris Dalmine ",0,0,0,{"$error":"#DIV/0!"},null,null,null,"Tenaris Dalmine ",0,null,null,null,null,null,null,null,null,null,null,null,null,null,null,"Global ",34301.5,70949.509999999995,null,null,null,null,null,null,null,null,null,null,null,34301.5]
[null,"Rubinetterie Bresciane ",0,0,0,{"$error":"#DIV/0!"},null,null,null,"Rubinetterie Bresciane ",0,null,null,null,null,null,null,null,null,null,null,null,null,null,null,"Griffon - Bostik",0]
[null,"Eurocornici",0,0,0,{"$error":"#DIV/0!"},null,null,null,"Eurocornici",0,null,null,null,null,null,null,null,null,null,null,null,null,null,null,"Grohe",18078.07,4860.07,null,null,null,null,null,null,null,null,null,null,null,18078.07]
[null,"Bmeters",0,0,0,{"$error":"#DIV/0!"},null,null,null,"Bmeters",0,null,null,null,null,null,null,null,null,null,null,null,null,null,null,"Gruppo Salteco",0]
[null,"Griffon - Bostik",0,0,0,{"$error":"#DIV/0!"},null,null,null,"Griffon - Bostik",0,null,null,null,null,null,null,null,null,null,null,null,null,null,null,"Haier ",9225.85,5619.72,null,null,null,null,null,null,null,null,null,null,null,9225.85]
[null,"Carrier",0,0,0,{"$error":"#DIV/0!"},null,null,null,"Carrier",0,null,null,null,null,null,null,null,null,null,null,null,null,null,null,"Ibp Banninger ",0,9287]
[null,"Bossini ",0,0,0,{"$error":"#DIV/0!"},null,null,null,"Bossini ",0,null,null,null,null,null,null,null,null,null,null,null,null,null,null,"Ideal Standard",0]
[null,"Arredamenti Montegrappa",0,0,0,{"$error":"#DIV/0!"},null,null,null,"Arredamenti Montegrappa",0,null,null,null,null,null,null,null,null,null,null,null,null,null,null,"Immergas ",124928.85,null,null,null,null,null,null,null,null,null,null,null,null,124928.85]
[null,"Gruppo Salteco",0,0,0,{"$error":"#DIV/0!"},null,null,null,"Gruppo Salteco",0,null,null,null,null,null,null,null,null,null,null,null,null,null,null,"Isoclima",0]
[null,"Polieco",0,0,0,{"$error":"#DIV/0!"},null,null,null,"Polieco",0,null,null,null,null,null,null,null,null,null,null,null,null,null,null,"Italkero",0]
[null,"Wilo",0,0,0,{"$error":"#DIV/0!"},null,null,null,"Wilo",0,null,null,null,null,null,null,null,null,null,null,null,null,null,null,"Itap",0,4017.2300000000005]
[null,"Galletti",0,0,0,{"$error":"#DIV/0!"},null,null,null,"Galletti",0,null,null,null,null,null,null,null,null,null,null,null,null,null,null,"KINEDO",0]
[null,"Xylem",0,0,0,{"$error":"#DIV/0!"},null,null,null,"Xylem",0,null,null,null,null,null,null,null,null,null,null,null,null,null,null,"LG",58297.91,16720.180000000004,null,null,null,null,null,null,null,null,null,null,null,58297.91]
[null,"Enolgas",0,0,0,{"$error":"#DIV/0!"},null,null,null,"Enolgas",0,null,null,null,null,null,null,null,null,null,null,null,null,null,null,"L'isolante K-Flex ",6049.4299999999994,null,null,null,null,null,null,null,null,null,null,null,null,6049.4299999999994]
[null,"Ideal Standard",0,0,0,{"$error":"#DIV/0!"},null,null,null,"Ideal Standard",0,null,null,null,null,null,null,null,null,null,null,null,null,null,null,"Megius",4375.8,792.51,null,null,null,null,null,null,null,null,null,null,null,4375.8]
[null,"Tecnocontrol",0,0,0,{"$error":"#DIV/0!"},null,null,null,"Tecnocontrol",0,null,null,null,null,null,null,null,null,null,null,null,null,null,null,"Mut Meccanica Tovo",0]
[null,"BT-Flex",0,0,0,{"$error":"#DIV/0!"},null,null,null,"BT-Flex",0,null,null,null,null,null,null,null,null,null,null,null,null,null,null,"Negrari",1532.11,659.6,null,null,null,null,null,null,null,null,null,null,null,1532.11]
[null,"Tiemme Raccorderie",0,0,0,{"$error":"#DIV/0!"},null,null,null,"Tiemme Raccorderie",0,null,null,null,null,null,null,null,null,null,null,null,null,null,null,"Neoperl",12866.1,3600.07,null,null,null,null,null,null,null,null,null,null,null,12866.1]
[null,"Isoclima",0,0,0,{"$error":"#DIV/0!"},null,null,null,"Isoclima",0,null,null,null,null,null,null,null,null,null,null,null,null,null,null,"Novellini ",3267.23,7384.18,null,null,null,null,null,null,null,null,null,null,null,3267.23]
[null,"Atusa",0,0,0,{"$error":"#DIV/0!"},null,null,null,"Atusa",0,null,null,null,null,null,null,null,null,null,null,null,null,null,null,"Olimpia Splendid ",1281,5641,null,null,null,null,null,null,null,null,null,null,null,1281]
[null,"Italkero",0,0,0,{"$error":"#DIV/0!"},null,null,null,"Italkero",0,null,null,null,null,null,null,null,null,null,null,null,null,null,null,"Omp Tea ",0,810.03]
[null,"Planus",0,0,0,{"$error":"#DIV/0!"},null,null,null,"Planus",0,null,null,null,null,null,null,null,null,null,null,null,null,null,null,"Paini",2524.73,2388.5,null,null,null,null,null,null,null,null,null,null,null,2524.73]
[null,"Itap",4017.2300000000005,0,-4017.2300000000005,-1,null,null,null,"Itap",0,null,null,null,null,null,null,null,null,null,null,null,null,null,null,"Panasonic",0]
[null,"Arbi arredobagno",0,0,0,{"$error":"#DIV/0!"},null,null,null,"Arbi arredobagno",0,null,null,null,null,null,null,null,null,null,null,null,null,null,null,"Planus",0]
[null,"KINEDO",0,0,0,{"$error":"#DIV/0!"},null,null,null,"KINEDO",0,null,null,null,null,null,null,null,null,null,null,null,null,null,null,"Polieco",0]
[null,"Beza",0,0,0,{"$error":"#DIV/0!"},null,null,null,"Beza",0,null,null,null,null,null,null,null,null,null,null,null,null,null,null,"Raccorderie Metalliche  ",17654.93,10410.42,null,null,null,null,null,null,null,null,null,null,null,17654.93]
[null,"Rizzo Aquae",0,0,0,{"$error":"#DIV/0!"},null,null,null,"Rizzo Aquae",0,null,null,null,null,null,null,null,null,null,null,null,null,null,null,"Rems",316,1302,null,null,null,null,null,null,null,null,null,null,null,316]
[null,"RM Manfredi",930.06,0,-930.06,-1,null,null,null,"RM Manfredi",0,null,null,null,null,null,null,null,null,null,null,null,null,null,null,"River",1642.99,1493.77,null,null,null,null,null,null,null,null,null,null,null,1642.99]
[null,"Royo",0,0,0,{"$error":"#DIV/0!"},null,null,null,"Royo",0,null,null,null,null,null,null,null,null,null,null,null,null,null,null,"Rizzo Aquae",0]
[null,"Farg",0,0,0,{"$error":"#DIV/0!"},null,null,null,"Farg",0,null,null,null,null,null,null,null,null,null,null,null,null,null,null,"RM Manfredi",0,930.06]
[null,"Sabiana",0,0,0,{"$error":"#DIV/0!"},null,null,null,"Sabiana",0,null,null,null,null,null,null,null,null,null,null,null,null,null,null,"Royo",0]
[null,"Samsung",0,0,0,{"$error":"#DIV/0!"},null,null,null,"Samsung",0,null,null,null,null,null,null,null,null,null,null,null,null,null,null,"Rubinetterie Bresciane ",0]
[null,"Silmet",0,0,0,{"$error":"#DIV/0!"},null,null,null,"Silmet",0,null,null,null,null,null,null,null,null,null,null,null,null,null,null,"Sabiana",0]
[null,"System Group (Rototec)",2635.49,0,-2635.49,-1,null,null,null,"System Group (Rototec)",0,null,null,null,null,null,null,null,null,null,null,null,null,null,null,"Samsung",0]
[null,"Mut Meccanica Tovo",0,0,0,{"$error":"#DIV/0!"},null,null,null,"Mut Meccanica Tovo",0,null,null,null,null,null,null,null,null,null,null,null,null,null,null,"Silmet",0]
[null,"System Group (Sab)",0,0,0,{"$error":"#DIV/0!"},null,null,null,"System Group (Sab)",0,null,null,null,null,null,null,null,null,null,null,null,null,null,null,"System Group (Rototec)",0,2635.49]
[null,"GBD ",0,0,0,{"$error":"#DIV/0!"},null,null,null,"GBD ",0,null,null,null,null,null,null,null,null,null,null,null,null,null,null,"System Group (Sa.Mi. Plastic)",22329.4,37019.78,null,null,null,null,null,null,null,null,null,null,null,22329.4]
[null,"Tecnosystemi",322.17,0,-322.17,-1,null,null,null,"Tecnosystemi",0,null,null,null,null,null,null,null,null,null,null,null,null,null,null,"System Group (Sab)",0]
[null,"Ferroli",0,0,0,{"$error":"#DIV/0!"},null,null,null,"Ferroli",0,null,null,null,null,null,null,null,null,null,null,null,null,null,null,"Tecnocontrol",0]
[null,"Bernasconi ",0,0,0,{"$error":"#DIV/0!"},null,null,null,"Bernasconi ",0,null,null,null,null,null,null,null,null,null,null,null,null,null,null,"Tecnosystemi",0,322.17]
[null,"Wavin ",0,0,0,{"$error":"#DIV/0!"},null,null,null,"Wavin ",0,null,null,null,null,null,null,null,null,null,null,null,null,null,null,"Tenaris Dalmine ",0]
[null,"Unidelta",0,0,0,{"$error":"#DIV/0!"},null,null,null,"Unidelta",0,null,null,null,null,null,null,null,null,null,null,null,null,null,null,"Thermomat Saniline ",8961,2984,null,null,null,null,null,null,null,null,null,null,null,8961]
[null,"Galassia ",0,0,0,{"$error":"#DIV/0!"},null,null,null,"Galassia ",0,null,null,null,null,null,null,null,null,null,null,null,null,null,null,"Tiemme Raccorderie",0]
[null,"Dab Pumps",0,0,0,{"$error":"#DIV/0!"},null,null,null,"Dab Pumps",0,null,null,null,null,null,null,null,null,null,null,null,null,null,null,"Unidelta",0]
[null,"Omp Tea ",810.03,0,-810.03,-1,null,null,null,"Omp Tea ",0,null,null,null,null,null,null,null,null,null,null,null,null,null,null,"Va-Albertoni ",13618.21,9959.09,null,null,null,null,null,null,null,null,null,null,null,13618.21]
[null,"Vortice",0,0,0,{"$error":"#DIV/0!"},null,null,null,"Vortice",0,null,null,null,null,null,null,null,null,null,null,null,null,null,null,"Valsir",29347,121488,null,null,null,null,null,null,null,null,null,null,null,29347]
[null,"General d'aspirazione",0,0,0,{"$error":"#DIV/0!"},null,null,null,"General d'aspirazione",0,null,null,null,null,null,null,null,null,null,null,null,null,null,null,"Varem",16405.439999999999,645.30000000000007,null,null,null,null,null,null,null,null,null,null,null,16405.439999999999]
[null,"Panasonic",0,0,0,{"$error":"#DIV/0!"},null,null,null,"Panasonic",0,null,null,null,null,null,null,null,null,null,null,null,null,null,null,"Vortice",0]
[null,"Fima Carlo Frattini",0,0,0,{"$error":"#DIV/0!"},null,null,null,"Fima Carlo Frattini",0,null,null,null,null,null,null,null,null,null,null,null,null,null,null,"Wavin ",0]
[null,"Albatros",0,0,0,{"$error":"#DIV/0!"},null,null,null,"Albatros",0,null,null,null,null,null,null,null,null,null,null,null,null,null,null,"Wilo",0]
[null,"Ibp Banninger ",9287,0,-9287,-1,null,null,null,"Ibp Banninger ",0,null,null,null,null,null,null,null,null,null,null,null,null,null,null,"Xylem",0]
["Totale complessivo",null,661942.46509130427,1033305.776,371363.31090869568,0.56102052745244579,null,null,"Totale complessivo",null,1033305.776,1033305.776,null,null,null,null,null,null,null,null,null,null,null,null,"Totale complessivo",null,1033305.776,661942.46509130427,null,null,null,null,null,null,null,null,null,null,null,1033305.776]

{"sheet":"BUDGET","index":2,"n_rows":112,"n_cols":24,"rows_kept":112,"cut":false,"hidden":false,"merged":[[1,0,1,8],[0,14,1,15]]}
[null,null,null,null,null,null,null,null,null,null,null,null,null,null,"BUDGET  ANNUALE DEGLI ACQUISTI"]
["BUDGET MENSILE DEGLI ACQUISTI"]
["FORNITORE","GEN 22","FEB 22","MAR 22","APR 22","MAG 22","GIU 22","LUG 22","AGO 22","SET 22","OTT 22","NOV 22","DIC 22",null,"FORNITORE","BUDGET 2022",null,null,null,null,"GEN-MAR","APR-GIU","LUG-SET","OTT-DIC"]
[{"$f":"IF(O4=0,\"\",O4)","v":"Geberit"},{"$f":"IFERROR(VLOOKUP(A4,STAGIONALITA!$A$3:$M$105,2,FALSE)*P4,\"\")","v":55658.654946289935},{"$f":"IFERROR(VLOOKUP(A4,STAGIONALITA!$A$3:$M$105,3,FALSE)*P4,\"\")","v":83623.419351851087},{"$f":"IFERROR(VLOOKUP(A4,STAGIONALITA!$A$3:$M$105,4,FALSE)*P4,\"\")","v":86504.885516758499},{"$f":"IFERROR(VLOOKUP(A4,STAGIONALITA!$A$3:$M$105,5,FALSE)*P4,\"\")","v":62180.10877339312},{"$f":"IFERROR(VLOOKUP(A4,STAGIONALITA!$A$3:$M$105,6,FALSE)*P4,\"\")","v":61699.714646194567},{"$f":"IFERROR(VLOOKUP(A4,STAGIONALITA!$A$3:$M$105,7,FALSE)*P4,\"\")","v":77431.49470800448},{"$f":"IFERROR(VLOOKUP(A4,STAGIONALITA!$A$3:$M$105,8,FALSE)*P4,\"\")","v":69474.409397289433},{"$f":"IFERROR(VLOOKUP(A4,STAGIONALITA!$A$3:$M$105,9,FALSE)*P4,\"\")","v":33940.226430774463},{"$f":"IFERROR(VLOOKUP(A4,STAGIONALITA!$A$3:$M$105,10,FALSE)*P4,\"\")","v":56722.981138636664},{"$f":"IFERROR(VLOOKUP(A4,STAGIONALITA!$A$3:$M$105,11,FALSE)*P4,\"\")","v":82940.213334513377},{"$f":"IFERROR(VLOOKUP(A4,STAGIONALITA!$A$3:$M$105,12,FALSE)*P4,\"\")","v":88873.764835354435},{"$f":"IFERROR(VLOOKUP(A4,STAGIONALITA!$A$3:$M$105,13,FALSE)*P4,\"\")","v":40950.126920940042},null,"Geberit",800000,null,null,null,"ACQUISTI",{"$f":"ACQUISTI!L5+ACQUISTI!M5+ACQUISTI!N5","v":1033305.776},{"$f":"U4+ACQUISTI!O5+ACQUISTI!P5+ACQUISTI!Q5","v":1033305.776},{"$f":"V4+ACQUISTI!R5+ACQUISTI!S5+ACQUISTI!T5","v":1033305.776},{"$f":"W4+ACQUISTI!U5+ACQUISTI!V5+ACQUISTI!W5","v":1033305.776}]
["Immergas ",{"$f":"IFERROR(VLOOKUP(A5,STAGIONALITA!$A$3:$M$105,2,FALSE)*P5,\"\")","v":32120.644048927708},{"$f":"IFERROR(VLOOKUP(A5,STAGIONALITA!$A$3:$M$105,3,FALSE)*P5,\"\")","v":59954.897977896733},{"$f":"IFERROR(VLOOKUP(A5,STAGIONALITA!$A$3:$M$105,4,FALSE)*P5,\"\")","v":77271.774184353315},{"$f":"IFERROR(VLOOKUP(A5,STAGIONALITA!$A$3:$M$105,5,FALSE)*P5,\"\")","v":46900.383469667082},{"$f":"IFERROR(VLOOKUP(A5,STAGIONALITA!$A$3:$M$105,6,FALSE)*P5,\"\")","v":42674.159887011512},{"$f":"IFERROR(VLOOKUP(A5,STAGIONALITA!$A$3:$M$105,7,FALSE)*P5,\"\")","v":71249.687560438222},{"$f":"IFERROR(VLOOKUP(A5,STAGIONALITA!$A$3:$M$105,8,FALSE)*P5,\"\")","v":37486.144194128407},{"$f":"IFERROR(VLOOKUP(A5,STAGIONALITA!$A$3:$M$105,9,FALSE)*P5,\"\")","v":8997.6707130042196},{"$f":"IFERROR(VLOOKUP(A5,STAGIONALITA!$A$3:$M$105,10,FALSE)*P5,\"\")","v":80218.567966893577},{"$f":"IFERROR(VLOOKUP(A5,STAGIONALITA!$A$3:$M$105,11,FALSE)*P5,\"\")","v":92838.521065983892},{"$f":"IFERROR(VLOOKUP(A5,STAGIONALITA!$A$3:$M$105,12,FALSE)*P5,\"\")","v":134776.92945318215},{"$f":"IFERROR(VLOOKUP(A5,STAGIONALITA!$A$3:$M$105,13,FALSE)*P5,\"\")","v":65510.619478513072},null,"Immergas ",750000,null,null,null,"BUDGET",{"$f":"SUM(B4:D106)","v":2099470.3480083193},{"$f":"U5+SUM(E4:G106)","v":4076555.7355788331},{"$f":"V5+SUM(H4:J106)","v":5653930.6671507042},{"$f":"W5+SUM(K4:M106)","v":7596000.0000000028}]
["Ariston ",{"$f":"IFERROR(VLOOKUP(A6,STAGIONALITA!$A$3:$M$105,2,FALSE)*P6,\"\")","v":42476.064897828299},{"$f":"IFERROR(VLOOKUP(A6,STAGIONALITA!$A$3:$M$105,3,FALSE)*P6,\"\")","v":64757.748191954102},{"$f":"IFERROR(VLOOKUP(A6,STAGIONALITA!$A$3:$M$105,4,FALSE)*P6,\"\")","v":51381.921678680243},{"$f":"IFERROR(VLOOKUP(A6,STAGIONALITA!$A$3:$M$105,5,FALSE)*P6,\"\")","v":52158.34812056493},{"$f":"IFERROR(VLOOKUP(A6,STAGIONALITA!$A$3:$M$105,6,FALSE)*P6,\"\")","v":49557.012448238886},{"$f":"IFERROR(VLOOKUP(A6,STAGIONALITA!$A$3:$M$105,7,FALSE)*P6,\"\")","v":55626.065547495316},{"$f":"IFERROR(VLOOKUP(A6,STAGIONALITA!$A$3:$M$105,8,FALSE)*P6,\"\")","v":46512.764941723653},{"$f":"IFERROR(VLOOKUP(A6,STAGIONALITA!$A$3:$M$105,9,FALSE)*P6,\"\")","v":7499.0963543636681},{"$f":"IFERROR(VLOOKUP(A6,STAGIONALITA!$A$3:$M$105,10,FALSE)*P6,\"\")","v":43630.71455855394},{"$f":"IFERROR(VLOOKUP(A6,STAGIONALITA!$A$3:$M$105,11,FALSE)*P6,\"\")","v":54099.45951908375},{"$f":"IFERROR(VLOOKUP(A6,STAGIONALITA!$A$3:$M$105,12,FALSE)*P6,\"\")","v":32417.863005157673},{"$f":"IFERROR(VLOOKUP(A6,STAGIONALITA!$A$3:$M$105,13,FALSE)*P6,\"\")","v":29882.940736355533},null,"Ariston ",530000,null,null,null,"Δ € ",{"$f":"U4-U5","v":-1066164.5720083192},{"$f":"V4-V5","v":-3043249.9595788331},{"$f":"W4-W5","v":-4620624.8911507046},{"$f":"X4-X5","v":-6562694.2240000032}]
["Giacomini",{"$f":"IFERROR(VLOOKUP(A7,STAGIONALITA!$A$3:$M$105,2,FALSE)*P7,\"\")","v":44302.197628437098},{"$f":"IFERROR(VLOOKUP(A7,STAGIONALITA!$A$3:$M$105,3,FALSE)*P7,\"\")","v":33842.84306716967},{"$f":"IFERROR(VLOOKUP(A7,STAGIONALITA!$A$3:$M$105,4,FALSE)*P7,\"\")","v":68887.136830820062},{"$f":"IFERROR(VLOOKUP(A7,STAGIONALITA!$A$3:$M$105,5,FALSE)*P7,\"\")","v":33100.732800114783},{"$f":"IFERROR(VLOOKUP(A7,STAGIONALITA!$A$3:$M$105,6,FALSE)*P7,\"\")","v":34681.021355932142},{"$f":"IFERROR(VLOOKUP(A7,STAGIONALITA!$A$3:$M$105,7,FALSE)*P7,\"\")","v":47708.337220084592},{"$f":"IFERROR(VLOOKUP(A7,STAGIONALITA!$A$3:$M$105,8,FALSE)*P7,\"\")","v":46781.039500504237},{"$f":"IFERROR(VLOOKUP(A7,STAGIONALITA!$A$3:$M$105,9,FALSE)*P7,\"\")","v":13520.358004437187},{"$f":"IFERROR(VLOOKUP(A7,STAGIONALITA!$A$3:$M$105,10,FALSE)*P7,\"\")","v":28435.136883689735},{"$f":"IFERROR(VLOOKUP(A7,STAGIONALITA!$A$3:$M$105,11,FALSE)*P7,\"\")","v":51034.36565802883},{"$f":"IFERROR(VLOOKUP(A7,STAGIONALITA!$A$3:$M$105,12,FALSE)*P7,\"\")","v":44097.30255088886},{"$f":"IFERROR(VLOOKUP(A7,STAGIONALITA!$A$3:$M$105,13,FALSE)*P7,\"\")","v":33609.528499892767},null,"Giacomini",480000]
["Valsir",{"$f":"IFERROR(VLOOKUP(A8,STAGIONALITA!$A$3:$M$105,2,FALSE)*P8,\"\")","v":45803.001999182852},{"$f":"IFERROR(VLOOKUP(A8,STAGIONALITA!$A$3:$M$105,3,FALSE)*P8,\"\")","v":39107.631782556287},{"$f":"IFERROR(VLOOKUP(A8,STAGIONALITA!$A$3:$M$105,4,FALSE)*P8,\"\")","v":58792.29340466889},{"$f":"IFERROR(VLOOKUP(A8,STAGIONALITA!$A$3:$M$105,5,FALSE)*P8,\"\")","v":33032.591930827904},{"$f":"IFERROR(VLOOKUP(A8,STAGIONALITA!$A$3:$M$105,6,FALSE)*P8,\"\")","v":38556.09745436674},{"$f":"IFERROR(VLOOKUP(A8,STAGIONALITA!$A$3:$M$105,7,FALSE)*P8,\"\")","v":41306.606311831478},{"$f":"IFERROR(VLOOKUP(A8,STAGIONALITA!$A$3:$M$105,8,FALSE)*P8,\"\")","v":42971.870183444553},{"$f":"IFERROR(VLOOKUP(A8,STAGIONALITA!$A$3:$M$105,9,FALSE)*P8,\"\")","v":5573.3118551995676},{"$f":"IFERROR(VLOOKUP(A8,STAGIONALITA!$A$3:$M$105,10,FALSE)*P8,\"\")","v":39823.243825414116},{"$f":"IFERROR(VLOOKUP(A8,STAGIONALITA!$A$3:$M$105,11,FALSE)*P8,\"\")","v":47609.689200494773},{"$f":"IFERROR(VLOOKUP(A8,STAGIONALITA!$A$3:$M$105,12,FALSE)*P8,\"\")","v":29580.963173831362},{"$f":"IFERROR(VLOOKUP(A8,STAGIONALITA!$A$3:$M$105,13,FALSE)*P8,\"\")","v":27842.698878181502},null,"Valsir",450000]
["General Fittings ",{"$f":"IFERROR(VLOOKUP(A9,STAGIONALITA!$A$3:$M$105,2,FALSE)*P9,\"\")","v":0},{"$f":"IFERROR(VLOOKUP(A9,STAGIONALITA!$A$3:$M$105,3,FALSE)*P9,\"\")","v":109443.0627617063},{"$f":"IFERROR(VLOOKUP(A9,STAGIONALITA!$A$3:$M$105,4,FALSE)*P9,\"\")","v":18522.676527344142},{"$f":"IFERROR(VLOOKUP(A9,STAGIONALITA!$A$3:$M$105,5,FALSE)*P9,\"\")","v":25693.521766324353},{"$f":"IFERROR(VLOOKUP(A9,STAGIONALITA!$A$3:$M$105,6,FALSE)*P9,\"\")","v":37538.716660743448},{"$f":"IFERROR(VLOOKUP(A9,STAGIONALITA!$A$3:$M$105,7,FALSE)*P9,\"\")","v":27811.088486170476},{"$f":"IFERROR(VLOOKUP(A9,STAGIONALITA!$A$3:$M$105,8,FALSE)*P9,\"\")","v":0},{"$f":"IFERROR(VLOOKUP(A9,STAGIONALITA!$A$3:$M$105,9,FALSE)*P9,\"\")","v":29796.424218544693},{"$f":"IFERROR(VLOOKUP(A9,STAGIONALITA!$A$3:$M$105,10,FALSE)*P9,\"\")","v":45454.651078419163},{"$f":"IFERROR(VLOOKUP(A9,STAGIONALITA!$A$3:$M$105,11,FALSE)*P9,\"\")","v":29658.503318886451},{"$f":"IFERROR(VLOOKUP(A9,STAGIONALITA!$A$3:$M$105,12,FALSE)*P9,\"\")","v":11163.061218678455},{"$f":"IFERROR(VLOOKUP(A9,STAGIONALITA!$A$3:$M$105,13,FALSE)*P9,\"\")","v":14918.293963182572},null,"General Fittings ",350000]
["Bosch",{"$f":"IFERROR(VLOOKUP(A10,STAGIONALITA!$A$3:$M$105,2,FALSE)*P10,\"\")","v":24738.921009412181},{"$f":"IFERROR(VLOOKUP(A10,STAGIONALITA!$A$3:$M$105,3,FALSE)*P10,\"\")","v":16938.486301083842},{"$f":"IFERROR(VLOOKUP(A10,STAGIONALITA!$A$3:$M$105,4,FALSE)*P10,\"\")","v":32256.858566158942},{"$f":"IFERROR(VLOOKUP(A10,STAGIONALITA!$A$3:$M$105,5,FALSE)*P10,\"\")","v":36900.92466478944},{"$f":"IFERROR(VLOOKUP(A10,STAGIONALITA!$A$3:$M$105,6,FALSE)*P10,\"\")","v":24405.425406756174},{"$f":"IFERROR(VLOOKUP(A10,STAGIONALITA!$A$3:$M$105,7,FALSE)*P10,\"\")","v":19076.596500256604},{"$f":"IFERROR(VLOOKUP(A10,STAGIONALITA!$A$3:$M$105,8,FALSE)*P10,\"\")","v":25472.733587409111},{"$f":"IFERROR(VLOOKUP(A10,STAGIONALITA!$A$3:$M$105,9,FALSE)*P10,\"\")","v":4512.4501652829122},{"$f":"IFERROR(VLOOKUP(A10,STAGIONALITA!$A$3:$M$105,10,FALSE)*P10,\"\")","v":33851.10845854754},{"$f":"IFERROR(VLOOKUP(A10,STAGIONALITA!$A$3:$M$105,11,FALSE)*P10,\"\")","v":76759.707098114159},{"$f":"IFERROR(VLOOKUP(A10,STAGIONALITA!$A$3:$M$105,12,FALSE)*P10,\"\")","v":27387.414647409554},{"$f":"IFERROR(VLOOKUP(A10,STAGIONALITA!$A$3:$M$105,13,FALSE)*P10,\"\")","v":17699.373594779503},null,"Bosch",340000]
["Haier ",{"$f":"IFERROR(VLOOKUP(A11,STAGIONALITA!$A$3:$M$105,2,FALSE)*P11,\"\")","v":0},{"$f":"IFERROR(VLOOKUP(A11,STAGIONALITA!$A$3:$M$105,3,FALSE)*P11,\"\")","v":29224.236369459475},{"$f":"IFERROR(VLOOKUP(A11,STAGIONALITA!$A$3:$M$105,4,FALSE)*P11,\"\")","v":45563.268230683425},{"$f":"IFERROR(VLOOKUP(A11,STAGIONALITA!$A$3:$M$105,5,FALSE)*P11,\"\")","v":51326.198349159109},{"$f":"IFERROR(VLOOKUP(A11,STAGIONALITA!$A$3:$M$105,6,FALSE)*P11,\"\")","v":80536.281095124548},{"$f":"IFERROR(VLOOKUP(A11,STAGIONALITA!$A$3:$M$105,7,FALSE)*P11,\"\")","v":10590.052809913232},{"$f":"IFERROR(VLOOKUP(A11,STAGIONALITA!$A$3:$M$105,8,FALSE)*P11,\"\")","v":61793.797418300244},{"$f":"IFERROR(VLOOKUP(A11,STAGIONALITA!$A$3:$M$105,9,FALSE)*P11,\"\")","v":25608.859090905378},{"$f":"IFERROR(VLOOKUP(A11,STAGIONALITA!$A$3:$M$105,10,FALSE)*P11,\"\")","v":6687.3550051328048},{"$f":"IFERROR(VLOOKUP(A11,STAGIONALITA!$A$3:$M$105,11,FALSE)*P11,\"\")","v":-1963.7920502165218},{"$f":"IFERROR(VLOOKUP(A11,STAGIONALITA!$A$3:$M$105,12,FALSE)*P11,\"\")","v":15698.875089445337},{"$f":"IFERROR(VLOOKUP(A11,STAGIONALITA!$A$3:$M$105,13,FALSE)*P11,\"\")","v":4934.868592093022},null,"Haier ",330000]
["LG",{"$f":"IFERROR(VLOOKUP(A12,STAGIONALITA!$A$3:$M$105,2,FALSE)*P12,\"\")","v":0},{"$f":"IFERROR(VLOOKUP(A12,STAGIONALITA!$A$3:$M$105,3,FALSE)*P12,\"\")","v":58547.717323581994},{"$f":"IFERROR(VLOOKUP(A12,STAGIONALITA!$A$3:$M$105,4,FALSE)*P12,\"\")","v":10886.716668928137},{"$f":"IFERROR(VLOOKUP(A12,STAGIONALITA!$A$3:$M$105,5,FALSE)*P12,\"\")","v":19703.2641150079},{"$f":"IFERROR(VLOOKUP(A12,STAGIONALITA!$A$3:$M$105,6,FALSE)*P12,\"\")","v":7182.4762680470812},{"$f":"IFERROR(VLOOKUP(A12,STAGIONALITA!$A$3:$M$105,7,FALSE)*P12,\"\")","v":19467.453342735473},{"$f":"IFERROR(VLOOKUP(A12,STAGIONALITA!$A$3:$M$105,8,FALSE)*P12,\"\")","v":48680.1758783818},{"$f":"IFERROR(VLOOKUP(A12,STAGIONALITA!$A$3:$M$105,9,FALSE)*P12,\"\")","v":29139.219889253513},{"$f":"IFERROR(VLOOKUP(A12,STAGIONALITA!$A$3:$M$105,10,FALSE)*P12,\"\")","v":30594.705697145524},{"$f":"IFERROR(VLOOKUP(A12,STAGIONALITA!$A$3:$M$105,11,FALSE)*P12,\"\")","v":20047.996398646093},{"$f":"IFERROR(VLOOKUP(A12,STAGIONALITA!$A$3:$M$105,12,FALSE)*P12,\"\")","v":24565.762219456625},{"$f":"IFERROR(VLOOKUP(A12,STAGIONALITA!$A$3:$M$105,13,FALSE)*P12,\"\")","v":31184.512198815846},null,"LG",300000]
["Cordivari ",{"$f":"IFERROR(VLOOKUP(A13,STAGIONALITA!$A$3:$M$105,2,FALSE)*P13,\"\")","v":13301.507968403424},{"$f":"IFERROR(VLOOKUP(A13,STAGIONALITA!$A$3:$M$105,3,FALSE)*P13,\"\")","v":18538.435307059604},{"$f":"IFERROR(VLOOKUP(A13,STAGIONALITA!$A$3:$M$105,4,FALSE)*P13,\"\")","v":23988.84913408021},{"$f":"IFERROR(VLOOKUP(A13,STAGIONALITA!$A$3:$M$105,5,FALSE)*P13,\"\")","v":24630.053413527567},{"$f":"IFERROR(VLOOKUP(A13,STAGIONALITA!$A$3:$M$105,6,FALSE)*P13,\"\")","v":23288.059706312099},{"$f":"IFERROR(VLOOKUP(A13,STAGIONALITA!$A$3:$M$105,7,FALSE)*P13,\"\")","v":24290.220094754106},{"$f":"IFERROR(VLOOKUP(A13,STAGIONALITA!$A$3:$M$105,8,FALSE)*P13,\"\")","v":27954.777938597115},{"$f":"IFERROR(VLOOKUP(A13,STAGIONALITA!$A$3:$M$105,9,FALSE)*P13,\"\")","v":12811.643447056187},{"$f":"IFERROR(VLOOKUP(A13,STAGIONALITA!$A$3:$M$105,10,FALSE)*P13,\"\")","v":22311.678103169794},{"$f":"IFERROR(VLOOKUP(A13,STAGIONALITA!$A$3:$M$105,11,FALSE)*P13,\"\")","v":28120.470764232323},{"$f":"IFERROR(VLOOKUP(A13,STAGIONALITA!$A$3:$M$105,12,FALSE)*P13,\"\")","v":37428.913093956689},{"$f":"IFERROR(VLOOKUP(A13,STAGIONALITA!$A$3:$M$105,13,FALSE)*P13,\"\")","v":23335.39102885087},null,"Cordivari ",280000]
["Ebara",{"$f":"IFERROR(VLOOKUP(A14,STAGIONALITA!$A$3:$M$105,2,FALSE)*P14,\"\")","v":0},{"$f":"IFERROR(VLOOKUP(A14,STAGIONALITA!$A$3:$M$105,3,FALSE)*P14,\"\")","v":41827.587664439387},{"$f":"IFERROR(VLOOKUP(A14,STAGIONALITA!$A$3:$M$105,4,FALSE)*P14,\"\")","v":26084.298463640564},{"$f":"IFERROR(VLOOKUP(A14,STAGIONALITA!$A$3:$M$105,5,FALSE)*P14,\"\")","v":19652.623895814249},{"$f":"IFERROR(VLOOKUP(A14,STAGIONALITA!$A$3:$M$105,6,FALSE)*P14,\"\")","v":12640.040215176936},{"$f":"IFERROR(VLOOKUP(A14,STAGIONALITA!$A$3:$M$105,7,FALSE)*P14,\"\")","v":29132.209814149472},{"$f":"IFERROR(VLOOKUP(A14,STAGIONALITA!$A$3:$M$105,8,FALSE)*P14,\"\")","v":31712.711512212834},{"$f":"IFERROR(VLOOKUP(A14,STAGIONALITA!$A$3:$M$105,9,FALSE)*P14,\"\")","v":6621.9301564065327},{"$f":"IFERROR(VLOOKUP(A14,STAGIONALITA!$A$3:$M$105,10,FALSE)*P14,\"\")","v":14337.036287876599},{"$f":"IFERROR(VLOOKUP(A14,STAGIONALITA!$A$3:$M$105,11,FALSE)*P14,\"\")","v":18474.722216565671},{"$f":"IFERROR(VLOOKUP(A14,STAGIONALITA!$A$3:$M$105,12,FALSE)*P14,\"\")","v":19732.105264441005},{"$f":"IFERROR(VLOOKUP(A14,STAGIONALITA!$A$3:$M$105,13,FALSE)*P14,\"\")","v":9784.7345092767482},null,"Ebara",230000]
["Carlo Nobili ",{"$f":"IFERROR(VLOOKUP(A15,STAGIONALITA!$A$3:$M$105,2,FALSE)*P15,\"\")","v":7828.5460526751849},{"$f":"IFERROR(VLOOKUP(A15,STAGIONALITA!$A$3:$M$105,3,FALSE)*P15,\"\")","v":55261.729960695768},{"$f":"IFERROR(VLOOKUP(A15,STAGIONALITA!$A$3:$M$105,4,FALSE)*P15,\"\")","v":9783.395894596606},{"$f":"IFERROR(VLOOKUP(A15,STAGIONALITA!$A$3:$M$105,5,FALSE)*P15,\"\")","v":8626.848392591628},{"$f":"IFERROR(VLOOKUP(A15,STAGIONALITA!$A$3:$M$105,6,FALSE)*P15,\"\")","v":23451.084014731907},{"$f":"IFERROR(VLOOKUP(A15,STAGIONALITA!$A$3:$M$105,7,FALSE)*P15,\"\")","v":15560.543763794591},{"$f":"IFERROR(VLOOKUP(A15,STAGIONALITA!$A$3:$M$105,8,FALSE)*P15,\"\")","v":24762.617012392213},{"$f":"IFERROR(VLOOKUP(A15,STAGIONALITA!$A$3:$M$105,9,FALSE)*P15,\"\")","v":9258.4778060328354},{"$f":"IFERROR(VLOOKUP(A15,STAGIONALITA!$A$3:$M$105,10,FALSE)*P15,\"\")","v":26693.583843507731},{"$f":"IFERROR(VLOOKUP(A15,STAGIONALITA!$A$3:$M$105,11,FALSE)*P15,\"\")","v":7051.0778285681463},{"$f":"IFERROR(VLOOKUP(A15,STAGIONALITA!$A$3:$M$105,12,FALSE)*P15,\"\")","v":30066.169858800811},{"$f":"IFERROR(VLOOKUP(A15,STAGIONALITA!$A$3:$M$105,13,FALSE)*P15,\"\")","v":11655.925571612577},null,"Carlo Nobili ",230000]
["Global ",{"$f":"IFERROR(VLOOKUP(A16,STAGIONALITA!$A$3:$M$105,2,FALSE)*P16,\"\")","v":25559.644458817689},{"$f":"IFERROR(VLOOKUP(A16,STAGIONALITA!$A$3:$M$105,3,FALSE)*P16,\"\")","v":17190.433794315391},{"$f":"IFERROR(VLOOKUP(A16,STAGIONALITA!$A$3:$M$105,4,FALSE)*P16,\"\")","v":22791.718384640852},{"$f":"IFERROR(VLOOKUP(A16,STAGIONALITA!$A$3:$M$105,5,FALSE)*P16,\"\")","v":17902.334538375846},{"$f":"IFERROR(VLOOKUP(A16,STAGIONALITA!$A$3:$M$105,6,FALSE)*P16,\"\")","v":8742.7431956874789},{"$f":"IFERROR(VLOOKUP(A16,STAGIONALITA!$A$3:$M$105,7,FALSE)*P16,\"\")","v":19564.183702460963},{"$f":"IFERROR(VLOOKUP(A16,STAGIONALITA!$A$3:$M$105,8,FALSE)*P16,\"\")","v":3461.4471318014489},{"$f":"IFERROR(VLOOKUP(A16,STAGIONALITA!$A$3:$M$105,9,FALSE)*P16,\"\")","v":2425.3874300195207},{"$f":"IFERROR(VLOOKUP(A16,STAGIONALITA!$A$3:$M$105,10,FALSE)*P16,\"\")","v":15332.945365874306},{"$f":"IFERROR(VLOOKUP(A16,STAGIONALITA!$A$3:$M$105,11,FALSE)*P16,\"\")","v":11618.239316218262},{"$f":"IFERROR(VLOOKUP(A16,STAGIONALITA!$A$3:$M$105,12,FALSE)*P16,\"\")","v":43197.744262464847},{"$f":"IFERROR(VLOOKUP(A16,STAGIONALITA!$A$3:$M$105,13,FALSE)*P16,\"\")","v":12213.178419323405},null,"Global ",200000]
["Novellini ",{"$f":"IFERROR(VLOOKUP(A17,STAGIONALITA!$A$3:$M$105,2,FALSE)*P17,\"\")","v":9949.8117414442258},{"$f":"IFERROR(VLOOKUP(A17,STAGIONALITA!$A$3:$M$105,3,FALSE)*P17,\"\")","v":11801.298808747539},{"$f":"IFERROR(VLOOKUP(A17,STAGIONALITA!$A$3:$M$105,4,FALSE)*P17,\"\")","v":11280.135181562579},{"$f":"IFERROR(VLOOKUP(A17,STAGIONALITA!$A$3:$M$105,5,FALSE)*P17,\"\")","v":17081.726229289805},{"$f":"IFERROR(VLOOKUP(A17,STAGIONALITA!$A$3:$M$105,6,FALSE)*P17,\"\")","v":13378.758825715349},{"$f":"IFERROR(VLOOKUP(A17,STAGIONALITA!$A$3:$M$105,7,FALSE)*P17,\"\")","v":19099.30600253816},{"$f":"IFERROR(VLOOKUP(A17,STAGIONALITA!$A$3:$M$105,8,FALSE)*P17,\"\")","v":18274.877964984607},{"$f":"IFERROR(VLOOKUP(A17,STAGIONALITA!$A$3:$M$105,9,FALSE)*P17,\"\")","v":5102.8111875363757},{"$f":"IFERROR(VLOOKUP(A17,STAGIONALITA!$A$3:$M$105,10,FALSE)*P17,\"\")","v":10819.815597764737},{"$f":"IFERROR(VLOOKUP(A17,STAGIONALITA!$A$3:$M$105,11,FALSE)*P17,\"\")","v":15273.764259621521},{"$f":"IFERROR(VLOOKUP(A17,STAGIONALITA!$A$3:$M$105,12,FALSE)*P17,\"\")","v":18751.872559124407},{"$f":"IFERROR(VLOOKUP(A17,STAGIONALITA!$A$3:$M$105,13,FALSE)*P17,\"\")","v":9185.8216416706946},null,"Novellini ",160000]
["System Group (Sa.Mi. Plastic)",{"$f":"IFERROR(VLOOKUP(A18,STAGIONALITA!$A$3:$M$105,2,FALSE)*P18,\"\")","v":16321.111097730041},{"$f":"IFERROR(VLOOKUP(A18,STAGIONALITA!$A$3:$M$105,3,FALSE)*P18,\"\")","v":20811.875329610291},{"$f":"IFERROR(VLOOKUP(A18,STAGIONALITA!$A$3:$M$105,4,FALSE)*P18,\"\")","v":10938.970257638261},{"$f":"IFERROR(VLOOKUP(A18,STAGIONALITA!$A$3:$M$105,5,FALSE)*P18,\"\")","v":17185.021129176537},{"$f":"IFERROR(VLOOKUP(A18,STAGIONALITA!$A$3:$M$105,6,FALSE)*P18,\"\")","v":11717.935016215024},{"$f":"IFERROR(VLOOKUP(A18,STAGIONALITA!$A$3:$M$105,7,FALSE)*P18,\"\")","v":9314.3433111882423},{"$f":"IFERROR(VLOOKUP(A18,STAGIONALITA!$A$3:$M$105,8,FALSE)*P18,\"\")","v":9833.0861971904378},{"$f":"IFERROR(VLOOKUP(A18,STAGIONALITA!$A$3:$M$105,9,FALSE)*P18,\"\")","v":2941.3160258784378},{"$f":"IFERROR(VLOOKUP(A18,STAGIONALITA!$A$3:$M$105,10,FALSE)*P18,\"\")","v":22596.502172629687},{"$f":"IFERROR(VLOOKUP(A18,STAGIONALITA!$A$3:$M$105,11,FALSE)*P18,\"\")","v":12862.806292613799},{"$f":"IFERROR(VLOOKUP(A18,STAGIONALITA!$A$3:$M$105,12,FALSE)*P18,\"\")","v":15701.783845462969},{"$f":"IFERROR(VLOOKUP(A18,STAGIONALITA!$A$3:$M$105,13,FALSE)*P18,\"\")","v":9775.2493246662616},null,"System Group (Sa.Mi. Plastic)",160000]
["Paini",{"$f":"IFERROR(VLOOKUP(A19,STAGIONALITA!$A$3:$M$105,2,FALSE)*P19,\"\")","v":2370.1316911363665},{"$f":"IFERROR(VLOOKUP(A19,STAGIONALITA!$A$3:$M$105,3,FALSE)*P19,\"\")","v":74183.760657829116},{"$f":"IFERROR(VLOOKUP(A19,STAGIONALITA!$A$3:$M$105,4,FALSE)*P19,\"\")","v":17935.601798257176},{"$f":"IFERROR(VLOOKUP(A19,STAGIONALITA!$A$3:$M$105,5,FALSE)*P19,\"\")","v":4404.1285932431592},{"$f":"IFERROR(VLOOKUP(A19,STAGIONALITA!$A$3:$M$105,6,FALSE)*P19,\"\")","v":6385.2334092524979},{"$f":"IFERROR(VLOOKUP(A19,STAGIONALITA!$A$3:$M$105,7,FALSE)*P19,\"\")","v":5573.0698453457153},{"$f":"IFERROR(VLOOKUP(A19,STAGIONALITA!$A$3:$M$105,8,FALSE)*P19,\"\")","v":7399.3001160394078},{"$f":"IFERROR(VLOOKUP(A19,STAGIONALITA!$A$3:$M$105,9,FALSE)*P19,\"\")","v":0},{"$f":"IFERROR(VLOOKUP(A19,STAGIONALITA!$A$3:$M$105,10,FALSE)*P19,\"\")","v":7210.2855847458632},{"$f":"IFERROR(VLOOKUP(A19,STAGIONALITA!$A$3:$M$105,11,FALSE)*P19,\"\")","v":8056.3678709123396},{"$f":"IFERROR(VLOOKUP(A19,STAGIONALITA!$A$3:$M$105,12,FALSE)*P19,\"\")","v":10826.499106111332},{"$f":"IFERROR(VLOOKUP(A19,STAGIONALITA!$A$3:$M$105,13,FALSE)*P19,\"\")","v":5655.6213271270544},null,"Paini",150000]
["Ferrari ",{"$f":"IFERROR(VLOOKUP(A20,STAGIONALITA!$A$3:$M$105,2,FALSE)*P20,\"\")","v":14282.11783572527},{"$f":"IFERROR(VLOOKUP(A20,STAGIONALITA!$A$3:$M$105,3,FALSE)*P20,\"\")","v":10819.445791681994},{"$f":"IFERROR(VLOOKUP(A20,STAGIONALITA!$A$3:$M$105,4,FALSE)*P20,\"\")","v":13143.280612040073},{"$f":"IFERROR(VLOOKUP(A20,STAGIONALITA!$A$3:$M$105,5,FALSE)*P20,\"\")","v":11108.991698484982},{"$f":"IFERROR(VLOOKUP(A20,STAGIONALITA!$A$3:$M$105,6,FALSE)*P20,\"\")","v":7348.9294615353738},{"$f":"IFERROR(VLOOKUP(A20,STAGIONALITA!$A$3:$M$105,7,FALSE)*P20,\"\")","v":12238.544592839495},{"$f":"IFERROR(VLOOKUP(A20,STAGIONALITA!$A$3:$M$105,8,FALSE)*P20,\"\")","v":17363.306023291116},{"$f":"IFERROR(VLOOKUP(A20,STAGIONALITA!$A$3:$M$105,9,FALSE)*P20,\"\")","v":3162.1708716753524},{"$f":"IFERROR(VLOOKUP(A20,STAGIONALITA!$A$3:$M$105,10,FALSE)*P20,\"\")","v":12286.242227162697},{"$f":"IFERROR(VLOOKUP(A20,STAGIONALITA!$A$3:$M$105,11,FALSE)*P20,\"\")","v":16373.352256143675},{"$f":"IFERROR(VLOOKUP(A20,STAGIONALITA!$A$3:$M$105,12,FALSE)*P20,\"\")","v":10142.886748499142},{"$f":"IFERROR(VLOOKUP(A20,STAGIONALITA!$A$3:$M$105,13,FALSE)*P20,\"\")","v":11730.731880920837},null,"Ferrari ",140000]
["Effebi ",{"$f":"IFERROR(VLOOKUP(A21,STAGIONALITA!$A$3:$M$105,2,FALSE)*P21,\"\")","v":0},{"$f":"IFERROR(VLOOKUP(A21,STAGIONALITA!$A$3:$M$105,3,FALSE)*P21,\"\")","v":26268.666340974829},{"$f":"IFERROR(VLOOKUP(A21,STAGIONALITA!$A$3:$M$105,4,FALSE)*P21,\"\")","v":10794.710552108958},{"$f":"IFERROR(VLOOKUP(A21,STAGIONALITA!$A$3:$M$105,5,FALSE)*P21,\"\")","v":2504.0066838339358},{"$f":"IFERROR(VLOOKUP(A21,STAGIONALITA!$A$3:$M$105,6,FALSE)*P21,\"\")","v":5728.8082192032734},{"$f":"IFERROR(VLOOKUP(A21,STAGIONALITA!$A$3:$M$105,7,FALSE)*P21,\"\")","v":23879.845457794199},{"$f":"IFERROR(VLOOKUP(A21,STAGIONALITA!$A$3:$M$105,8,FALSE)*P21,\"\")","v":15510.888507348602},{"$f":"IFERROR(VLOOKUP(A21,STAGIONALITA!$A$3:$M$105,9,FALSE)*P21,\"\")","v":1710.4056089282881},{"$f":"IFERROR(VLOOKUP(A21,STAGIONALITA!$A$3:$M$105,10,FALSE)*P21,\"\")","v":6511.3096183091957},{"$f":"IFERROR(VLOOKUP(A21,STAGIONALITA!$A$3:$M$105,11,FALSE)*P21,\"\")","v":11221.970836073822},{"$f":"IFERROR(VLOOKUP(A21,STAGIONALITA!$A$3:$M$105,12,FALSE)*P21,\"\")","v":7588.2098738567356},{"$f":"IFERROR(VLOOKUP(A21,STAGIONALITA!$A$3:$M$105,13,FALSE)*P21,\"\")","v":8281.1783015681631},null,"Effebi ",120000]
["First Corporation ",{"$f":"IFERROR(VLOOKUP(A22,STAGIONALITA!$A$3:$M$105,2,FALSE)*P22,\"\")","v":0},{"$f":"IFERROR(VLOOKUP(A22,STAGIONALITA!$A$3:$M$105,3,FALSE)*P22,\"\")","v":18516.66781423716},{"$f":"IFERROR(VLOOKUP(A22,STAGIONALITA!$A$3:$M$105,4,FALSE)*P22,\"\")","v":11710.999292264161},{"$f":"IFERROR(VLOOKUP(A22,STAGIONALITA!$A$3:$M$105,5,FALSE)*P22,\"\")","v":14857.767916718869},{"$f":"IFERROR(VLOOKUP(A22,STAGIONALITA!$A$3:$M$105,6,FALSE)*P22,\"\")","v":19643.08984989789},{"$f":"IFERROR(VLOOKUP(A22,STAGIONALITA!$A$3:$M$105,7,FALSE)*P22,\"\")","v":5798.3439361528262},{"$f":"IFERROR(VLOOKUP(A22,STAGIONALITA!$A$3:$M$105,8,FALSE)*P22,\"\")","v":7322.6664552646234},{"$f":"IFERROR(VLOOKUP(A22,STAGIONALITA!$A$3:$M$105,9,FALSE)*P22,\"\")","v":4252.0294000460999},{"$f":"IFERROR(VLOOKUP(A22,STAGIONALITA!$A$3:$M$105,10,FALSE)*P22,\"\")","v":8613.9523139614812},{"$f":"IFERROR(VLOOKUP(A22,STAGIONALITA!$A$3:$M$105,11,FALSE)*P22,\"\")","v":8307.7376063287484},{"$f":"IFERROR(VLOOKUP(A22,STAGIONALITA!$A$3:$M$105,12,FALSE)*P22,\"\")","v":3681.4193162845991},{"$f":"IFERROR(VLOOKUP(A22,STAGIONALITA!$A$3:$M$105,13,FALSE)*P22,\"\")","v":7295.3260988435404},null,"First Corporation ",110000]
["Arblu",{"$f":"IFERROR(VLOOKUP(A23,STAGIONALITA!$A$3:$M$105,2,FALSE)*P23,\"\")","v":4600.9012029404394},{"$f":"IFERROR(VLOOKUP(A23,STAGIONALITA!$A$3:$M$105,3,FALSE)*P23,\"\")","v":7686.3784175522651},{"$f":"IFERROR(VLOOKUP(A23,STAGIONALITA!$A$3:$M$105,4,FALSE)*P23,\"\")","v":12503.78445832985},{"$f":"IFERROR(VLOOKUP(A23,STAGIONALITA!$A$3:$M$105,5,FALSE)*P23,\"\")","v":11322.634064468524},{"$f":"IFERROR(VLOOKUP(A23,STAGIONALITA!$A$3:$M$105,6,FALSE)*P23,\"\")","v":8332.3408288220853},{"$f":"IFERROR(VLOOKUP(A23,STAGIONALITA!$A$3:$M$105,7,FALSE)*P23,\"\")","v":11540.623952300353},{"$f":"IFERROR(VLOOKUP(A23,STAGIONALITA!$A$3:$M$105,8,FALSE)*P23,\"\")","v":12940.950557168437},{"$f":"IFERROR(VLOOKUP(A23,STAGIONALITA!$A$3:$M$105,9,FALSE)*P23,\"\")","v":2565.3869541627719},{"$f":"IFERROR(VLOOKUP(A23,STAGIONALITA!$A$3:$M$105,10,FALSE)*P23,\"\")","v":11171.684312176889},{"$f":"IFERROR(VLOOKUP(A23,STAGIONALITA!$A$3:$M$105,11,FALSE)*P23,\"\")","v":7806.6142456764637},{"$f":"IFERROR(VLOOKUP(A23,STAGIONALITA!$A$3:$M$105,12,FALSE)*P23,\"\")","v":9165.2375564164831},{"$f":"IFERROR(VLOOKUP(A23,STAGIONALITA!$A$3:$M$105,13,FALSE)*P23,\"\")","v":10363.463449985435},null,"Arblu",110000]
["Galletti",{"$f":"IFERROR(VLOOKUP(A24,STAGIONALITA!$A$3:$M$105,2,FALSE)*P24,\"\")","v":0},{"$f":"IFERROR(VLOOKUP(A24,STAGIONALITA!$A$3:$M$105,3,FALSE)*P24,\"\")","v":17651.359936969329},{"$f":"IFERROR(VLOOKUP(A24,STAGIONALITA!$A$3:$M$105,4,FALSE)*P24,\"\")","v":2343.7719496760451},{"$f":"IFERROR(VLOOKUP(A24,STAGIONALITA!$A$3:$M$105,5,FALSE)*P24,\"\")","v":40117.049293000404},{"$f":"IFERROR(VLOOKUP(A24,STAGIONALITA!$A$3:$M$105,6,FALSE)*P24,\"\")","v":1822.9575800246425},{"$f":"IFERROR(VLOOKUP(A24,STAGIONALITA!$A$3:$M$105,7,FALSE)*P24,\"\")","v":1439.027047868105},{"$f":"IFERROR(VLOOKUP(A24,STAGIONALITA!$A$3:$M$105,8,FALSE)*P24,\"\")","v":7420.0642041120764},{"$f":"IFERROR(VLOOKUP(A24,STAGIONALITA!$A$3:$M$105,9,FALSE)*P24,\"\")","v":910.98091478287438},{"$f":"IFERROR(VLOOKUP(A24,STAGIONALITA!$A$3:$M$105,10,FALSE)*P24,\"\")","v":6922.6181196409252},{"$f":"IFERROR(VLOOKUP(A24,STAGIONALITA!$A$3:$M$105,11,FALSE)*P24,\"\")","v":7305.7574157425788},{"$f":"IFERROR(VLOOKUP(A24,STAGIONALITA!$A$3:$M$105,12,FALSE)*P24,\"\")","v":14662.522735463968},{"$f":"IFERROR(VLOOKUP(A24,STAGIONALITA!$A$3:$M$105,13,FALSE)*P24,\"\")","v":9403.8908027190355},null,"Galletti",110000]
["Raccorderie Metalliche  ",{"$f":"IFERROR(VLOOKUP(A25,STAGIONALITA!$A$3:$M$105,2,FALSE)*P25,\"\")","v":7498.3459879956763},{"$f":"IFERROR(VLOOKUP(A25,STAGIONALITA!$A$3:$M$105,3,FALSE)*P25,\"\")","v":6092.8669955636196},{"$f":"IFERROR(VLOOKUP(A25,STAGIONALITA!$A$3:$M$105,4,FALSE)*P25,\"\")","v":11972.39129624337},{"$f":"IFERROR(VLOOKUP(A25,STAGIONALITA!$A$3:$M$105,5,FALSE)*P25,\"\")","v":9378.2816169800262},{"$f":"IFERROR(VLOOKUP(A25,STAGIONALITA!$A$3:$M$105,6,FALSE)*P25,\"\")","v":8796.9454834660919},{"$f":"IFERROR(VLOOKUP(A25,STAGIONALITA!$A$3:$M$105,7,FALSE)*P25,\"\")","v":12410.839929912638},{"$f":"IFERROR(VLOOKUP(A25,STAGIONALITA!$A$3:$M$105,8,FALSE)*P25,\"\")","v":11512.245405177022},{"$f":"IFERROR(VLOOKUP(A25,STAGIONALITA!$A$3:$M$105,9,FALSE)*P25,\"\")","v":3430.6284251469456},{"$f":"IFERROR(VLOOKUP(A25,STAGIONALITA!$A$3:$M$105,10,FALSE)*P25,\"\")","v":5978.0716034347761},{"$f":"IFERROR(VLOOKUP(A25,STAGIONALITA!$A$3:$M$105,11,FALSE)*P25,\"\")","v":10081.870487504819},{"$f":"IFERROR(VLOOKUP(A25,STAGIONALITA!$A$3:$M$105,12,FALSE)*P25,\"\")","v":7025.1668302866856},{"$f":"IFERROR(VLOOKUP(A25,STAGIONALITA!$A$3:$M$105,13,FALSE)*P25,\"\")","v":5822.3459382883266},null,"Raccorderie Metalliche  ",100000]
["System Group (Rototec)",{"$f":"IFERROR(VLOOKUP(A26,STAGIONALITA!$A$3:$M$105,2,FALSE)*P26,\"\")","v":6568.228189215235},{"$f":"IFERROR(VLOOKUP(A26,STAGIONALITA!$A$3:$M$105,3,FALSE)*P26,\"\")","v":0},{"$f":"IFERROR(VLOOKUP(A26,STAGIONALITA!$A$3:$M$105,4,FALSE)*P26,\"\")","v":11104.557272279551},{"$f":"IFERROR(VLOOKUP(A26,STAGIONALITA!$A$3:$M$105,5,FALSE)*P26,\"\")","v":11958.022278027776},{"$f":"IFERROR(VLOOKUP(A26,STAGIONALITA!$A$3:$M$105,6,FALSE)*P26,\"\")","v":12139.52006463832},{"$f":"IFERROR(VLOOKUP(A26,STAGIONALITA!$A$3:$M$105,7,FALSE)*P26,\"\")","v":20874.677429407075},{"$f":"IFERROR(VLOOKUP(A26,STAGIONALITA!$A$3:$M$105,8,FALSE)*P26,\"\")","v":11922.464954728932},{"$f":"IFERROR(VLOOKUP(A26,STAGIONALITA!$A$3:$M$105,9,FALSE)*P26,\"\")","v":4418.8731519079302},{"$f":"IFERROR(VLOOKUP(A26,STAGIONALITA!$A$3:$M$105,10,FALSE)*P26,\"\")","v":7872.8866968607745},{"$f":"IFERROR(VLOOKUP(A26,STAGIONALITA!$A$3:$M$105,11,FALSE)*P26,\"\")","v":2350.9704895784516},{"$f":"IFERROR(VLOOKUP(A26,STAGIONALITA!$A$3:$M$105,12,FALSE)*P26,\"\")","v":9207.2717515101667},{"$f":"IFERROR(VLOOKUP(A26,STAGIONALITA!$A$3:$M$105,13,FALSE)*P26,\"\")","v":1582.5277218457852},null,"System Group (Rototec)",100000]
["Ibp Banninger ",{"$f":"IFERROR(VLOOKUP(A27,STAGIONALITA!$A$3:$M$105,2,FALSE)*P27,\"\")","v":9508.4250989546308},{"$f":"IFERROR(VLOOKUP(A27,STAGIONALITA!$A$3:$M$105,3,FALSE)*P27,\"\")","v":6961.3188876484337},{"$f":"IFERROR(VLOOKUP(A27,STAGIONALITA!$A$3:$M$105,4,FALSE)*P27,\"\")","v":9810.9573226428492},{"$f":"IFERROR(VLOOKUP(A27,STAGIONALITA!$A$3:$M$105,5,FALSE)*P27,\"\")","v":12657.566223485233},{"$f":"IFERROR(VLOOKUP(A27,STAGIONALITA!$A$3:$M$105,6,FALSE)*P27,\"\")","v":8442.6063127981324},{"$f":"IFERROR(VLOOKUP(A27,STAGIONALITA!$A$3:$M$105,7,FALSE)*P27,\"\")","v":8596.6203186846633},{"$f":"IFERROR(VLOOKUP(A27,STAGIONALITA!$A$3:$M$105,8,FALSE)*P27,\"\")","v":10355.09489495585},{"$f":"IFERROR(VLOOKUP(A27,STAGIONALITA!$A$3:$M$105,9,FALSE)*P27,\"\")","v":3131.4066781690854},{"$f":"IFERROR(VLOOKUP(A27,STAGIONALITA!$A$3:$M$105,10,FALSE)*P27,\"\")","v":9961.1793362427688},{"$f":"IFERROR(VLOOKUP(A27,STAGIONALITA!$A$3:$M$105,11,FALSE)*P27,\"\")","v":8027.3774484928454},{"$f":"IFERROR(VLOOKUP(A27,STAGIONALITA!$A$3:$M$105,12,FALSE)*P27,\"\")","v":7595.1486856794882},{"$f":"IFERROR(VLOOKUP(A27,STAGIONALITA!$A$3:$M$105,13,FALSE)*P27,\"\")","v":4952.2987922460161},null,"Ibp Banninger ",100000]
["Grohe",{"$f":"IFERROR(VLOOKUP(A28,STAGIONALITA!$A$3:$M$105,2,FALSE)*P28,\"\")","v":5059.177307940271},{"$f":"IFERROR(VLOOKUP(A28,STAGIONALITA!$A$3:$M$105,3,FALSE)*P28,\"\")","v":10439.834764616684},{"$f":"IFERROR(VLOOKUP(A28,STAGIONALITA!$A$3:$M$105,4,FALSE)*P28,\"\")","v":5377.3494289532173},{"$f":"IFERROR(VLOOKUP(A28,STAGIONALITA!$A$3:$M$105,5,FALSE)*P28,\"\")","v":5182.1757932845949},{"$f":"IFERROR(VLOOKUP(A28,STAGIONALITA!$A$3:$M$105,6,FALSE)*P28,\"\")","v":2931.2132925455517},{"$f":"IFERROR(VLOOKUP(A28,STAGIONALITA!$A$3:$M$105,7,FALSE)*P28,\"\")","v":10051.893331623583},{"$f":"IFERROR(VLOOKUP(A28,STAGIONALITA!$A$3:$M$105,8,FALSE)*P28,\"\")","v":4449.2972876999529},{"$f":"IFERROR(VLOOKUP(A28,STAGIONALITA!$A$3:$M$105,9,FALSE)*P28,\"\")","v":2024.8136963895761},{"$f":"IFERROR(VLOOKUP(A28,STAGIONALITA!$A$3:$M$105,10,FALSE)*P28,\"\")","v":7750.1886929086304},{"$f":"IFERROR(VLOOKUP(A28,STAGIONALITA!$A$3:$M$105,11,FALSE)*P28,\"\")","v":25143.088739166884},{"$f":"IFERROR(VLOOKUP(A28,STAGIONALITA!$A$3:$M$105,12,FALSE)*P28,\"\")","v":7475.0119104034466},{"$f":"IFERROR(VLOOKUP(A28,STAGIONALITA!$A$3:$M$105,13,FALSE)*P28,\"\")","v":14115.955754467599},null,"Grohe",100000]
["Neoperl",{"$f":"IFERROR(VLOOKUP(A29,STAGIONALITA!$A$3:$M$105,2,FALSE)*P29,\"\")","v":4723.0917254333272},{"$f":"IFERROR(VLOOKUP(A29,STAGIONALITA!$A$3:$M$105,3,FALSE)*P29,\"\")","v":5819.760925209649},{"$f":"IFERROR(VLOOKUP(A29,STAGIONALITA!$A$3:$M$105,4,FALSE)*P29,\"\")","v":4024.5072178792384},{"$f":"IFERROR(VLOOKUP(A29,STAGIONALITA!$A$3:$M$105,5,FALSE)*P29,\"\")","v":6388.7736601423849},{"$f":"IFERROR(VLOOKUP(A29,STAGIONALITA!$A$3:$M$105,6,FALSE)*P29,\"\")","v":6314.1721799295628},{"$f":"IFERROR(VLOOKUP(A29,STAGIONALITA!$A$3:$M$105,7,FALSE)*P29,\"\")","v":5347.0327265571586},{"$f":"IFERROR(VLOOKUP(A29,STAGIONALITA!$A$3:$M$105,8,FALSE)*P29,\"\")","v":4768.2847419614936},{"$f":"IFERROR(VLOOKUP(A29,STAGIONALITA!$A$3:$M$105,9,FALSE)*P29,\"\")","v":2684.7287108779183},{"$f":"IFERROR(VLOOKUP(A29,STAGIONALITA!$A$3:$M$105,10,FALSE)*P29,\"\")","v":5367.9518943193889},{"$f":"IFERROR(VLOOKUP(A29,STAGIONALITA!$A$3:$M$105,11,FALSE)*P29,\"\")","v":6505.4186627059844},{"$f":"IFERROR(VLOOKUP(A29,STAGIONALITA!$A$3:$M$105,12,FALSE)*P29,\"\")","v":4915.2059259933139},{"$f":"IFERROR(VLOOKUP(A29,STAGIONALITA!$A$3:$M$105,13,FALSE)*P29,\"\")","v":3141.0716289905758},null,"Neoperl",60000]
["Itap",{"$f":"IFERROR(VLOOKUP(A30,STAGIONALITA!$A$3:$M$105,2,FALSE)*P30,\"\")","v":3864.5601378892457},{"$f":"IFERROR(VLOOKUP(A30,STAGIONALITA!$A$3:$M$105,3,FALSE)*P30,\"\")","v":4234.0472706109986},{"$f":"IFERROR(VLOOKUP(A30,STAGIONALITA!$A$3:$M$105,4,FALSE)*P30,\"\")","v":9314.3584841197371},{"$f":"IFERROR(VLOOKUP(A30,STAGIONALITA!$A$3:$M$105,5,FALSE)*P30,\"\")","v":2979.450766274007},{"$f":"IFERROR(VLOOKUP(A30,STAGIONALITA!$A$3:$M$105,6,FALSE)*P30,\"\")","v":8508.2882725049094},{"$f":"IFERROR(VLOOKUP(A30,STAGIONALITA!$A$3:$M$105,7,FALSE)*P30,\"\")","v":4487.8860237477284},{"$f":"IFERROR(VLOOKUP(A30,STAGIONALITA!$A$3:$M$105,8,FALSE)*P30,\"\")","v":2626.0426736149907},{"$f":"IFERROR(VLOOKUP(A30,STAGIONALITA!$A$3:$M$105,9,FALSE)*P30,\"\")","v":0},{"$f":"IFERROR(VLOOKUP(A30,STAGIONALITA!$A$3:$M$105,10,FALSE)*P30,\"\")","v":5539.5716969561345},{"$f":"IFERROR(VLOOKUP(A30,STAGIONALITA!$A$3:$M$105,11,FALSE)*P30,\"\")","v":8013.250377368352},{"$f":"IFERROR(VLOOKUP(A30,STAGIONALITA!$A$3:$M$105,12,FALSE)*P30,\"\")","v":5477.5439756361538},{"$f":"IFERROR(VLOOKUP(A30,STAGIONALITA!$A$3:$M$105,13,FALSE)*P30,\"\")","v":4955.0003212777374},null,"Itap",60000]
["Va-Albertoni ",{"$f":"IFERROR(VLOOKUP(A31,STAGIONALITA!$A$3:$M$105,2,FALSE)*P31,\"\")","v":4745.8305601349603},{"$f":"IFERROR(VLOOKUP(A31,STAGIONALITA!$A$3:$M$105,3,FALSE)*P31,\"\")","v":6335.9640757509469},{"$f":"IFERROR(VLOOKUP(A31,STAGIONALITA!$A$3:$M$105,4,FALSE)*P31,\"\")","v":4577.8993680263811},{"$f":"IFERROR(VLOOKUP(A31,STAGIONALITA!$A$3:$M$105,5,FALSE)*P31,\"\")","v":9038.7968112199051},{"$f":"IFERROR(VLOOKUP(A31,STAGIONALITA!$A$3:$M$105,6,FALSE)*P31,\"\")","v":6303.130533608678},{"$f":"IFERROR(VLOOKUP(A31,STAGIONALITA!$A$3:$M$105,7,FALSE)*P31,\"\")","v":3917.3696147784535},{"$f":"IFERROR(VLOOKUP(A31,STAGIONALITA!$A$3:$M$105,8,FALSE)*P31,\"\")","v":5489.4282803559036},{"$f":"IFERROR(VLOOKUP(A31,STAGIONALITA!$A$3:$M$105,9,FALSE)*P31,\"\")","v":5799.6232442988985},{"$f":"IFERROR(VLOOKUP(A31,STAGIONALITA!$A$3:$M$105,10,FALSE)*P31,\"\")","v":4012.1127241208605},{"$f":"IFERROR(VLOOKUP(A31,STAGIONALITA!$A$3:$M$105,11,FALSE)*P31,\"\")","v":5383.1740472470001},{"$f":"IFERROR(VLOOKUP(A31,STAGIONALITA!$A$3:$M$105,12,FALSE)*P31,\"\")","v":1285.2766116579749},{"$f":"IFERROR(VLOOKUP(A31,STAGIONALITA!$A$3:$M$105,13,FALSE)*P31,\"\")","v":3111.3941288000287},null,"Va-Albertoni ",60000]
["Ercos ",{"$f":"IFERROR(VLOOKUP(A32,STAGIONALITA!$A$3:$M$105,2,FALSE)*P32,\"\")","v":3550.8134731141768},{"$f":"IFERROR(VLOOKUP(A32,STAGIONALITA!$A$3:$M$105,3,FALSE)*P32,\"\")","v":4557.0800287375469},{"$f":"IFERROR(VLOOKUP(A32,STAGIONALITA!$A$3:$M$105,4,FALSE)*P32,\"\")","v":6478.9474756322379},{"$f":"IFERROR(VLOOKUP(A32,STAGIONALITA!$A$3:$M$105,5,FALSE)*P32,\"\")","v":7469.2117309983951},{"$f":"IFERROR(VLOOKUP(A32,STAGIONALITA!$A$3:$M$105,6,FALSE)*P32,\"\")","v":5149.0887502849855},{"$f":"IFERROR(VLOOKUP(A32,STAGIONALITA!$A$3:$M$105,7,FALSE)*P32,\"\")","v":3959.4577707718481},{"$f":"IFERROR(VLOOKUP(A32,STAGIONALITA!$A$3:$M$105,8,FALSE)*P32,\"\")","v":6078.8684238772321},{"$f":"IFERROR(VLOOKUP(A32,STAGIONALITA!$A$3:$M$105,9,FALSE)*P32,\"\")","v":0},{"$f":"IFERROR(VLOOKUP(A32,STAGIONALITA!$A$3:$M$105,10,FALSE)*P32,\"\")","v":7146.9573300720258},{"$f":"IFERROR(VLOOKUP(A32,STAGIONALITA!$A$3:$M$105,11,FALSE)*P32,\"\")","v":4325.1828022867821},{"$f":"IFERROR(VLOOKUP(A32,STAGIONALITA!$A$3:$M$105,12,FALSE)*P32,\"\")","v":4445.2548968605706},{"$f":"IFERROR(VLOOKUP(A32,STAGIONALITA!$A$3:$M$105,13,FALSE)*P32,\"\")","v":1839.1373173642016},null,"Ercos ",55000]
["Thermomat Saniline ",{"$f":"IFERROR(VLOOKUP(A33,STAGIONALITA!$A$3:$M$105,2,FALSE)*P33,\"\")","v":3849.5161880444348},{"$f":"IFERROR(VLOOKUP(A33,STAGIONALITA!$A$3:$M$105,3,FALSE)*P33,\"\")","v":4768.3307514459866},{"$f":"IFERROR(VLOOKUP(A33,STAGIONALITA!$A$3:$M$105,4,FALSE)*P33,\"\")","v":7930.6627017180581},{"$f":"IFERROR(VLOOKUP(A33,STAGIONALITA!$A$3:$M$105,5,FALSE)*P33,\"\")","v":7966.1993320826105},{"$f":"IFERROR(VLOOKUP(A33,STAGIONALITA!$A$3:$M$105,6,FALSE)*P33,\"\")","v":4325.1932523217529},{"$f":"IFERROR(VLOOKUP(A33,STAGIONALITA!$A$3:$M$105,7,FALSE)*P33,\"\")","v":2350.983582310309},{"$f":"IFERROR(VLOOKUP(A33,STAGIONALITA!$A$3:$M$105,8,FALSE)*P33,\"\")","v":5750.0836842883728},{"$f":"IFERROR(VLOOKUP(A33,STAGIONALITA!$A$3:$M$105,9,FALSE)*P33,\"\")","v":734.28097680972132},{"$f":"IFERROR(VLOOKUP(A33,STAGIONALITA!$A$3:$M$105,10,FALSE)*P33,\"\")","v":6805.0506387251962},{"$f":"IFERROR(VLOOKUP(A33,STAGIONALITA!$A$3:$M$105,11,FALSE)*P33,\"\")","v":3473.1704279186361},{"$f":"IFERROR(VLOOKUP(A33,STAGIONALITA!$A$3:$M$105,12,FALSE)*P33,\"\")","v":3061.2880374282845},{"$f":"IFERROR(VLOOKUP(A33,STAGIONALITA!$A$3:$M$105,13,FALSE)*P33,\"\")","v":3985.2404269066392},null,"Thermomat Saniline ",55000]
["L'isolante K-Flex ",{"$f":"IFERROR(VLOOKUP(A34,STAGIONALITA!$A$3:$M$105,2,FALSE)*P34,\"\")","v":1620.4503626432629},{"$f":"IFERROR(VLOOKUP(A34,STAGIONALITA!$A$3:$M$105,3,FALSE)*P34,\"\")","v":3377.7056211573472},{"$f":"IFERROR(VLOOKUP(A34,STAGIONALITA!$A$3:$M$105,4,FALSE)*P34,\"\")","v":5353.1053116330568},{"$f":"IFERROR(VLOOKUP(A34,STAGIONALITA!$A$3:$M$105,5,FALSE)*P34,\"\")","v":4251.4579630351955},{"$f":"IFERROR(VLOOKUP(A34,STAGIONALITA!$A$3:$M$105,6,FALSE)*P34,\"\")","v":3400.0900433266415},{"$f":"IFERROR(VLOOKUP(A34,STAGIONALITA!$A$3:$M$105,7,FALSE)*P34,\"\")","v":6081.0123485596559},{"$f":"IFERROR(VLOOKUP(A34,STAGIONALITA!$A$3:$M$105,8,FALSE)*P34,\"\")","v":5021.8840394326035},{"$f":"IFERROR(VLOOKUP(A34,STAGIONALITA!$A$3:$M$105,9,FALSE)*P34,\"\")","v":1733.6635546922628},{"$f":"IFERROR(VLOOKUP(A34,STAGIONALITA!$A$3:$M$105,10,FALSE)*P34,\"\")","v":4934.7708563799824},{"$f":"IFERROR(VLOOKUP(A34,STAGIONALITA!$A$3:$M$105,11,FALSE)*P34,\"\")","v":8588.4511209865796},{"$f":"IFERROR(VLOOKUP(A34,STAGIONALITA!$A$3:$M$105,12,FALSE)*P34,\"\")","v":3214.5564192969282},{"$f":"IFERROR(VLOOKUP(A34,STAGIONALITA!$A$3:$M$105,13,FALSE)*P34,\"\")","v":2422.852358856489},null,"L'isolante K-Flex ",50000]
["Rainbox ",{"$f":"IFERROR(VLOOKUP(A35,STAGIONALITA!$A$3:$M$105,2,FALSE)*P35,\"\")","v":3838.9236644226603},{"$f":"IFERROR(VLOOKUP(A35,STAGIONALITA!$A$3:$M$105,3,FALSE)*P35,\"\")","v":3282.1050352348334},{"$f":"IFERROR(VLOOKUP(A35,STAGIONALITA!$A$3:$M$105,4,FALSE)*P35,\"\")","v":4021.4952167237516},{"$f":"IFERROR(VLOOKUP(A35,STAGIONALITA!$A$3:$M$105,5,FALSE)*P35,\"\")","v":5773.8868548482342},{"$f":"IFERROR(VLOOKUP(A35,STAGIONALITA!$A$3:$M$105,6,FALSE)*P35,\"\")","v":7387.7504822644778},{"$f":"IFERROR(VLOOKUP(A35,STAGIONALITA!$A$3:$M$105,7,FALSE)*P35,\"\")","v":4000.3346324947834},{"$f":"IFERROR(VLOOKUP(A35,STAGIONALITA!$A$3:$M$105,8,FALSE)*P35,\"\")","v":9330.833431754656},{"$f":"IFERROR(VLOOKUP(A35,STAGIONALITA!$A$3:$M$105,9,FALSE)*P35,\"\")","v":2497.4410456281248},{"$f":"IFERROR(VLOOKUP(A35,STAGIONALITA!$A$3:$M$105,10,FALSE)*P35,\"\")","v":3421.3712058580368},{"$f":"IFERROR(VLOOKUP(A35,STAGIONALITA!$A$3:$M$105,11,FALSE)*P35,\"\")","v":2743.4943506161176},{"$f":"IFERROR(VLOOKUP(A35,STAGIONALITA!$A$3:$M$105,12,FALSE)*P35,\"\")","v":2645.5651352308964},{"$f":"IFERROR(VLOOKUP(A35,STAGIONALITA!$A$3:$M$105,13,FALSE)*P35,\"\")","v":1056.7989449234281},null,"Rainbox ",50000]
[{"$f":"IF(O36=0,\"\",O36)","v":"System Group (Sab)"},{"$f":"IFERROR(VLOOKUP(A36,STAGIONALITA!$A$3:$M$105,2,FALSE)*P36,\"\")","v":1072.2554505112869},{"$f":"IFERROR(VLOOKUP(A36,STAGIONALITA!$A$3:$M$105,3,FALSE)*P36,\"\")","v":12126.905267219758},{"$f":"IFERROR(VLOOKUP(A36,STAGIONALITA!$A$3:$M$105,4,FALSE)*P36,\"\")","v":2241.1007138722748},{"$f":"IFERROR(VLOOKUP(A36,STAGIONALITA!$A$3:$M$105,5,FALSE)*P36,\"\")","v":12890.398900250821},{"$f":"IFERROR(VLOOKUP(A36,STAGIONALITA!$A$3:$M$105,6,FALSE)*P36,\"\")","v":1440.1649623770018},{"$f":"IFERROR(VLOOKUP(A36,STAGIONALITA!$A$3:$M$105,7,FALSE)*P36,\"\")","v":2769.088848157438},{"$f":"IFERROR(VLOOKUP(A36,STAGIONALITA!$A$3:$M$105,8,FALSE)*P36,\"\")","v":4001.965560486205},{"$f":"IFERROR(VLOOKUP(A36,STAGIONALITA!$A$3:$M$105,9,FALSE)*P36,\"\")","v":927.37073123673554},{"$f":"IFERROR(VLOOKUP(A36,STAGIONALITA!$A$3:$M$105,10,FALSE)*P36,\"\")","v":2323.5819023731428},{"$f":"IFERROR(VLOOKUP(A36,STAGIONALITA!$A$3:$M$105,11,FALSE)*P36,\"\")","v":2556.9168435269148},{"$f":"IFERROR(VLOOKUP(A36,STAGIONALITA!$A$3:$M$105,12,FALSE)*P36,\"\")","v":1245.3574184835038},{"$f":"IFERROR(VLOOKUP(A36,STAGIONALITA!$A$3:$M$105,13,FALSE)*P36,\"\")","v":1404.8934015049199},null,"System Group (Sab)",45000]
["Euroacque",{"$f":"IFERROR(VLOOKUP(A37,STAGIONALITA!$A$3:$M$105,2,FALSE)*P37,\"\")","v":0},{"$f":"IFERROR(VLOOKUP(A37,STAGIONALITA!$A$3:$M$105,3,FALSE)*P37,\"\")","v":9041.1809760215565},{"$f":"IFERROR(VLOOKUP(A37,STAGIONALITA!$A$3:$M$105,4,FALSE)*P37,\"\")","v":2386.5793774587369},{"$f":"IFERROR(VLOOKUP(A37,STAGIONALITA!$A$3:$M$105,5,FALSE)*P37,\"\")","v":3640.8008095309974},{"$f":"IFERROR(VLOOKUP(A37,STAGIONALITA!$A$3:$M$105,6,FALSE)*P37,\"\")","v":3844.835233234006},{"$f":"IFERROR(VLOOKUP(A37,STAGIONALITA!$A$3:$M$105,7,FALSE)*P37,\"\")","v":1503.1264966726112},{"$f":"IFERROR(VLOOKUP(A37,STAGIONALITA!$A$3:$M$105,8,FALSE)*P37,\"\")","v":3557.2441283844601},{"$f":"IFERROR(VLOOKUP(A37,STAGIONALITA!$A$3:$M$105,9,FALSE)*P37,\"\")","v":2109.0185182079249},{"$f":"IFERROR(VLOOKUP(A37,STAGIONALITA!$A$3:$M$105,10,FALSE)*P37,\"\")","v":4217.8935422012746},{"$f":"IFERROR(VLOOKUP(A37,STAGIONALITA!$A$3:$M$105,11,FALSE)*P37,\"\")","v":6849.6655839375935},{"$f":"IFERROR(VLOOKUP(A37,STAGIONALITA!$A$3:$M$105,12,FALSE)*P37,\"\")","v":3735.54388966227},{"$f":"IFERROR(VLOOKUP(A37,STAGIONALITA!$A$3:$M$105,13,FALSE)*P37,\"\")","v":3114.1114446885713},null,"Euroacque",44000]
["Caleffi",{"$f":"IFERROR(VLOOKUP(A38,STAGIONALITA!$A$3:$M$105,2,FALSE)*P38,\"\")","v":2775.7032937920062},{"$f":"IFERROR(VLOOKUP(A38,STAGIONALITA!$A$3:$M$105,3,FALSE)*P38,\"\")","v":3611.7166099076608},{"$f":"IFERROR(VLOOKUP(A38,STAGIONALITA!$A$3:$M$105,4,FALSE)*P38,\"\")","v":3141.2875055757063},{"$f":"IFERROR(VLOOKUP(A38,STAGIONALITA!$A$3:$M$105,5,FALSE)*P38,\"\")","v":3147.5008080546258},{"$f":"IFERROR(VLOOKUP(A38,STAGIONALITA!$A$3:$M$105,6,FALSE)*P38,\"\")","v":2903.3873754021406},{"$f":"IFERROR(VLOOKUP(A38,STAGIONALITA!$A$3:$M$105,7,FALSE)*P38,\"\")","v":3736.8578568153225},{"$f":"IFERROR(VLOOKUP(A38,STAGIONALITA!$A$3:$M$105,8,FALSE)*P38,\"\")","v":3821.6895394270809},{"$f":"IFERROR(VLOOKUP(A38,STAGIONALITA!$A$3:$M$105,9,FALSE)*P38,\"\")","v":1613.147426118303},{"$f":"IFERROR(VLOOKUP(A38,STAGIONALITA!$A$3:$M$105,10,FALSE)*P38,\"\")","v":3147.8945557677398},{"$f":"IFERROR(VLOOKUP(A38,STAGIONALITA!$A$3:$M$105,11,FALSE)*P38,\"\")","v":4654.3915231556439},{"$f":"IFERROR(VLOOKUP(A38,STAGIONALITA!$A$3:$M$105,12,FALSE)*P38,\"\")","v":4092.7693554456619},{"$f":"IFERROR(VLOOKUP(A38,STAGIONALITA!$A$3:$M$105,13,FALSE)*P38,\"\")","v":4353.6541505381037},null,"Caleffi",41000]
["Fluidmaster",{"$f":"IFERROR(VLOOKUP(A39,STAGIONALITA!$A$3:$M$105,2,FALSE)*P39,\"\")","v":4395.9096998492232},{"$f":"IFERROR(VLOOKUP(A39,STAGIONALITA!$A$3:$M$105,3,FALSE)*P39,\"\")","v":2504.5070258532196},{"$f":"IFERROR(VLOOKUP(A39,STAGIONALITA!$A$3:$M$105,4,FALSE)*P39,\"\")","v":3335.2268557017765},{"$f":"IFERROR(VLOOKUP(A39,STAGIONALITA!$A$3:$M$105,5,FALSE)*P39,\"\")","v":3884.1596226224024},{"$f":"IFERROR(VLOOKUP(A39,STAGIONALITA!$A$3:$M$105,6,FALSE)*P39,\"\")","v":966.20420070130854},{"$f":"IFERROR(VLOOKUP(A39,STAGIONALITA!$A$3:$M$105,7,FALSE)*P39,\"\")","v":8278.3883532177515},{"$f":"IFERROR(VLOOKUP(A39,STAGIONALITA!$A$3:$M$105,8,FALSE)*P39,\"\")","v":785.42704717467939},{"$f":"IFERROR(VLOOKUP(A39,STAGIONALITA!$A$3:$M$105,9,FALSE)*P39,\"\")","v":374.38337101165524},{"$f":"IFERROR(VLOOKUP(A39,STAGIONALITA!$A$3:$M$105,10,FALSE)*P39,\"\")","v":3950.90227337959},{"$f":"IFERROR(VLOOKUP(A39,STAGIONALITA!$A$3:$M$105,11,FALSE)*P39,\"\")","v":7831.0024719878593},{"$f":"IFERROR(VLOOKUP(A39,STAGIONALITA!$A$3:$M$105,12,FALSE)*P39,\"\")","v":2341.105724648773},{"$f":"IFERROR(VLOOKUP(A39,STAGIONALITA!$A$3:$M$105,13,FALSE)*P39,\"\")","v":1352.7833538517611},null,"Fluidmaster",40000]
["Olimpia Splendid ",{"$f":"IFERROR(VLOOKUP(A40,STAGIONALITA!$A$3:$M$105,2,FALSE)*P40,\"\")","v":1559.7662029668857},{"$f":"IFERROR(VLOOKUP(A40,STAGIONALITA!$A$3:$M$105,3,FALSE)*P40,\"\")","v":2323.5591435836986},{"$f":"IFERROR(VLOOKUP(A40,STAGIONALITA!$A$3:$M$105,4,FALSE)*P40,\"\")","v":3762.7190972720182},{"$f":"IFERROR(VLOOKUP(A40,STAGIONALITA!$A$3:$M$105,5,FALSE)*P40,\"\")","v":2420.7996809950714},{"$f":"IFERROR(VLOOKUP(A40,STAGIONALITA!$A$3:$M$105,6,FALSE)*P40,\"\")","v":3340.1774814700811},{"$f":"IFERROR(VLOOKUP(A40,STAGIONALITA!$A$3:$M$105,7,FALSE)*P40,\"\")","v":1661.7638314170886},{"$f":"IFERROR(VLOOKUP(A40,STAGIONALITA!$A$3:$M$105,8,FALSE)*P40,\"\")","v":4381.0010178775674},{"$f":"IFERROR(VLOOKUP(A40,STAGIONALITA!$A$3:$M$105,9,FALSE)*P40,\"\")","v":169.15656076309338},{"$f":"IFERROR(VLOOKUP(A40,STAGIONALITA!$A$3:$M$105,10,FALSE)*P40,\"\")","v":6527.9881352552911},{"$f":"IFERROR(VLOOKUP(A40,STAGIONALITA!$A$3:$M$105,11,FALSE)*P40,\"\")","v":4712.4583317301476},{"$f":"IFERROR(VLOOKUP(A40,STAGIONALITA!$A$3:$M$105,12,FALSE)*P40,\"\")","v":6580.4560511247364},{"$f":"IFERROR(VLOOKUP(A40,STAGIONALITA!$A$3:$M$105,13,FALSE)*P40,\"\")","v":2560.1544655443199},null,"Olimpia Splendid ",40000]
["Samsung",{"$f":"IFERROR(VLOOKUP(A41,STAGIONALITA!$A$3:$M$105,2,FALSE)*P41,\"\")","v":600.11474794724347},{"$f":"IFERROR(VLOOKUP(A41,STAGIONALITA!$A$3:$M$105,3,FALSE)*P41,\"\")","v":6103.971184035805},{"$f":"IFERROR(VLOOKUP(A41,STAGIONALITA!$A$3:$M$105,4,FALSE)*P41,\"\")","v":5514.8713019033767},{"$f":"IFERROR(VLOOKUP(A41,STAGIONALITA!$A$3:$M$105,5,FALSE)*P41,\"\")","v":4247.9613620258278},{"$f":"IFERROR(VLOOKUP(A41,STAGIONALITA!$A$3:$M$105,6,FALSE)*P41,\"\")","v":3494.2186442849393},{"$f":"IFERROR(VLOOKUP(A41,STAGIONALITA!$A$3:$M$105,7,FALSE)*P41,\"\")","v":3860.4099113323637},{"$f":"IFERROR(VLOOKUP(A41,STAGIONALITA!$A$3:$M$105,8,FALSE)*P41,\"\")","v":1595.2341377239243},{"$f":"IFERROR(VLOOKUP(A41,STAGIONALITA!$A$3:$M$105,9,FALSE)*P41,\"\")","v":920.79524791093024},{"$f":"IFERROR(VLOOKUP(A41,STAGIONALITA!$A$3:$M$105,10,FALSE)*P41,\"\")","v":449.0025153055829},{"$f":"IFERROR(VLOOKUP(A41,STAGIONALITA!$A$3:$M$105,11,FALSE)*P41,\"\")","v":4148.2153586909099},{"$f":"IFERROR(VLOOKUP(A41,STAGIONALITA!$A$3:$M$105,12,FALSE)*P41,\"\")","v":2215.1649782261275},{"$f":"IFERROR(VLOOKUP(A41,STAGIONALITA!$A$3:$M$105,13,FALSE)*P41,\"\")","v":1850.0406106129642},null,"Samsung",35000]
["Giuseppe Tirinnanzi",{"$f":"IFERROR(VLOOKUP(A42,STAGIONALITA!$A$3:$M$105,2,FALSE)*P42,\"\")","v":2925.876529908885},{"$f":"IFERROR(VLOOKUP(A42,STAGIONALITA!$A$3:$M$105,3,FALSE)*P42,\"\")","v":1834.6127223544804},{"$f":"IFERROR(VLOOKUP(A42,STAGIONALITA!$A$3:$M$105,4,FALSE)*P42,\"\")","v":3872.7511135825202},{"$f":"IFERROR(VLOOKUP(A42,STAGIONALITA!$A$3:$M$105,5,FALSE)*P42,\"\")","v":1878.56592582295},{"$f":"IFERROR(VLOOKUP(A42,STAGIONALITA!$A$3:$M$105,6,FALSE)*P42,\"\")","v":2029.9494326376696},{"$f":"IFERROR(VLOOKUP(A42,STAGIONALITA!$A$3:$M$105,7,FALSE)*P42,\"\")","v":2785.8171002253221},{"$f":"IFERROR(VLOOKUP(A42,STAGIONALITA!$A$3:$M$105,8,FALSE)*P42,\"\")","v":3399.129190053347},{"$f":"IFERROR(VLOOKUP(A42,STAGIONALITA!$A$3:$M$105,9,FALSE)*P42,\"\")","v":1583.4864690311099},{"$f":"IFERROR(VLOOKUP(A42,STAGIONALITA!$A$3:$M$105,10,FALSE)*P42,\"\")","v":2688.813057153282},{"$f":"IFERROR(VLOOKUP(A42,STAGIONALITA!$A$3:$M$105,11,FALSE)*P42,\"\")","v":2348.4282412636617},{"$f":"IFERROR(VLOOKUP(A42,STAGIONALITA!$A$3:$M$105,12,FALSE)*P42,\"\")","v":3007.7932675320462},{"$f":"IFERROR(VLOOKUP(A42,STAGIONALITA!$A$3:$M$105,13,FALSE)*P42,\"\")","v":1644.7769504347161},null,"Giuseppe Tirinnanzi",30000]
["Italkero",{"$f":"IFERROR(VLOOKUP(A43,STAGIONALITA!$A$3:$M$105,2,FALSE)*P43,\"\")","v":0},{"$f":"IFERROR(VLOOKUP(A43,STAGIONALITA!$A$3:$M$105,3,FALSE)*P43,\"\")","v":7502.9545120014036},{"$f":"IFERROR(VLOOKUP(A43,STAGIONALITA!$A$3:$M$105,4,FALSE)*P43,\"\")","v":7749.3722991421073},{"$f":"IFERROR(VLOOKUP(A43,STAGIONALITA!$A$3:$M$105,5,FALSE)*P43,\"\")","v":0},{"$f":"IFERROR(VLOOKUP(A43,STAGIONALITA!$A$3:$M$105,6,FALSE)*P43,\"\")","v":636.84729533463633},{"$f":"IFERROR(VLOOKUP(A43,STAGIONALITA!$A$3:$M$105,7,FALSE)*P43,\"\")","v":374.57213816480765},{"$f":"IFERROR(VLOOKUP(A43,STAGIONALITA!$A$3:$M$105,8,FALSE)*P43,\"\")","v":125.08497678506554},{"$f":"IFERROR(VLOOKUP(A43,STAGIONALITA!$A$3:$M$105,9,FALSE)*P43,\"\")","v":955.27094300195449},{"$f":"IFERROR(VLOOKUP(A43,STAGIONALITA!$A$3:$M$105,10,FALSE)*P43,\"\")","v":7515.8190826165792},{"$f":"IFERROR(VLOOKUP(A43,STAGIONALITA!$A$3:$M$105,11,FALSE)*P43,\"\")","v":2382.1151838519008},{"$f":"IFERROR(VLOOKUP(A43,STAGIONALITA!$A$3:$M$105,12,FALSE)*P43,\"\")","v":2684.5793617233094},{"$f":"IFERROR(VLOOKUP(A43,STAGIONALITA!$A$3:$M$105,13,FALSE)*P43,\"\")","v":73.384207378239651},null,"Italkero",30000]
["Fimi",{"$f":"IFERROR(VLOOKUP(A44,STAGIONALITA!$A$3:$M$105,2,FALSE)*P44,\"\")","v":1122.819950048608},{"$f":"IFERROR(VLOOKUP(A44,STAGIONALITA!$A$3:$M$105,3,FALSE)*P44,\"\")","v":1899.4947948264571},{"$f":"IFERROR(VLOOKUP(A44,STAGIONALITA!$A$3:$M$105,4,FALSE)*P44,\"\")","v":2842.468923629192},{"$f":"IFERROR(VLOOKUP(A44,STAGIONALITA!$A$3:$M$105,5,FALSE)*P44,\"\")","v":1895.9628303104523},{"$f":"IFERROR(VLOOKUP(A44,STAGIONALITA!$A$3:$M$105,6,FALSE)*P44,\"\")","v":1622.8351460813014},{"$f":"IFERROR(VLOOKUP(A44,STAGIONALITA!$A$3:$M$105,7,FALSE)*P44,\"\")","v":2419.4774810281883},{"$f":"IFERROR(VLOOKUP(A44,STAGIONALITA!$A$3:$M$105,8,FALSE)*P44,\"\")","v":2915.5178014263747},{"$f":"IFERROR(VLOOKUP(A44,STAGIONALITA!$A$3:$M$105,9,FALSE)*P44,\"\")","v":1112.3914064402531},{"$f":"IFERROR(VLOOKUP(A44,STAGIONALITA!$A$3:$M$105,10,FALSE)*P44,\"\")","v":3130.6442614553885},{"$f":"IFERROR(VLOOKUP(A44,STAGIONALITA!$A$3:$M$105,11,FALSE)*P44,\"\")","v":3191.1343441566505},{"$f":"IFERROR(VLOOKUP(A44,STAGIONALITA!$A$3:$M$105,12,FALSE)*P44,\"\")","v":1426.8658501977029},{"$f":"IFERROR(VLOOKUP(A44,STAGIONALITA!$A$3:$M$105,13,FALSE)*P44,\"\")","v":2420.3872103994299},null,"Fimi",26000]
["Megius",{"$f":"IFERROR(VLOOKUP(A45,STAGIONALITA!$A$3:$M$105,2,FALSE)*P45,\"\")","v":0},{"$f":"IFERROR(VLOOKUP(A45,STAGIONALITA!$A$3:$M$105,3,FALSE)*P45,\"\")","v":2777.2226595218117},{"$f":"IFERROR(VLOOKUP(A45,STAGIONALITA!$A$3:$M$105,4,FALSE)*P45,\"\")","v":1169.4038257967045},{"$f":"IFERROR(VLOOKUP(A45,STAGIONALITA!$A$3:$M$105,5,FALSE)*P45,\"\")","v":848.869676729763},{"$f":"IFERROR(VLOOKUP(A45,STAGIONALITA!$A$3:$M$105,6,FALSE)*P45,\"\")","v":2533.1410781451486},{"$f":"IFERROR(VLOOKUP(A45,STAGIONALITA!$A$3:$M$105,7,FALSE)*P45,\"\")","v":2631.6043150240371},{"$f":"IFERROR(VLOOKUP(A45,STAGIONALITA!$A$3:$M$105,8,FALSE)*P45,\"\")","v":1895.1478126739862},{"$f":"IFERROR(VLOOKUP(A45,STAGIONALITA!$A$3:$M$105,9,FALSE)*P45,\"\")","v":442.66131707725941},{"$f":"IFERROR(VLOOKUP(A45,STAGIONALITA!$A$3:$M$105,10,FALSE)*P45,\"\")","v":3340.518544485461},{"$f":"IFERROR(VLOOKUP(A45,STAGIONALITA!$A$3:$M$105,11,FALSE)*P45,\"\")","v":3043.4202904199046},{"$f":"IFERROR(VLOOKUP(A45,STAGIONALITA!$A$3:$M$105,12,FALSE)*P45,\"\")","v":3738.3932201127054},{"$f":"IFERROR(VLOOKUP(A45,STAGIONALITA!$A$3:$M$105,13,FALSE)*P45,\"\")","v":2579.6172600132227},null,"Megius",25000]
["Omp Tea ",{"$f":"IFERROR(VLOOKUP(A46,STAGIONALITA!$A$3:$M$105,2,FALSE)*P46,\"\")","v":2051.1528555957093},{"$f":"IFERROR(VLOOKUP(A46,STAGIONALITA!$A$3:$M$105,3,FALSE)*P46,\"\")","v":2052.5698623990602},{"$f":"IFERROR(VLOOKUP(A46,STAGIONALITA!$A$3:$M$105,4,FALSE)*P46,\"\")","v":3156.42311677814},{"$f":"IFERROR(VLOOKUP(A46,STAGIONALITA!$A$3:$M$105,5,FALSE)*P46,\"\")","v":1650.9698205957081},{"$f":"IFERROR(VLOOKUP(A46,STAGIONALITA!$A$3:$M$105,6,FALSE)*P46,\"\")","v":2379.1998397097755},{"$f":"IFERROR(VLOOKUP(A46,STAGIONALITA!$A$3:$M$105,7,FALSE)*P46,\"\")","v":2462.4622015912487},{"$f":"IFERROR(VLOOKUP(A46,STAGIONALITA!$A$3:$M$105,8,FALSE)*P46,\"\")","v":2365.0512414763248},{"$f":"IFERROR(VLOOKUP(A46,STAGIONALITA!$A$3:$M$105,9,FALSE)*P46,\"\")","v":1043.3918201515146},{"$f":"IFERROR(VLOOKUP(A46,STAGIONALITA!$A$3:$M$105,10,FALSE)*P46,\"\")","v":2275.2521512409348},{"$f":"IFERROR(VLOOKUP(A46,STAGIONALITA!$A$3:$M$105,11,FALSE)*P46,\"\")","v":3015.5828799682263},{"$f":"IFERROR(VLOOKUP(A46,STAGIONALITA!$A$3:$M$105,12,FALSE)*P46,\"\")","v":1664.5445145585718},{"$f":"IFERROR(VLOOKUP(A46,STAGIONALITA!$A$3:$M$105,13,FALSE)*P46,\"\")","v":883.39969593478259},null,"Omp Tea ",25000]
["Varem",{"$f":"IFERROR(VLOOKUP(A47,STAGIONALITA!$A$3:$M$105,2,FALSE)*P47,\"\")","v":1573.9040172682255},{"$f":"IFERROR(VLOOKUP(A47,STAGIONALITA!$A$3:$M$105,3,FALSE)*P47,\"\")","v":844.95771135946507},{"$f":"IFERROR(VLOOKUP(A47,STAGIONALITA!$A$3:$M$105,4,FALSE)*P47,\"\")","v":3657.1494194232223},{"$f":"IFERROR(VLOOKUP(A47,STAGIONALITA!$A$3:$M$105,5,FALSE)*P47,\"\")","v":1989.2878787303789},{"$f":"IFERROR(VLOOKUP(A47,STAGIONALITA!$A$3:$M$105,6,FALSE)*P47,\"\")","v":1698.4640657517855},{"$f":"IFERROR(VLOOKUP(A47,STAGIONALITA!$A$3:$M$105,7,FALSE)*P47,\"\")","v":1512.7336171221018},{"$f":"IFERROR(VLOOKUP(A47,STAGIONALITA!$A$3:$M$105,8,FALSE)*P47,\"\")","v":822.0276800474403},{"$f":"IFERROR(VLOOKUP(A47,STAGIONALITA!$A$3:$M$105,9,FALSE)*P47,\"\")","v":1246.877583794769},{"$f":"IFERROR(VLOOKUP(A47,STAGIONALITA!$A$3:$M$105,10,FALSE)*P47,\"\")","v":1797.7246848543818},{"$f":"IFERROR(VLOOKUP(A47,STAGIONALITA!$A$3:$M$105,11,FALSE)*P47,\"\")","v":1558.8593295296455},{"$f":"IFERROR(VLOOKUP(A47,STAGIONALITA!$A$3:$M$105,12,FALSE)*P47,\"\")","v":1907.3291455267449},{"$f":"IFERROR(VLOOKUP(A47,STAGIONALITA!$A$3:$M$105,13,FALSE)*P47,\"\")","v":1390.6848665918358},null,"Varem",20000]
["Rems",{"$f":"IFERROR(VLOOKUP(A48,STAGIONALITA!$A$3:$M$105,2,FALSE)*P48,\"\")","v":981.25272489463748},{"$f":"IFERROR(VLOOKUP(A48,STAGIONALITA!$A$3:$M$105,3,FALSE)*P48,\"\")","v":1432.839474066652},{"$f":"IFERROR(VLOOKUP(A48,STAGIONALITA!$A$3:$M$105,4,FALSE)*P48,\"\")","v":1410.6884709229839},{"$f":"IFERROR(VLOOKUP(A48,STAGIONALITA!$A$3:$M$105,5,FALSE)*P48,\"\")","v":1392.4536672301301},{"$f":"IFERROR(VLOOKUP(A48,STAGIONALITA!$A$3:$M$105,6,FALSE)*P48,\"\")","v":1650.4333060525169},{"$f":"IFERROR(VLOOKUP(A48,STAGIONALITA!$A$3:$M$105,7,FALSE)*P48,\"\")","v":1028.8590244685977},{"$f":"IFERROR(VLOOKUP(A48,STAGIONALITA!$A$3:$M$105,8,FALSE)*P48,\"\")","v":1291.7339126045022},{"$f":"IFERROR(VLOOKUP(A48,STAGIONALITA!$A$3:$M$105,9,FALSE)*P48,\"\")","v":195.07568514368322},{"$f":"IFERROR(VLOOKUP(A48,STAGIONALITA!$A$3:$M$105,10,FALSE)*P48,\"\")","v":1207.1684807134825},{"$f":"IFERROR(VLOOKUP(A48,STAGIONALITA!$A$3:$M$105,11,FALSE)*P48,\"\")","v":2057.106142773006},{"$f":"IFERROR(VLOOKUP(A48,STAGIONALITA!$A$3:$M$105,12,FALSE)*P48,\"\")","v":2207.2679154651637},{"$f":"IFERROR(VLOOKUP(A48,STAGIONALITA!$A$3:$M$105,13,FALSE)*P48,\"\")","v":1145.1211956646448},null,"Rems",16000]
["Rizzo Aquae",{"$f":"IFERROR(VLOOKUP(A49,STAGIONALITA!$A$3:$M$105,2,FALSE)*P49,\"\")","v":0},{"$f":"IFERROR(VLOOKUP(A49,STAGIONALITA!$A$3:$M$105,3,FALSE)*P49,\"\")","v":866.65789659044287},{"$f":"IFERROR(VLOOKUP(A49,STAGIONALITA!$A$3:$M$105,4,FALSE)*P49,\"\")","v":1015.1915674681273},{"$f":"IFERROR(VLOOKUP(A49,STAGIONALITA!$A$3:$M$105,5,FALSE)*P49,\"\")","v":2123.6145696516687},{"$f":"IFERROR(VLOOKUP(A49,STAGIONALITA!$A$3:$M$105,6,FALSE)*P49,\"\")","v":647.50094261055472},{"$f":"IFERROR(VLOOKUP(A49,STAGIONALITA!$A$3:$M$105,7,FALSE)*P49,\"\")","v":1518.8356377226526},{"$f":"IFERROR(VLOOKUP(A49,STAGIONALITA!$A$3:$M$105,8,FALSE)*P49,\"\")","v":478.46911759222036},{"$f":"IFERROR(VLOOKUP(A49,STAGIONALITA!$A$3:$M$105,9,FALSE)*P49,\"\")","v":174.02041010809981},{"$f":"IFERROR(VLOOKUP(A49,STAGIONALITA!$A$3:$M$105,10,FALSE)*P49,\"\")","v":1829.3243036076087},{"$f":"IFERROR(VLOOKUP(A49,STAGIONALITA!$A$3:$M$105,11,FALSE)*P49,\"\")","v":1484.2055761111417},{"$f":"IFERROR(VLOOKUP(A49,STAGIONALITA!$A$3:$M$105,12,FALSE)*P49,\"\")","v":832.13659773524785},{"$f":"IFERROR(VLOOKUP(A49,STAGIONALITA!$A$3:$M$105,13,FALSE)*P49,\"\")","v":3030.043380802234},null,"Rizzo Aquae",14000]
["River",{"$f":"IFERROR(VLOOKUP(A50,STAGIONALITA!$A$3:$M$105,2,FALSE)*P50,\"\")","v":1046.293361944096},{"$f":"IFERROR(VLOOKUP(A50,STAGIONALITA!$A$3:$M$105,3,FALSE)*P50,\"\")","v":518.65132392539033},{"$f":"IFERROR(VLOOKUP(A50,STAGIONALITA!$A$3:$M$105,4,FALSE)*P50,\"\")","v":1066.6671058188244},{"$f":"IFERROR(VLOOKUP(A50,STAGIONALITA!$A$3:$M$105,5,FALSE)*P50,\"\")","v":514.70677690346452},{"$f":"IFERROR(VLOOKUP(A50,STAGIONALITA!$A$3:$M$105,6,FALSE)*P50,\"\")","v":1442.560698976532},{"$f":"IFERROR(VLOOKUP(A50,STAGIONALITA!$A$3:$M$105,7,FALSE)*P50,\"\")","v":782.92238812452968},{"$f":"IFERROR(VLOOKUP(A50,STAGIONALITA!$A$3:$M$105,8,FALSE)*P50,\"\")","v":1178.6859009822356},{"$f":"IFERROR(VLOOKUP(A50,STAGIONALITA!$A$3:$M$105,9,FALSE)*P50,\"\")","v":334.44867688772706},{"$f":"IFERROR(VLOOKUP(A50,STAGIONALITA!$A$3:$M$105,10,FALSE)*P50,\"\")","v":1821.3447710512817},{"$f":"IFERROR(VLOOKUP(A50,STAGIONALITA!$A$3:$M$105,11,FALSE)*P50,\"\")","v":896.35981630127981},{"$f":"IFERROR(VLOOKUP(A50,STAGIONALITA!$A$3:$M$105,12,FALSE)*P50,\"\")","v":1064.9122126259472},{"$f":"IFERROR(VLOOKUP(A50,STAGIONALITA!$A$3:$M$105,13,FALSE)*P50,\"\")","v":332.44696645869021},null,"River",11000]
["Tecnosystemi",{"$f":"IFERROR(VLOOKUP(A51,STAGIONALITA!$A$3:$M$105,2,FALSE)*P51,\"\")","v":595.07783046238524},{"$f":"IFERROR(VLOOKUP(A51,STAGIONALITA!$A$3:$M$105,3,FALSE)*P51,\"\")","v":694.28728334494394},{"$f":"IFERROR(VLOOKUP(A51,STAGIONALITA!$A$3:$M$105,4,FALSE)*P51,\"\")","v":1126.1499520891305},{"$f":"IFERROR(VLOOKUP(A51,STAGIONALITA!$A$3:$M$105,5,FALSE)*P51,\"\")","v":699.52523197594348},{"$f":"IFERROR(VLOOKUP(A51,STAGIONALITA!$A$3:$M$105,6,FALSE)*P51,\"\")","v":1469.1347710653699},{"$f":"IFERROR(VLOOKUP(A51,STAGIONALITA!$A$3:$M$105,7,FALSE)*P51,\"\")","v":553.75165494014129},{"$f":"IFERROR(VLOOKUP(A51,STAGIONALITA!$A$3:$M$105,8,FALSE)*P51,\"\")","v":962.73292072631159},{"$f":"IFERROR(VLOOKUP(A51,STAGIONALITA!$A$3:$M$105,9,FALSE)*P51,\"\")","v":536.23330292810033},{"$f":"IFERROR(VLOOKUP(A51,STAGIONALITA!$A$3:$M$105,10,FALSE)*P51,\"\")","v":1038.5292858122082},{"$f":"IFERROR(VLOOKUP(A51,STAGIONALITA!$A$3:$M$105,11,FALSE)*P51,\"\")","v":874.96701255719211},{"$f":"IFERROR(VLOOKUP(A51,STAGIONALITA!$A$3:$M$105,12,FALSE)*P51,\"\")","v":1050.3175727004384},{"$f":"IFERROR(VLOOKUP(A51,STAGIONALITA!$A$3:$M$105,13,FALSE)*P51,\"\")","v":399.29318139783555},null,"Tecnosystemi",10000]
["RM Manfredi",{"$f":"IFERROR(VLOOKUP(A52,STAGIONALITA!$A$3:$M$105,2,FALSE)*P52,\"\")","v":994.90387912685651},{"$f":"IFERROR(VLOOKUP(A52,STAGIONALITA!$A$3:$M$105,3,FALSE)*P52,\"\")","v":897.90538383312844},{"$f":"IFERROR(VLOOKUP(A52,STAGIONALITA!$A$3:$M$105,4,FALSE)*P52,\"\")","v":719.71483007757081},{"$f":"IFERROR(VLOOKUP(A52,STAGIONALITA!$A$3:$M$105,5,FALSE)*P52,\"\")","v":1080.5598009885534},{"$f":"IFERROR(VLOOKUP(A52,STAGIONALITA!$A$3:$M$105,6,FALSE)*P52,\"\")","v":453.67337527197037},{"$f":"IFERROR(VLOOKUP(A52,STAGIONALITA!$A$3:$M$105,7,FALSE)*P52,\"\")","v":2016.3821569624442},{"$f":"IFERROR(VLOOKUP(A52,STAGIONALITA!$A$3:$M$105,8,FALSE)*P52,\"\")","v":1058.4936086935954},{"$f":"IFERROR(VLOOKUP(A52,STAGIONALITA!$A$3:$M$105,9,FALSE)*P52,\"\")","v":302.75192744300449},{"$f":"IFERROR(VLOOKUP(A52,STAGIONALITA!$A$3:$M$105,10,FALSE)*P52,\"\")","v":1076.2991764024216},{"$f":"IFERROR(VLOOKUP(A52,STAGIONALITA!$A$3:$M$105,11,FALSE)*P52,\"\")","v":271.42913099517546},{"$f":"IFERROR(VLOOKUP(A52,STAGIONALITA!$A$3:$M$105,12,FALSE)*P52,\"\")","v":534.28897455302263},{"$f":"IFERROR(VLOOKUP(A52,STAGIONALITA!$A$3:$M$105,13,FALSE)*P52,\"\")","v":593.5977556522563},null,"RM Manfredi",10000]
[{"$f":"IF(O53=0,\"\",O53)","v":"Bwt/Cillichemie"},{"$f":"IFERROR(VLOOKUP(A53,STAGIONALITA!$A$3:$M$105,2,FALSE)*P53,\"\")","v":345.35563270722918},{"$f":"IFERROR(VLOOKUP(A53,STAGIONALITA!$A$3:$M$105,3,FALSE)*P53,\"\")","v":450.47761305730279},{"$f":"IFERROR(VLOOKUP(A53,STAGIONALITA!$A$3:$M$105,4,FALSE)*P53,\"\")","v":696.511925332945},{"$f":"IFERROR(VLOOKUP(A53,STAGIONALITA!$A$3:$M$105,5,FALSE)*P53,\"\")","v":1199.4197392209639},{"$f":"IFERROR(VLOOKUP(A53,STAGIONALITA!$A$3:$M$105,6,FALSE)*P53,\"\")","v":566.44560029566685},{"$f":"IFERROR(VLOOKUP(A53,STAGIONALITA!$A$3:$M$105,7,FALSE)*P53,\"\")","v":473.4782379140953},{"$f":"IFERROR(VLOOKUP(A53,STAGIONALITA!$A$3:$M$105,8,FALSE)*P53,\"\")","v":841.68199761436949},{"$f":"IFERROR(VLOOKUP(A53,STAGIONALITA!$A$3:$M$105,9,FALSE)*P53,\"\")","v":197.90347474712246},{"$f":"IFERROR(VLOOKUP(A53,STAGIONALITA!$A$3:$M$105,10,FALSE)*P53,\"\")","v":764.45994996019692},{"$f":"IFERROR(VLOOKUP(A53,STAGIONALITA!$A$3:$M$105,11,FALSE)*P53,\"\")","v":313.31349921341848},{"$f":"IFERROR(VLOOKUP(A53,STAGIONALITA!$A$3:$M$105,12,FALSE)*P53,\"\")","v":947.34615272238159},{"$f":"IFERROR(VLOOKUP(A53,STAGIONALITA!$A$3:$M$105,13,FALSE)*P53,\"\")","v":203.60617721430748},null,"Bwt/Cillichemie",7000]
[{"$f":"IF(O54=0,\"\",O54)","v":"Negrari"},{"$f":"IFERROR(VLOOKUP(A54,STAGIONALITA!$A$3:$M$105,2,FALSE)*P54,\"\")","v":577.38325315523207},{"$f":"IFERROR(VLOOKUP(A54,STAGIONALITA!$A$3:$M$105,3,FALSE)*P54,\"\")","v":660.19577782827776},{"$f":"IFERROR(VLOOKUP(A54,STAGIONALITA!$A$3:$M$105,4,FALSE)*P54,\"\")","v":503.03868939527621},{"$f":"IFERROR(VLOOKUP(A54,STAGIONALITA!$A$3:$M$105,5,FALSE)*P54,\"\")","v":542.6727834079046},{"$f":"IFERROR(VLOOKUP(A54,STAGIONALITA!$A$3:$M$105,6,FALSE)*P54,\"\")","v":116.31671849007485},{"$f":"IFERROR(VLOOKUP(A54,STAGIONALITA!$A$3:$M$105,7,FALSE)*P54,\"\")","v":1213.4174682760415},{"$f":"IFERROR(VLOOKUP(A54,STAGIONALITA!$A$3:$M$105,8,FALSE)*P54,\"\")","v":713.28633640200246},{"$f":"IFERROR(VLOOKUP(A54,STAGIONALITA!$A$3:$M$105,9,FALSE)*P54,\"\")","v":216.39677072312705},{"$f":"IFERROR(VLOOKUP(A54,STAGIONALITA!$A$3:$M$105,10,FALSE)*P54,\"\")","v":1371.3819445827087},{"$f":"IFERROR(VLOOKUP(A54,STAGIONALITA!$A$3:$M$105,11,FALSE)*P54,\"\")","v":519.68145252923193},{"$f":"IFERROR(VLOOKUP(A54,STAGIONALITA!$A$3:$M$105,12,FALSE)*P54,\"\")","v":220.01319557392173},{"$f":"IFERROR(VLOOKUP(A54,STAGIONALITA!$A$3:$M$105,13,FALSE)*P54,\"\")","v":346.2156096362018},null,"Negrari",7000]
[{"$f":"IF(O55=0,\"\",O55)","v":""},{"$f":"IFERROR(VLOOKUP(A55,STAGIONALITA!$A$3:$M$105,2,FALSE)*P55,\"\")","v":""},{"$f":"IFERROR(VLOOKUP(A55,STAGIONALITA!$A$3:$M$105,3,FALSE)*P55,\"\")","v":""},{"$f":"IFERROR(VLOOKUP(A55,STAGIONALITA!$A$3:$M$105,4,FALSE)*P55,\"\")","v":""},{"$f":"IFERROR(VLOOKUP(A55,STAGIONALITA!$A$3:$M$105,5,FALSE)*P55,\"\")","v":""},{"$f":"IFERROR(VLOOKUP(A55,STAGIONALITA!$A$3:$M$105,6,FALSE)*P55,\"\")","v":""},{"$f":"IFERROR(VLOOKUP(A55,STAGIONALITA!$A$3:$M$105,7,FALSE)*P55,\"\")","v":""},{"$f":"IFERROR(VLOOKUP(A55,STAGIONALITA!$A$3:$M$105,8,FALSE)*P55,\"\")","v":""},{"$f":"IFERROR(VLOOKUP(A55,STAGIONALITA!$A$3:$M$105,9,FALSE)*P55,\"\")","v":""},{"$f":"IFERROR(VLOOKUP(A55,STAGIONALITA!$A$3:$M$105,10,FALSE)*P55,\"\")","v":""},{"$f":"IFERROR(VLOOKUP(A55,STAGIONALITA!$A$3:$M$105,11,FALSE)*P55,\"\")","v":""},{"$f":"IFERROR(VLOOKUP(A55,STAGIONALITA!$A$3:$M$105,12,FALSE)*P55,\"\")","v":""},{"$f":"IFERROR(VLOOKUP(A55,STAGIONALITA!$A$3:$M$105,13,FALSE)*P55,\"\")","v":""}]
[{"$f":"IF(O56=0,\"\",O56)","v":""},{"$f":"IFERROR(VLOOKUP(A56,STAGIONALITA!$A$3:$M$105,2,FALSE)*P56,\"\")","v":""},{"$f":"IFERROR(VLOOKUP(A56,STAGIONALITA!$A$3:$M$105,3,FALSE)*P56,\"\")","v":""},{"$f":"IFERROR(VLOOKUP(A56,STAGIONALITA!$A$3:$M$105,4,FALSE)*P56,\"\")","v":""},{"$f":"IFERROR(VLOOKUP(A56,STAGIONALITA!$A$3:$M$105,5,FALSE)*P56,\"\")","v":""},{"$f":"IFERROR(VLOOKUP(A56,STAGIONALITA!$A$3:$M$105,6,FALSE)*P56,\"\")","v":""},{"$f":"IFERROR(VLOOKUP(A56,STAGIONALITA!$A$3:$M$105,7,FALSE)*P56,\"\")","v":""},{"$f":"IFERROR(VLOOKUP(A56,STAGIONALITA!$A$3:$M$105,8,FALSE)*P56,\"\")","v":""},{"$f":"IFERROR(VLOOKUP(A56,STAGIONALITA!$A$3:$M$105,9,FALSE)*P56,\"\")","v":""},{"$f":"IFERROR(VLOOKUP(A56,STAGIONALITA!$A$3:$M$105,10,FALSE)*P56,\"\")","v":""},{"$f":"IFERROR(VLOOKUP(A56,STAGIONALITA!$A$3:$M$105,11,FALSE)*P56,\"\")","v":""},{"$f":"IFERROR(VLOOKUP(A56,STAGIONALITA!$A$3:$M$105,12,FALSE)*P56,\"\")","v":""},{"$f":"IFERROR(VLOOKUP(A56,STAGIONALITA!$A$3:$M$105,13,FALSE)*P56,\"\")","v":""}]
[{"$f":"IF(O57=0,\"\",O57)","v":""},{"$f":"IFERROR(VLOOKUP(A57,STAGIONALITA!$A$3:$M$105,2,FALSE)*P57,\"\")","v":""},{"$f":"IFERROR(VLOOKUP(A57,STAGIONALITA!$A$3:$M$105,3,FALSE)*P57,\"\")","v":""},{"$f":"IFERROR(VLOOKUP(A57,STAGIONALITA!$A$3:$M$105,4,FALSE)*P57,\"\")","v":""},{"$f":"IFERROR(VLOOKUP(A57,STAGIONALITA!$A$3:$M$105,5,FALSE)*P57,\"\")","v":""},{"$f":"IFERROR(VLOOKUP(A57,STAGIONALITA!$A$3:$M$105,6,FALSE)*P57,\"\")","v":""},{"$f":"IFERROR(VLOOKUP(A57,STAGIONALITA!$A$3:$M$105,7,FALSE)*P57,\"\")","v":""},{"$f":"IFERROR(VLOOKUP(A57,STAGIONALITA!$A$3:$M$105,8,FALSE)*P57,\"\")","v":""},{"$f":"IFERROR(VLOOKUP(A57,STAGIONALITA!$A$3:$M$105,9,FALSE)*P57,\"\")","v":""},{"$f":"IFERROR(VLOOKUP(A57,STAGIONALITA!$A$3:$M$105,10,FALSE)*P57,\"\")","v":""},{"$f":"IFERROR(VLOOKUP(A57,STAGIONALITA!$A$3:$M$105,11,FALSE)*P57,\"\")","v":""},{"$f":"IFERROR(VLOOKUP(A57,STAGIONALITA!$A$3:$M$105,12,FALSE)*P57,\"\")","v":""},{"$f":"IFERROR(VLOOKUP(A57,STAGIONALITA!$A$3:$M$105,13,FALSE)*P57,\"\")","v":""}]
[{"$f":"IF(O58=0,\"\",O58)","v":""},{"$f":"IFERROR(VLOOKUP(A58,STAGIONALITA!$A$3:$M$105,2,FALSE)*P58,\"\")","v":""},{"$f":"IFERROR(VLOOKUP(A58,STAGIONALITA!$A$3:$M$105,3,FALSE)*P58,\"\")","v":""},{"$f":"IFERROR(VLOOKUP(A58,STAGIONALITA!$A$3:$M$105,4,FALSE)*P58,\"\")","v":""},{"$f":"IFERROR(VLOOKUP(A58,STAGIONALITA!$A$3:$M$105,5,FALSE)*P58,\"\")","v":""},{"$f":"IFERROR(VLOOKUP(A58,STAGIONALITA!$A$3:$M$105,6,FALSE)*P58,\"\")","v":""},{"$f":"IFERROR(VLOOKUP(A58,STAGIONALITA!$A$3:$M$105,7,FALSE)*P58,\"\")","v":""},{"$f":"IFERROR(VLOOKUP(A58,STAGIONALITA!$A$3:$M$105,8,FALSE)*P58,\"\")","v":""},{"$f":"IFERROR(VLOOKUP(A58,STAGIONALITA!$A$3:$M$105,9,FALSE)*P58,\"\")","v":""},{"$f":"IFERROR(VLOOKUP(A58,STAGIONALITA!$A$3:$M$105,10,FALSE)*P58,\"\")","v":""},{"$f":"IFERROR(VLOOKUP(A58,STAGIONALITA!$A$3:$M$105,11,FALSE)*P58,\"\")","v":""},{"$f":"IFERROR(VLOOKUP(A58,STAGIONALITA!$A$3:$M$105,12,FALSE)*P58,\"\")","v":""},{"$f":"IFERROR(VLOOKUP(A58,STAGIONALITA!$A$3:$M$105,13,FALSE)*P58,\"\")","v":""}]
[{"$f":"IF(O59=0,\"\",O59)","v":""},{"$f":"IFERROR(VLOOKUP(A59,STAGIONALITA!$A$3:$M$105,2,FALSE)*P59,\"\")","v":""},{"$f":"IFERROR(VLOOKUP(A59,STAGIONALITA!$A$3:$M$105,3,FALSE)*P59,\"\")","v":""},{"$f":"IFERROR(VLOOKUP(A59,STAGIONALITA!$A$3:$M$105,4,FALSE)*P59,\"\")","v":""},{"$f":"IFERROR(VLOOKUP(A59,STAGIONALITA!$A$3:$M$105,5,FALSE)*P59,\"\")","v":""},{"$f":"IFERROR(VLOOKUP(A59,STAGIONALITA!$A$3:$M$105,6,FALSE)*P59,\"\")","v":""},{"$f":"IFERROR(VLOOKUP(A59,STAGIONALITA!$A$3:$M$105,7,FALSE)*P59,\"\")","v":""},{"$f":"IFERROR(VLOOKUP(A59,STAGIONALITA!$A$3:$M$105,8,FALSE)*P59,\"\")","v":""},{"$f":"IFERROR(VLOOKUP(A59,STAGIONALITA!$A$3:$M$105,9,FALSE)*P59,\"\")","v":""},{"$f":"IFERROR(VLOOKUP(A59,STAGIONALITA!$A$3:$M$105,10,FALSE)*P59,\"\")","v":""},{"$f":"IFERROR(VLOOKUP(A59,STAGIONALITA!$A$3:$M$105,11,FALSE)*P59,\"\")","v":""},{"$f":"IFERROR(VLOOKUP(A59,STAGIONALITA!$A$3:$M$105,12,FALSE)*P59,\"\")","v":""},{"$f":"IFERROR(VLOOKUP(A59,STAGIONALITA!$A$3:$M$105,13,FALSE)*P59,\"\")","v":""}]
[{"$f":"IF(O60=0,\"\",O60)","v":""},{"$f":"IFERROR(VLOOKUP(A60,STAGIONALITA!$A$3:$M$105,2,FALSE)*P60,\"\")","v":""},{"$f":"IFERROR(VLOOKUP(A60,STAGIONALITA!$A$3:$M$105,3,FALSE)*P60,\"\")","v":""},{"$f":"IFERROR(VLOOKUP(A60,STAGIONALITA!$A$3:$M$105,4,FALSE)*P60,\"\")","v":""},{"$f":"IFERROR(VLOOKUP(A60,STAGIONALITA!$A$3:$M$105,5,FALSE)*P60,\"\")","v":""},{"$f":"IFERROR(VLOOKUP(A60,STAGIONALITA!$A$3:$M$105,6,FALSE)*P60,\"\")","v":""},{"$f":"IFERROR(VLOOKUP(A60,STAGIONALITA!$A$3:$M$105,7,FALSE)*P60,\"\")","v":""},{"$f":"IFERROR(VLOOKUP(A60,STAGIONALITA!$A$3:$M$105,8,FALSE)*P60,\"\")","v":""},{"$f":"IFERROR(VLOOKUP(A60,STAGIONALITA!$A$3:$M$105,9,FALSE)*P60,\"\")","v":""},{"$f":"IFERROR(VLOOKUP(A60,STAGIONALITA!$A$3:$M$105,10,FALSE)*P60,\"\")","v":""},{"$f":"IFERROR(VLOOKUP(A60,STAGIONALITA!$A$3:$M$105,11,FALSE)*P60,\"\")","v":""},{"$f":"IFERROR(VLOOKUP(A60,STAGIONALITA!$A$3:$M$105,12,FALSE)*P60,\"\")","v":""},{"$f":"IFERROR(VLOOKUP(A60,STAGIONALITA!$A$3:$M$105,13,FALSE)*P60,\"\")","v":""}]
[{"$f":"IF(O61=0,\"\",O61)","v":""},{"$f":"IFERROR(VLOOKUP(A61,STAGIONALITA!$A$3:$M$105,2,FALSE)*P61,\"\")","v":""},{"$f":"IFERROR(VLOOKUP(A61,STAGIONALITA!$A$3:$M$105,3,FALSE)*P61,\"\")","v":""},{"$f":"IFERROR(VLOOKUP(A61,STAGIONALITA!$A$3:$M$105,4,FALSE)*P61,\"\")","v":""},{"$f":"IFERROR(VLOOKUP(A61,STAGIONALITA!$A$3:$M$105,5,FALSE)*P61,\"\")","v":""},{"$f":"IFERROR(VLOOKUP(A61,STAGIONALITA!$A$3:$M$105,6,FALSE)*P61,\"\")","v":""},{"$f":"IFERROR(VLOOKUP(A61,STAGIONALITA!$A$3:$M$105,7,FALSE)*P61,\"\")","v":""},{"$f":"IFERROR(VLOOKUP(A61,STAGIONALITA!$A$3:$M$105,8,FALSE)*P61,\"\")","v":""},{"$f":"IFERROR(VLOOKUP(A61,STAGIONALITA!$A$3:$M$105,9,FALSE)*P61,\"\")","v":""},{"$f":"IFERROR(VLOOKUP(A61,STAGIONALITA!$A$3:$M$105,10,FALSE)*P61,\"\")","v":""},{"$f":"IFERROR(VLOOKUP(A61,STAGIONALITA!$A$3:$M$105,11,FALSE)*P61,\"\")","v":""},{"$f":"IFERROR(VLOOKUP(A61,STAGIONALITA!$A$3:$M$105,12,FALSE)*P61,\"\")","v":""},{"$f":"IFERROR(VLOOKUP(A61,STAGIONALITA!$A$3:$M$105,13,FALSE)*P61,\"\")","v":""}]
[{"$f":"IF(O62=0,\"\",O62)","v":""},{"$f":"IFERROR(VLOOKUP(A62,STAGIONALITA!$A$3:$M$105,2,FALSE)*P62,\"\")","v":""},{"$f":"IFERROR(VLOOKUP(A62,STAGIONALITA!$A$3:$M$105,3,FALSE)*P62,\"\")","v":""},{"$f":"IFERROR(VLOOKUP(A62,STAGIONALITA!$A$3:$M$105,4,FALSE)*P62,\"\")","v":""},{"$f":"IFERROR(VLOOKUP(A62,STAGIONALITA!$A$3:$M$105,5,FALSE)*P62,\"\")","v":""},{"$f":"IFERROR(VLOOKUP(A62,STAGIONALITA!$A$3:$M$105,6,FALSE)*P62,\"\")","v":""},{"$f":"IFERROR(VLOOKUP(A62,STAGIONALITA!$A$3:$M$105,7,FALSE)*P62,\"\")","v":""},{"$f":"IFERROR(VLOOKUP(A62,STAGIONALITA!$A$3:$M$105,8,FALSE)*P62,\"\")","v":""},{"$f":"IFERROR(VLOOKUP(A62,STAGIONALITA!$A$3:$M$105,9,FALSE)*P62,\"\")","v":""},{"$f":"IFERROR(VLOOKUP(A62,STAGIONALITA!$A$3:$M$105,10,FALSE)*P62,\"\")","v":""},{"$f":"IFERROR(VLOOKUP(A62,STAGIONALITA!$A$3:$M$105,11,FALSE)*P62,\"\")","v":""},{"$f":"IFERROR(VLOOKUP(A62,STAGIONALITA!$A$3:$M$105,12,FALSE)*P62,\"\")","v":""},{"$f":"IFERROR(VLOOKUP(A62,STAGIONALITA!$A$3:$M$105,13,FALSE)*P62,\"\")","v":""}]
[{"$f":"IF(O63=0,\"\",O63)","v":""},{"$f":"IFERROR(VLOOKUP(A63,STAGIONALITA!$A$3:$M$105,2,FALSE)*P63,\"\")","v":""},{"$f":"IFERROR(VLOOKUP(A63,STAGIONALITA!$A$3:$M$105,3,FALSE)*P63,\"\")","v":""},{"$f":"IFERROR(VLOOKUP(A63,STAGIONALITA!$A$3:$M$105,4,FALSE)*P63,\"\")","v":""},{"$f":"IFERROR(VLOOKUP(A63,STAGIONALITA!$A$3:$M$105,5,FALSE)*P63,\"\")","v":""},{"$f":"IFERROR(VLOOKUP(A63,STAGIONALITA!$A$3:$M$105,6,FALSE)*P63,\"\")","v":""},{"$f":"IFERROR(VLOOKUP(A63,STAGIONALITA!$A$3:$M$105,7,FALSE)*P63,\"\")","v":""},{"$f":"IFERROR(VLOOKUP(A63,STAGIONALITA!$A$3:$M$105,8,FALSE)*P63,\"\")","v":""},{"$f":"IFERROR(VLOOKUP(A63,STAGIONALITA!$A$3:$M$105,9,FALSE)*P63,\"\")","v":""},{"$f":"IFERROR(VLOOKUP(A63,STAGIONALITA!$A$3:$M$105,10,FALSE)*P63,\"\")","v":""},{"$f":"IFERROR(VLOOKUP(A63,STAGIONALITA!$A$3:$M$105,11,FALSE)*P63,\"\")","v":""},{"$f":"IFERROR(VLOOKUP(A63,STAGIONALITA!$A$3:$M$105,12,FALSE)*P63,\"\")","v":""},{"$f":"IFERROR(VLOOKUP(A63,STAGIONALITA!$A$3:$M$105,13,FALSE)*P63,\"\")","v":""}]
[{"$f":"IF(O64=0,\"\",O64)","v":""},{"$f":"IFERROR(VLOOKUP(A64,STAGIONALITA!$A$3:$M$105,2,FALSE)*P64,\"\")","v":""},{"$f":"IFERROR(VLOOKUP(A64,STAGIONALITA!$A$3:$M$105,3,FALSE)*P64,\"\")","v":""},{"$f":"IFERROR(VLOOKUP(A64,STAGIONALITA!$A$3:$M$105,4,FALSE)*P64,\"\")","v":""},{"$f":"IFERROR(VLOOKUP(A64,STAGIONALITA!$A$3:$M$105,5,FALSE)*P64,\"\")","v":""},{"$f":"IFERROR(VLOOKUP(A64,STAGIONALITA!$A$3:$M$105,6,FALSE)*P64,\"\")","v":""},{"$f":"IFERROR(VLOOKUP(A64,STAGIONALITA!$A$3:$M$105,7,FALSE)*P64,\"\")","v":""},{"$f":"IFERROR(VLOOKUP(A64,STAGIONALITA!$A$3:$M$105,8,FALSE)*P64,\"\")","v":""},{"$f":"IFERROR(VLOOKUP(A64,STAGIONALITA!$A$3:$M$105,9,FALSE)*P64,\"\")","v":""},{"$f":"IFERROR(VLOOKUP(A64,STAGIONALITA!$A$3:$M$105,10,FALSE)*P64,\"\")","v":""},{"$f":"IFERROR(VLOOKUP(A64,STAGIONALITA!$A$3:$M$105,11,FALSE)*P64,\"\")","v":""},{"$f":"IFERROR(VLOOKUP(A64,STAGIONALITA!$A$3:$M$105,12,FALSE)*P64,\"\")","v":""},{"$f":"IFERROR(VLOOKUP(A64,STAGIONALITA!$A$3:$M$105,13,FALSE)*P64,\"\")","v":""}]
[{"$f":"IF(O65=0,\"\",O65)","v":""},{"$f":"IFERROR(VLOOKUP(A65,STAGIONALITA!$A$3:$M$105,2,FALSE)*P65,\"\")","v":""},{"$f":"IFERROR(VLOOKUP(A65,STAGIONALITA!$A$3:$M$105,3,FALSE)*P65,\"\")","v":""},{"$f":"IFERROR(VLOOKUP(A65,STAGIONALITA!$A$3:$M$105,4,FALSE)*P65,\"\")","v":""},{"$f":"IFERROR(VLOOKUP(A65,STAGIONALITA!$A$3:$M$105,5,FALSE)*P65,\"\")","v":""},{"$f":"IFERROR(VLOOKUP(A65,STAGIONALITA!$A$3:$M$105,6,FALSE)*P65,\"\")","v":""},{"$f":"IFERROR(VLOOKUP(A65,STAGIONALITA!$A$3:$M$105,7,FALSE)*P65,\"\")","v":""},{"$f":"IFERROR(VLOOKUP(A65,STAGIONALITA!$A$3:$M$105,8,FALSE)*P65,\"\")","v":""},{"$f":"IFERROR(VLOOKUP(A65,STAGIONALITA!$A$3:$M$105,9,FALSE)*P65,\"\")","v":""},{"$f":"IFERROR(VLOOKUP(A65,STAGIONALITA!$A$3:$M$105,10,FALSE)*P65,\"\")","v":""},{"$f":"IFERROR(VLOOKUP(A65,STAGIONALITA!$A$3:$M$105,11,FALSE)*P65,\"\")","v":""},{"$f":"IFERROR(VLOOKUP(A65,STAGIONALITA!$A$3:$M$105,12,FALSE)*P65,\"\")","v":""},{"$f":"IFERROR(VLOOKUP(A65,STAGIONALITA!$A$3:$M$105,13,FALSE)*P65,\"\")","v":""}]
[{"$f":"IF(O66=0,\"\",O66)","v":""},{"$f":"IFERROR(VLOOKUP(A66,STAGIONALITA!$A$3:$M$105,2,FALSE)*P66,\"\")","v":""},{"$f":"IFERROR(VLOOKUP(A66,STAGIONALITA!$A$3:$M$105,3,FALSE)*P66,\"\")","v":""},{"$f":"IFERROR(VLOOKUP(A66,STAGIONALITA!$A$3:$M$105,4,FALSE)*P66,\"\")","v":""},{"$f":"IFERROR(VLOOKUP(A66,STAGIONALITA!$A$3:$M$105,5,FALSE)*P66,\"\")","v":""},{"$f":"IFERROR(VLOOKUP(A66,STAGIONALITA!$A$3:$M$105,6,FALSE)*P66,\"\")","v":""},{"$f":"IFERROR(VLOOKUP(A66,STAGIONALITA!$A$3:$M$105,7,FALSE)*P66,\"\")","v":""},{"$f":"IFERROR(VLOOKUP(A66,STAGIONALITA!$A$3:$M$105,8,FALSE)*P66,\"\")","v":""},{"$f":"IFERROR(VLOOKUP(A66,STAGIONALITA!$A$3:$M$105,9,FALSE)*P66,\"\")","v":""},{"$f":"IFERROR(VLOOKUP(A66,STAGIONALITA!$A$3:$M$105,10,FALSE)*P66,\"\")","v":""},{"$f":"IFERROR(VLOOKUP(A66,STAGIONALITA!$A$3:$M$105,11,FALSE)*P66,\"\")","v":""},{"$f":"IFERROR(VLOOKUP(A66,STAGIONALITA!$A$3:$M$105,12,FALSE)*P66,\"\")","v":""},{"$f":"IFERROR(VLOOKUP(A66,STAGIONALITA!$A$3:$M$105,13,FALSE)*P66,\"\")","v":""}]
[{"$f":"IF(O67=0,\"\",O67)","v":""},{"$f":"IFERROR(VLOOKUP(A67,STAGIONALITA!$A$3:$M$105,2,FALSE)*P67,\"\")","v":""},{"$f":"IFERROR(VLOOKUP(A67,STAGIONALITA!$A$3:$M$105,3,FALSE)*P67,\"\")","v":""},{"$f":"IFERROR(VLOOKUP(A67,STAGIONALITA!$A$3:$M$105,4,FALSE)*P67,\"\")","v":""},{"$f":"IFERROR(VLOOKUP(A67,STAGIONALITA!$A$3:$M$105,5,FALSE)*P67,\"\")","v":""},{"$f":"IFERROR(VLOOKUP(A67,STAGIONALITA!$A$3:$M$105,6,FALSE)*P67,\"\")","v":""},{"$f":"IFERROR(VLOOKUP(A67,STAGIONALITA!$A$3:$M$105,7,FALSE)*P67,\"\")","v":""},{"$f":"IFERROR(VLOOKUP(A67,STAGIONALITA!$A$3:$M$105,8,FALSE)*P67,\"\")","v":""},{"$f":"IFERROR(VLOOKUP(A67,STAGIONALITA!$A$3:$M$105,9,FALSE)*P67,\"\")","v":""},{"$f":"IFERROR(VLOOKUP(A67,STAGIONALITA!$A$3:$M$105,10,FALSE)*P67,\"\")","v":""},{"$f":"IFERROR(VLOOKUP(A67,STAGIONALITA!$A$3:$M$105,11,FALSE)*P67,\"\")","v":""},{"$f":"IFERROR(VLOOKUP(A67,STAGIONALITA!$A$3:$M$105,12,FALSE)*P67,\"\")","v":""},{"$f":"IFERROR(VLOOKUP(A67,STAGIONALITA!$A$3:$M$105,13,FALSE)*P67,\"\")","v":""}]
["",{"$f":"IFERROR(VLOOKUP(A68,STAGIONALITA!$A$3:$M$105,2,FALSE)*P68,\"\")","v":""},{"$f":"IFERROR(VLOOKUP(A68,STAGIONALITA!$A$3:$M$105,3,FALSE)*P68,\"\")","v":""},{"$f":"IFERROR(VLOOKUP(A68,STAGIONALITA!$A$3:$M$105,4,FALSE)*P68,\"\")","v":""},{"$f":"IFERROR(VLOOKUP(A68,STAGIONALITA!$A$3:$M$105,5,FALSE)*P68,\"\")","v":""},{"$f":"IFERROR(VLOOKUP(A68,STAGIONALITA!$A$3:$M$105,6,FALSE)*P68,\"\")","v":""},{"$f":"IFERROR(VLOOKUP(A68,STAGIONALITA!$A$3:$M$105,7,FALSE)*P68,\"\")","v":""},{"$f":"IFERROR(VLOOKUP(A68,STAGIONALITA!$A$3:$M$105,8,FALSE)*P68,\"\")","v":""},{"$f":"IFERROR(VLOOKUP(A68,STAGIONALITA!$A$3:$M$105,9,FALSE)*P68,\"\")","v":""},{"$f":"IFERROR(VLOOKUP(A68,STAGIONALITA!$A$3:$M$105,10,FALSE)*P68,\"\")","v":""},{"$f":"IFERROR(VLOOKUP(A68,STAGIONALITA!$A$3:$M$105,11,FALSE)*P68,\"\")","v":""},{"$f":"IFERROR(VLOOKUP(A68,STAGIONALITA!$A$3:$M$105,12,FALSE)*P68,\"\")","v":""},{"$f":"IFERROR(VLOOKUP(A68,STAGIONALITA!$A$3:$M$105,13,FALSE)*P68,\"\")","v":""}]
["",{"$f":"IFERROR(VLOOKUP(A69,STAGIONALITA!$A$3:$M$105,2,FALSE)*P69,\"\")","v":""},{"$f":"IFERROR(VLOOKUP(A69,STAGIONALITA!$A$3:$M$105,3,FALSE)*P69,\"\")","v":""},{"$f":"IFERROR(VLOOKUP(A69,STAGIONALITA!$A$3:$M$105,4,FALSE)*P69,\"\")","v":""},{"$f":"IFERROR(VLOOKUP(A69,STAGIONALITA!$A$3:$M$105,5,FALSE)*P69,\"\")","v":""},{"$f":"IFERROR(VLOOKUP(A69,STAGIONALITA!$A$3:$M$105,6,FALSE)*P69,\"\")","v":""},{"$f":"IFERROR(VLOOKUP(A69,STAGIONALITA!$A$3:$M$105,7,FALSE)*P69,\"\")","v":""},{"$f":"IFERROR(VLOOKUP(A69,STAGIONALITA!$A$3:$M$105,8,FALSE)*P69,\"\")","v":""},{"$f":"IFERROR(VLOOKUP(A69,STAGIONALITA!$A$3:$M$105,9,FALSE)*P69,\"\")","v":""},{"$f":"IFERROR(VLOOKUP(A69,STAGIONALITA!$A$3:$M$105,10,FALSE)*P69,\"\")","v":""},{"$f":"IFERROR(VLOOKUP(A69,STAGIONALITA!$A$3:$M$105,11,FALSE)*P69,\"\")","v":""},{"$f":"IFERROR(VLOOKUP(A69,STAGIONALITA!$A$3:$M$105,12,FALSE)*P69,\"\")","v":""},{"$f":"IFERROR(VLOOKUP(A69,STAGIONALITA!$A$3:$M$105,13,FALSE)*P69,\"\")","v":""}]
["",{"$f":"IFERROR(VLOOKUP(A70,STAGIONALITA!$A$3:$M$105,2,FALSE)*P70,\"\")","v":""},{"$f":"IFERROR(VLOOKUP(A70,STAGIONALITA!$A$3:$M$105,3,FALSE)*P70,\"\")","v":""},{"$f":"IFERROR(VLOOKUP(A70,STAGIONALITA!$A$3:$M$105,4,FALSE)*P70,\"\")","v":""},{"$f":"IFERROR(VLOOKUP(A70,STAGIONALITA!$A$3:$M$105,5,FALSE)*P70,\"\")","v":""},{"$f":"IFERROR(VLOOKUP(A70,STAGIONALITA!$A$3:$M$105,6,FALSE)*P70,\"\")","v":""},{"$f":"IFERROR(VLOOKUP(A70,STAGIONALITA!$A$3:$M$105,7,FALSE)*P70,\"\")","v":""},{"$f":"IFERROR(VLOOKUP(A70,STAGIONALITA!$A$3:$M$105,8,FALSE)*P70,\"\")","v":""},{"$f":"IFERROR(VLOOKUP(A70,STAGIONALITA!$A$3:$M$105,9,FALSE)*P70,\"\")","v":""},{"$f":"IFERROR(VLOOKUP(A70,STAGIONALITA!$A$3:$M$105,10,FALSE)*P70,\"\")","v":""},{"$f":"IFERROR(VLOOKUP(A70,STAGIONALITA!$A$3:$M$105,11,FALSE)*P70,\"\")","v":""},{"$f":"IFERROR(VLOOKUP(A70,STAGIONALITA!$A$3:$M$105,12,FALSE)*P70,\"\")","v":""},{"$f":"IFERROR(VLOOKUP(A70,STAGIONALITA!$A$3:$M$105,13,FALSE)*P70,\"\")","v":""}]
["",{"$f":"IFERROR(VLOOKUP(A71,STAGIONALITA!$A$3:$M$105,2,FALSE)*P71,\"\")","v":""},{"$f":"IFERROR(VLOOKUP(A71,STAGIONALITA!$A$3:$M$105,3,FALSE)*P71,\"\")","v":""},{"$f":"IFERROR(VLOOKUP(A71,STAGIONALITA!$A$3:$M$105,4,FALSE)*P71,\"\")","v":""},{"$f":"IFERROR(VLOOKUP(A71,STAGIONALITA!$A$3:$M$105,5,FALSE)*P71,\"\")","v":""},{"$f":"IFERROR(VLOOKUP(A71,STAGIONALITA!$A$3:$M$105,6,FALSE)*P71,\"\")","v":""},{"$f":"IFERROR(VLOOKUP(A71,STAGIONALITA!$A$3:$M$105,7,FALSE)*P71,\"\")","v":""},{"$f":"IFERROR(VLOOKUP(A71,STAGIONALITA!$A$3:$M$105,8,FALSE)*P71,\"\")","v":""},{"$f":"IFERROR(VLOOKUP(A71,STAGIONALITA!$A$3:$M$105,9,FALSE)*P71,\"\")","v":""},{"$f":"IFERROR(VLOOKUP(A71,STAGIONALITA!$A$3:$M$105,10,FALSE)*P71,\"\")","v":""},{"$f":"IFERROR(VLOOKUP(A71,STAGIONALITA!$A$3:$M$105,11,FALSE)*P71,\"\")","v":""},{"$f":"IFERROR(VLOOKUP(A71,STAGIONALITA!$A$3:$M$105,12,FALSE)*P71,\"\")","v":""},{"$f":"IFERROR(VLOOKUP(A71,STAGIONALITA!$A$3:$M$105,13,FALSE)*P71,\"\")","v":""}]
["",{"$f":"IFERROR(VLOOKUP(A72,STAGIONALITA!$A$3:$M$105,2,FALSE)*P72,\"\")","v":""},{"$f":"IFERROR(VLOOKUP(A72,STAGIONALITA!$A$3:$M$105,3,FALSE)*P72,\"\")","v":""},{"$f":"IFERROR(VLOOKUP(A72,STAGIONALITA!$A$3:$M$105,4,FALSE)*P72,\"\")","v":""},{"$f":"IFERROR(VLOOKUP(A72,STAGIONALITA!$A$3:$M$105,5,FALSE)*P72,\"\")","v":""},{"$f":"IFERROR(VLOOKUP(A72,STAGIONALITA!$A$3:$M$105,6,FALSE)*P72,\"\")","v":""},{"$f":"IFERROR(VLOOKUP(A72,STAGIONALITA!$A$3:$M$105,7,FALSE)*P72,\"\")","v":""},{"$f":"IFERROR(VLOOKUP(A72,STAGIONALITA!$A$3:$M$105,8,FALSE)*P72,\"\")","v":""},{"$f":"IFERROR(VLOOKUP(A72,STAGIONALITA!$A$3:$M$105,9,FALSE)*P72,\"\")","v":""},{"$f":"IFERROR(VLOOKUP(A72,STAGIONALITA!$A$3:$M$105,10,FALSE)*P72,\"\")","v":""},{"$f":"IFERROR(VLOOKUP(A72,STAGIONALITA!$A$3:$M$105,11,FALSE)*P72,\"\")","v":""},{"$f":"IFERROR(VLOOKUP(A72,STAGIONALITA!$A$3:$M$105,12,FALSE)*P72,\"\")","v":""},{"$f":"IFERROR(VLOOKUP(A72,STAGIONALITA!$A$3:$M$105,13,FALSE)*P72,\"\")","v":""}]
["",{"$f":"IFERROR(VLOOKUP(A73,STAGIONALITA!$A$3:$M$105,2,FALSE)*P73,\"\")","v":""},{"$f":"IFERROR(VLOOKUP(A73,STAGIONALITA!$A$3:$M$105,3,FALSE)*P73,\"\")","v":""},{"$f":"IFERROR(VLOOKUP(A73,STAGIONALITA!$A$3:$M$105,4,FALSE)*P73,\"\")","v":""},{"$f":"IFERROR(VLOOKUP(A73,STAGIONALITA!$A$3:$M$105,5,FALSE)*P73,\"\")","v":""},{"$f":"IFERROR(VLOOKUP(A73,STAGIONALITA!$A$3:$M$105,6,FALSE)*P73,\"\")","v":""},{"$f":"IFERROR(VLOOKUP(A73,STAGIONALITA!$A$3:$M$105,7,FALSE)*P73,\"\")","v":""},{"$f":"IFERROR(VLOOKUP(A73,STAGIONALITA!$A$3:$M$105,8,FALSE)*P73,\"\")","v":""},{"$f":"IFERROR(VLOOKUP(A73,STAGIONALITA!$A$3:$M$105,9,FALSE)*P73,\"\")","v":""},{"$f":"IFERROR(VLOOKUP(A73,STAGIONALITA!$A$3:$M$105,10,FALSE)*P73,\"\")","v":""},{"$f":"IFERROR(VLOOKUP(A73,STAGIONALITA!$A$3:$M$105,11,FALSE)*P73,\"\")","v":""},{"$f":"IFERROR(VLOOKUP(A73,STAGIONALITA!$A$3:$M$105,12,FALSE)*P73,\"\")","v":""},{"$f":"IFERROR(VLOOKUP(A73,STAGIONALITA!$A$3:$M$105,13,FALSE)*P73,\"\")","v":""}]
["",{"$f":"IFERROR(VLOOKUP(A74,STAGIONALITA!$A$3:$M$105,2,FALSE)*P74,\"\")","v":""},{"$f":"IFERROR(VLOOKUP(A74,STAGIONALITA!$A$3:$M$105,3,FALSE)*P74,\"\")","v":""},{"$f":"IFERROR(VLOOKUP(A74,STAGIONALITA!$A$3:$M$105,4,FALSE)*P74,\"\")","v":""},{"$f":"IFERROR(VLOOKUP(A74,STAGIONALITA!$A$3:$M$105,5,FALSE)*P74,\"\")","v":""},{"$f":"IFERROR(VLOOKUP(A74,STAGIONALITA!$A$3:$M$105,6,FALSE)*P74,\"\")","v":""},{"$f":"IFERROR(VLOOKUP(A74,STAGIONALITA!$A$3:$M$105,7,FALSE)*P74,\"\")","v":""},{"$f":"IFERROR(VLOOKUP(A74,STAGIONALITA!$A$3:$M$105,8,FALSE)*P74,\"\")","v":""},{"$f":"IFERROR(VLOOKUP(A74,STAGIONALITA!$A$3:$M$105,9,FALSE)*P74,\"\")","v":""},{"$f":"IFERROR(VLOOKUP(A74,STAGIONALITA!$A$3:$M$105,10,FALSE)*P74,\"\")","v":""},{"$f":"IFERROR(VLOOKUP(A74,STAGIONALITA!$A$3:$M$105,11,FALSE)*P74,\"\")","v":""},{"$f":"IFERROR(VLOOKUP(A74,STAGIONALITA!$A$3:$M$105,12,FALSE)*P74,\"\")","v":""},{"$f":"IFERROR(VLOOKUP(A74,STAGIONALITA!$A$3:$M$105,13,FALSE)*P74,\"\")","v":""}]
["",{"$f":"IFERROR(VLOOKUP(A75,STAGIONALITA!$A$3:$M$105,2,FALSE)*P75,\"\")","v":""},{"$f":"IFERROR(VLOOKUP(A75,STAGIONALITA!$A$3:$M$105,3,FALSE)*P75,\"\")","v":""},{"$f":"IFERROR(VLOOKUP(A75,STAGIONALITA!$A$3:$M$105,4,FALSE)*P75,\"\")","v":""},{"$f":"IFERROR(VLOOKUP(A75,STAGIONALITA!$A$3:$M$105,5,FALSE)*P75,\"\")","v":""},{"$f":"IFERROR(VLOOKUP(A75,STAGIONALITA!$A$3:$M$105,6,FALSE)*P75,\"\")","v":""},{"$f":"IFERROR(VLOOKUP(A75,STAGIONALITA!$A$3:$M$105,7,FALSE)*P75,\"\")","v":""},{"$f":"IFERROR(VLOOKUP(A75,STAGIONALITA!$A$3:$M$105,8,FALSE)*P75,\"\")","v":""},{"$f":"IFERROR(VLOOKUP(A75,STAGIONALITA!$A$3:$M$105,9,FALSE)*P75,\"\")","v":""},{"$f":"IFERROR(VLOOKUP(A75,STAGIONALITA!$A$3:$M$105,10,FALSE)*P75,\"\")","v":""},{"$f":"IFERROR(VLOOKUP(A75,STAGIONALITA!$A$3:$M$105,11,FALSE)*P75,\"\")","v":""},{"$f":"IFERROR(VLOOKUP(A75,STAGIONALITA!$A$3:$M$105,12,FALSE)*P75,\"\")","v":""},{"$f":"IFERROR(VLOOKUP(A75,STAGIONALITA!$A$3:$M$105,13,FALSE)*P75,\"\")","v":""}]
["",{"$f":"IFERROR(VLOOKUP(A76,STAGIONALITA!$A$3:$M$105,2,FALSE)*P76,\"\")","v":""},{"$f":"IFERROR(VLOOKUP(A76,STAGIONALITA!$A$3:$M$105,3,FALSE)*P76,\"\")","v":""},{"$f":"IFERROR(VLOOKUP(A76,STAGIONALITA!$A$3:$M$105,4,FALSE)*P76,\"\")","v":""},{"$f":"IFERROR(VLOOKUP(A76,STAGIONALITA!$A$3:$M$105,5,FALSE)*P76,\"\")","v":""},{"$f":"IFERROR(VLOOKUP(A76,STAGIONALITA!$A$3:$M$105,6,FALSE)*P76,\"\")","v":""},{"$f":"IFERROR(VLOOKUP(A76,STAGIONALITA!$A$3:$M$105,7,FALSE)*P76,\"\")","v":""},{"$f":"IFERROR(VLOOKUP(A76,STAGIONALITA!$A$3:$M$105,8,FALSE)*P76,\"\")","v":""},{"$f":"IFERROR(VLOOKUP(A76,STAGIONALITA!$A$3:$M$105,9,FALSE)*P76,\"\")","v":""},{"$f":"IFERROR(VLOOKUP(A76,STAGIONALITA!$A$3:$M$105,10,FALSE)*P76,\"\")","v":""},{"$f":"IFERROR(VLOOKUP(A76,STAGIONALITA!$A$3:$M$105,11,FALSE)*P76,\"\")","v":""},{"$f":"IFERROR(VLOOKUP(A76,STAGIONALITA!$A$3:$M$105,12,FALSE)*P76,\"\")","v":""},{"$f":"IFERROR(VLOOKUP(A76,STAGIONALITA!$A$3:$M$105,13,FALSE)*P76,\"\")","v":""}]
["",{"$f":"IFERROR(VLOOKUP(A77,STAGIONALITA!$A$3:$M$105,2,FALSE)*P77,\"\")","v":""},{"$f":"IFERROR(VLOOKUP(A77,STAGIONALITA!$A$3:$M$105,3,FALSE)*P77,\"\")","v":""},{"$f":"IFERROR(VLOOKUP(A77,STAGIONALITA!$A$3:$M$105,4,FALSE)*P77,\"\")","v":""},{"$f":"IFERROR(VLOOKUP(A77,STAGIONALITA!$A$3:$M$105,5,FALSE)*P77,\"\")","v":""},{"$f":"IFERROR(VLOOKUP(A77,STAGIONALITA!$A$3:$M$105,6,FALSE)*P77,\"\")","v":""},{"$f":"IFERROR(VLOOKUP(A77,STAGIONALITA!$A$3:$M$105,7,FALSE)*P77,\"\")","v":""},{"$f":"IFERROR(VLOOKUP(A77,STAGIONALITA!$A$3:$M$105,8,FALSE)*P77,\"\")","v":""},{"$f":"IFERROR(VLOOKUP(A77,STAGIONALITA!$A$3:$M$105,9,FALSE)*P77,\"\")","v":""},{"$f":"IFERROR(VLOOKUP(A77,STAGIONALITA!$A$3:$M$105,10,FALSE)*P77,\"\")","v":""},{"$f":"IFERROR(VLOOKUP(A77,STAGIONALITA!$A$3:$M$105,11,FALSE)*P77,\"\")","v":""},{"$f":"IFERROR(VLOOKUP(A77,STAGIONALITA!$A$3:$M$105,12,FALSE)*P77,\"\")","v":""},{"$f":"IFERROR(VLOOKUP(A77,STAGIONALITA!$A$3:$M$105,13,FALSE)*P77,\"\")","v":""}]
["",{"$f":"IFERROR(VLOOKUP(A78,STAGIONALITA!$A$3:$M$105,2,FALSE)*P78,\"\")","v":""},{"$f":"IFERROR(VLOOKUP(A78,STAGIONALITA!$A$3:$M$105,3,FALSE)*P78,\"\")","v":""},{"$f":"IFERROR(VLOOKUP(A78,STAGIONALITA!$A$3:$M$105,4,FALSE)*P78,\"\")","v":""},{"$f":"IFERROR(VLOOKUP(A78,STAGIONALITA!$A$3:$M$105,5,FALSE)*P78,\"\")","v":""},{"$f":"IFERROR(VLOOKUP(A78,STAGIONALITA!$A$3:$M$105,6,FALSE)*P78,\"\")","v":""},{"$f":"IFERROR(VLOOKUP(A78,STAGIONALITA!$A$3:$M$105,7,FALSE)*P78,\"\")","v":""},{"$f":"IFERROR(VLOOKUP(A78,STAGIONALITA!$A$3:$M$105,8,FALSE)*P78,\"\")","v":""},{"$f":"IFERROR(VLOOKUP(A78,STAGIONALITA!$A$3:$M$105,9,FALSE)*P78,\"\")","v":""},{"$f":"IFERROR(VLOOKUP(A78,STAGIONALITA!$A$3:$M$105,10,FALSE)*P78,\"\")","v":""},{"$f":"IFERROR(VLOOKUP(A78,STAGIONALITA!$A$3:$M$105,11,FALSE)*P78,\"\")","v":""},{"$f":"IFERROR(VLOOKUP(A78,STAGIONALITA!$A$3:$M$105,12,FALSE)*P78,\"\")","v":""},{"$f":"IFERROR(VLOOKUP(A78,STAGIONALITA!$A$3:$M$105,13,FALSE)*P78,\"\")","v":""}]
["",{"$f":"IFERROR(VLOOKUP(A79,STAGIONALITA!$A$3:$M$105,2,FALSE)*P79,\"\")","v":""},{"$f":"IFERROR(VLOOKUP(A79,STAGIONALITA!$A$3:$M$105,3,FALSE)*P79,\"\")","v":""},{"$f":"IFERROR(VLOOKUP(A79,STAGIONALITA!$A$3:$M$105,4,FALSE)*P79,\"\")","v":""},{"$f":"IFERROR(VLOOKUP(A79,STAGIONALITA!$A$3:$M$105,5,FALSE)*P79,\"\")","v":""},{"$f":"IFERROR(VLOOKUP(A79,STAGIONALITA!$A$3:$M$105,6,FALSE)*P79,\"\")","v":""},{"$f":"IFERROR(VLOOKUP(A79,STAGIONALITA!$A$3:$M$105,7,FALSE)*P79,\"\")","v":""},{"$f":"IFERROR(VLOOKUP(A79,STAGIONALITA!$A$3:$M$105,8,FALSE)*P79,\"\")","v":""},{"$f":"IFERROR(VLOOKUP(A79,STAGIONALITA!$A$3:$M$105,9,FALSE)*P79,\"\")","v":""},{"$f":"IFERROR(VLOOKUP(A79,STAGIONALITA!$A$3:$M$105,10,FALSE)*P79,\"\")","v":""},{"$f":"IFERROR(VLOOKUP(A79,STAGIONALITA!$A$3:$M$105,11,FALSE)*P79,\"\")","v":""},{"$f":"IFERROR(VLOOKUP(A79,STAGIONALITA!$A$3:$M$105,12,FALSE)*P79,\"\")","v":""},{"$f":"IFERROR(VLOOKUP(A79,STAGIONALITA!$A$3:$M$105,13,FALSE)*P79,\"\")","v":""}]
["",{"$f":"IFERROR(VLOOKUP(A80,STAGIONALITA!$A$3:$M$105,2,FALSE)*P80,\"\")","v":""},{"$f":"IFERROR(VLOOKUP(A80,STAGIONALITA!$A$3:$M$105,3,FALSE)*P80,\"\")","v":""},{"$f":"IFERROR(VLOOKUP(A80,STAGIONALITA!$A$3:$M$105,4,FALSE)*P80,\"\")","v":""},{"$f":"IFERROR(VLOOKUP(A80,STAGIONALITA!$A$3:$M$105,5,FALSE)*P80,\"\")","v":""},{"$f":"IFERROR(VLOOKUP(A80,STAGIONALITA!$A$3:$M$105,6,FALSE)*P80,\"\")","v":""},{"$f":"IFERROR(VLOOKUP(A80,STAGIONALITA!$A$3:$M$105,7,FALSE)*P80,\"\")","v":""},{"$f":"IFERROR(VLOOKUP(A80,STAGIONALITA!$A$3:$M$105,8,FALSE)*P80,\"\")","v":""},{"$f":"IFERROR(VLOOKUP(A80,STAGIONALITA!$A$3:$M$105,9,FALSE)*P80,\"\")","v":""},{"$f":"IFERROR(VLOOKUP(A80,STAGIONALITA!$A$3:$M$105,10,FALSE)*P80,\"\")","v":""},{"$f":"IFERROR(VLOOKUP(A80,STAGIONALITA!$A$3:$M$105,11,FALSE)*P80,\"\")","v":""},{"$f":"IFERROR(VLOOKUP(A80,STAGIONALITA!$A$3:$M$105,12,FALSE)*P80,\"\")","v":""},{"$f":"IFERROR(VLOOKUP(A80,STAGIONALITA!$A$3:$M$105,13,FALSE)*P80,\"\")","v":""}]
["",{"$f":"IFERROR(VLOOKUP(A81,STAGIONALITA!$A$3:$M$105,2,FALSE)*P81,\"\")","v":""},{"$f":"IFERROR(VLOOKUP(A81,STAGIONALITA!$A$3:$M$105,3,FALSE)*P81,\"\")","v":""},{"$f":"IFERROR(VLOOKUP(A81,STAGIONALITA!$A$3:$M$105,4,FALSE)*P81,\"\")","v":""},{"$f":"IFERROR(VLOOKUP(A81,STAGIONALITA!$A$3:$M$105,5,FALSE)*P81,\"\")","v":""},{"$f":"IFERROR(VLOOKUP(A81,STAGIONALITA!$A$3:$M$105,6,FALSE)*P81,\"\")","v":""},{"$f":"IFERROR(VLOOKUP(A81,STAGIONALITA!$A$3:$M$105,7,FALSE)*P81,\"\")","v":""},{"$f":"IFERROR(VLOOKUP(A81,STAGIONALITA!$A$3:$M$105,8,FALSE)*P81,\"\")","v":""},{"$f":"IFERROR(VLOOKUP(A81,STAGIONALITA!$A$3:$M$105,9,FALSE)*P81,\"\")","v":""},{"$f":"IFERROR(VLOOKUP(A81,STAGIONALITA!$A$3:$M$105,10,FALSE)*P81,\"\")","v":""},{"$f":"IFERROR(VLOOKUP(A81,STAGIONALITA!$A$3:$M$105,11,FALSE)*P81,\"\")","v":""},{"$f":"IFERROR(VLOOKUP(A81,STAGIONALITA!$A$3:$M$105,12,FALSE)*P81,\"\")","v":""},{"$f":"IFERROR(VLOOKUP(A81,STAGIONALITA!$A$3:$M$105,13,FALSE)*P81,\"\")","v":""}]
["",{"$f":"IFERROR(VLOOKUP(A82,STAGIONALITA!$A$3:$M$105,2,FALSE)*P82,\"\")","v":""},{"$f":"IFERROR(VLOOKUP(A82,STAGIONALITA!$A$3:$M$105,3,FALSE)*P82,\"\")","v":""},{"$f":"IFERROR(VLOOKUP(A82,STAGIONALITA!$A$3:$M$105,4,FALSE)*P82,\"\")","v":""},{"$f":"IFERROR(VLOOKUP(A82,STAGIONALITA!$A$3:$M$105,5,FALSE)*P82,\"\")","v":""},{"$f":"IFERROR(VLOOKUP(A82,STAGIONALITA!$A$3:$M$105,6,FALSE)*P82,\"\")","v":""},{"$f":"IFERROR(VLOOKUP(A82,STAGIONALITA!$A$3:$M$105,7,FALSE)*P82,\"\")","v":""},{"$f":"IFERROR(VLOOKUP(A82,STAGIONALITA!$A$3:$M$105,8,FALSE)*P82,\"\")","v":""},{"$f":"IFERROR(VLOOKUP(A82,STAGIONALITA!$A$3:$M$105,9,FALSE)*P82,\"\")","v":""},{"$f":"IFERROR(VLOOKUP(A82,STAGIONALITA!$A$3:$M$105,10,FALSE)*P82,\"\")","v":""},{"$f":"IFERROR(VLOOKUP(A82,STAGIONALITA!$A$3:$M$105,11,FALSE)*P82,\"\")","v":""},{"$f":"IFERROR(VLOOKUP(A82,STAGIONALITA!$A$3:$M$105,12,FALSE)*P82,\"\")","v":""},{"$f":"IFERROR(VLOOKUP(A82,STAGIONALITA!$A$3:$M$105,13,FALSE)*P82,\"\")","v":""}]
["",{"$f":"IFERROR(VLOOKUP(A83,STAGIONALITA!$A$3:$M$105,2,FALSE)*P83,\"\")","v":""},{"$f":"IFERROR(VLOOKUP(A83,STAGIONALITA!$A$3:$M$105,3,FALSE)*P83,\"\")","v":""},{"$f":"IFERROR(VLOOKUP(A83,STAGIONALITA!$A$3:$M$105,4,FALSE)*P83,\"\")","v":""},{"$f":"IFERROR(VLOOKUP(A83,STAGIONALITA!$A$3:$M$105,5,FALSE)*P83,\"\")","v":""},{"$f":"IFERROR(VLOOKUP(A83,STAGIONALITA!$A$3:$M$105,6,FALSE)*P83,\"\")","v":""},{"$f":"IFERROR(VLOOKUP(A83,STAGIONALITA!$A$3:$M$105,7,FALSE)*P83,\"\")","v":""},{"$f":"IFERROR(VLOOKUP(A83,STAGIONALITA!$A$3:$M$105,8,FALSE)*P83,\"\")","v":""},{"$f":"IFERROR(VLOOKUP(A83,STAGIONALITA!$A$3:$M$105,9,FALSE)*P83,\"\")","v":""},{"$f":"IFERROR(VLOOKUP(A83,STAGIONALITA!$A$3:$M$105,10,FALSE)*P83,\"\")","v":""},{"$f":"IFERROR(VLOOKUP(A83,STAGIONALITA!$A$3:$M$105,11,FALSE)*P83,\"\")","v":""},{"$f":"IFERROR(VLOOKUP(A83,STAGIONALITA!$A$3:$M$105,12,FALSE)*P83,\"\")","v":""},{"$f":"IFERROR(VLOOKUP(A83,STAGIONALITA!$A$3:$M$105,13,FALSE)*P83,\"\")","v":""}]
["",{"$f":"IFERROR(VLOOKUP(A84,STAGIONALITA!$A$3:$M$105,2,FALSE)*P84,\"\")","v":""},{"$f":"IFERROR(VLOOKUP(A84,STAGIONALITA!$A$3:$M$105,3,FALSE)*P84,\"\")","v":""},{"$f":"IFERROR(VLOOKUP(A84,STAGIONALITA!$A$3:$M$105,4,FALSE)*P84,\"\")","v":""},{"$f":"IFERROR(VLOOKUP(A84,STAGIONALITA!$A$3:$M$105,5,FALSE)*P84,\"\")","v":""},{"$f":"IFERROR(VLOOKUP(A84,STAGIONALITA!$A$3:$M$105,6,FALSE)*P84,\"\")","v":""},{"$f":"IFERROR(VLOOKUP(A84,STAGIONALITA!$A$3:$M$105,7,FALSE)*P84,\"\")","v":""},{"$f":"IFERROR(VLOOKUP(A84,STAGIONALITA!$A$3:$M$105,8,FALSE)*P84,\"\")","v":""},{"$f":"IFERROR(VLOOKUP(A84,STAGIONALITA!$A$3:$M$105,9,FALSE)*P84,\"\")","v":""},{"$f":"IFERROR(VLOOKUP(A84,STAGIONALITA!$A$3:$M$105,10,FALSE)*P84,\"\")","v":""},{"$f":"IFERROR(VLOOKUP(A84,STAGIONALITA!$A$3:$M$105,11,FALSE)*P84,\"\")","v":""},{"$f":"IFERROR(VLOOKUP(A84,STAGIONALITA!$A$3:$M$105,12,FALSE)*P84,\"\")","v":""},{"$f":"IFERROR(VLOOKUP(A84,STAGIONALITA!$A$3:$M$105,13,FALSE)*P84,\"\")","v":""}]
["",{"$f":"IFERROR(VLOOKUP(A85,STAGIONALITA!$A$3:$M$105,2,FALSE)*P85,\"\")","v":""},{"$f":"IFERROR(VLOOKUP(A85,STAGIONALITA!$A$3:$M$105,3,FALSE)*P85,\"\")","v":""},{"$f":"IFERROR(VLOOKUP(A85,STAGIONALITA!$A$3:$M$105,4,FALSE)*P85,\"\")","v":""},{"$f":"IFERROR(VLOOKUP(A85,STAGIONALITA!$A$3:$M$105,5,FALSE)*P85,\"\")","v":""},{"$f":"IFERROR(VLOOKUP(A85,STAGIONALITA!$A$3:$M$105,6,FALSE)*P85,\"\")","v":""},{"$f":"IFERROR(VLOOKUP(A85,STAGIONALITA!$A$3:$M$105,7,FALSE)*P85,\"\")","v":""},{"$f":"IFERROR(VLOOKUP(A85,STAGIONALITA!$A$3:$M$105,8,FALSE)*P85,\"\")","v":""},{"$f":"IFERROR(VLOOKUP(A85,STAGIONALITA!$A$3:$M$105,9,FALSE)*P85,\"\")","v":""},{"$f":"IFERROR(VLOOKUP(A85,STAGIONALITA!$A$3:$M$105,10,FALSE)*P85,\"\")","v":""},{"$f":"IFERROR(VLOOKUP(A85,STAGIONALITA!$A$3:$M$105,11,FALSE)*P85,\"\")","v":""},{"$f":"IFERROR(VLOOKUP(A85,STAGIONALITA!$A$3:$M$105,12,FALSE)*P85,\"\")","v":""},{"$f":"IFERROR(VLOOKUP(A85,STAGIONALITA!$A$3:$M$105,13,FALSE)*P85,\"\")","v":""}]
["",{"$f":"IFERROR(VLOOKUP(A86,STAGIONALITA!$A$3:$M$105,2,FALSE)*P86,\"\")","v":""},{"$f":"IFERROR(VLOOKUP(A86,STAGIONALITA!$A$3:$M$105,3,FALSE)*P86,\"\")","v":""},{"$f":"IFERROR(VLOOKUP(A86,STAGIONALITA!$A$3:$M$105,4,FALSE)*P86,\"\")","v":""},{"$f":"IFERROR(VLOOKUP(A86,STAGIONALITA!$A$3:$M$105,5,FALSE)*P86,\"\")","v":""},{"$f":"IFERROR(VLOOKUP(A86,STAGIONALITA!$A$3:$M$105,6,FALSE)*P86,\"\")","v":""},{"$f":"IFERROR(VLOOKUP(A86,STAGIONALITA!$A$3:$M$105,7,FALSE)*P86,\"\")","v":""},{"$f":"IFERROR(VLOOKUP(A86,STAGIONALITA!$A$3:$M$105,8,FALSE)*P86,\"\")","v":""},{"$f":"IFERROR(VLOOKUP(A86,STAGIONALITA!$A$3:$M$105,9,FALSE)*P86,\"\")","v":""},{"$f":"IFERROR(VLOOKUP(A86,STAGIONALITA!$A$3:$M$105,10,FALSE)*P86,\"\")","v":""},{"$f":"IFERROR(VLOOKUP(A86,STAGIONALITA!$A$3:$M$105,11,FALSE)*P86,\"\")","v":""},{"$f":"IFERROR(VLOOKUP(A86,STAGIONALITA!$A$3:$M$105,12,FALSE)*P86,\"\")","v":""},{"$f":"IFERROR(VLOOKUP(A86,STAGIONALITA!$A$3:$M$105,13,FALSE)*P86,\"\")","v":""}]
["",{"$f":"IFERROR(VLOOKUP(A87,STAGIONALITA!$A$3:$M$105,2,FALSE)*P87,\"\")","v":""},{"$f":"IFERROR(VLOOKUP(A87,STAGIONALITA!$A$3:$M$105,3,FALSE)*P87,\"\")","v":""},{"$f":"IFERROR(VLOOKUP(A87,STAGIONALITA!$A$3:$M$105,4,FALSE)*P87,\"\")","v":""},{"$f":"IFERROR(VLOOKUP(A87,STAGIONALITA!$A$3:$M$105,5,FALSE)*P87,\"\")","v":""},{"$f":"IFERROR(VLOOKUP(A87,STAGIONALITA!$A$3:$M$105,6,FALSE)*P87,\"\")","v":""},{"$f":"IFERROR(VLOOKUP(A87,STAGIONALITA!$A$3:$M$105,7,FALSE)*P87,\"\")","v":""},{"$f":"IFERROR(VLOOKUP(A87,STAGIONALITA!$A$3:$M$105,8,FALSE)*P87,\"\")","v":""},{"$f":"IFERROR(VLOOKUP(A87,STAGIONALITA!$A$3:$M$105,9,FALSE)*P87,\"\")","v":""},{"$f":"IFERROR(VLOOKUP(A87,STAGIONALITA!$A$3:$M$105,10,FALSE)*P87,\"\")","v":""},{"$f":"IFERROR(VLOOKUP(A87,STAGIONALITA!$A$3:$M$105,11,FALSE)*P87,\"\")","v":""},{"$f":"IFERROR(VLOOKUP(A87,STAGIONALITA!$A$3:$M$105,12,FALSE)*P87,\"\")","v":""},{"$f":"IFERROR(VLOOKUP(A87,STAGIONALITA!$A$3:$M$105,13,FALSE)*P87,\"\")","v":""}]
["",{"$f":"IFERROR(VLOOKUP(A88,STAGIONALITA!$A$3:$M$105,2,FALSE)*P88,\"\")","v":""},{"$f":"IFERROR(VLOOKUP(A88,STAGIONALITA!$A$3:$M$105,3,FALSE)*P88,\"\")","v":""},{"$f":"IFERROR(VLOOKUP(A88,STAGIONALITA!$A$3:$M$105,4,FALSE)*P88,\"\")","v":""},{"$f":"IFERROR(VLOOKUP(A88,STAGIONALITA!$A$3:$M$105,5,FALSE)*P88,\"\")","v":""},{"$f":"IFERROR(VLOOKUP(A88,STAGIONALITA!$A$3:$M$105,6,FALSE)*P88,\"\")","v":""},{"$f":"IFERROR(VLOOKUP(A88,STAGIONALITA!$A$3:$M$105,7,FALSE)*P88,\"\")","v":""},{"$f":"IFERROR(VLOOKUP(A88,STAGIONALITA!$A$3:$M$105,8,FALSE)*P88,\"\")","v":""},{"$f":"IFERROR(VLOOKUP(A88,STAGIONALITA!$A$3:$M$105,9,FALSE)*P88,\"\")","v":""},{"$f":"IFERROR(VLOOKUP(A88,STAGIONALITA!$A$3:$M$105,10,FALSE)*P88,\"\")","v":""},{"$f":"IFERROR(VLOOKUP(A88,STAGIONALITA!$A$3:$M$105,11,FALSE)*P88,\"\")","v":""},{"$f":"IFERROR(VLOOKUP(A88,STAGIONALITA!$A$3:$M$105,12,FALSE)*P88,\"\")","v":""},{"$f":"IFERROR(VLOOKUP(A88,STAGIONALITA!$A$3:$M$105,13,FALSE)*P88,\"\")","v":""}]
["",{"$f":"IFERROR(VLOOKUP(A89,STAGIONALITA!$A$3:$M$105,2,FALSE)*P89,\"\")","v":""},{"$f":"IFERROR(VLOOKUP(A89,STAGIONALITA!$A$3:$M$105,3,FALSE)*P89,\"\")","v":""},{"$f":"IFERROR(VLOOKUP(A89,STAGIONALITA!$A$3:$M$105,4,FALSE)*P89,\"\")","v":""},{"$f":"IFERROR(VLOOKUP(A89,STAGIONALITA!$A$3:$M$105,5,FALSE)*P89,\"\")","v":""},{"$f":"IFERROR(VLOOKUP(A89,STAGIONALITA!$A$3:$M$105,6,FALSE)*P89,\"\")","v":""},{"$f":"IFERROR(VLOOKUP(A89,STAGIONALITA!$A$3:$M$105,7,FALSE)*P89,\"\")","v":""},{"$f":"IFERROR(VLOOKUP(A89,STAGIONALITA!$A$3:$M$105,8,FALSE)*P89,\"\")","v":""},{"$f":"IFERROR(VLOOKUP(A89,STAGIONALITA!$A$3:$M$105,9,FALSE)*P89,\"\")","v":""},{"$f":"IFERROR(VLOOKUP(A89,STAGIONALITA!$A$3:$M$105,10,FALSE)*P89,\"\")","v":""},{"$f":"IFERROR(VLOOKUP(A89,STAGIONALITA!$A$3:$M$105,11,FALSE)*P89,\"\")","v":""},{"$f":"IFERROR(VLOOKUP(A89,STAGIONALITA!$A$3:$M$105,12,FALSE)*P89,\"\")","v":""},{"$f":"IFERROR(VLOOKUP(A89,STAGIONALITA!$A$3:$M$105,13,FALSE)*P89,\"\")","v":""}]
["",{"$f":"IFERROR(VLOOKUP(A90,STAGIONALITA!$A$3:$M$105,2,FALSE)*P90,\"\")","v":""},{"$f":"IFERROR(VLOOKUP(A90,STAGIONALITA!$A$3:$M$105,3,FALSE)*P90,\"\")","v":""},{"$f":"IFERROR(VLOOKUP(A90,STAGIONALITA!$A$3:$M$105,4,FALSE)*P90,\"\")","v":""},{"$f":"IFERROR(VLOOKUP(A90,STAGIONALITA!$A$3:$M$105,5,FALSE)*P90,\"\")","v":""},{"$f":"IFERROR(VLOOKUP(A90,STAGIONALITA!$A$3:$M$105,6,FALSE)*P90,\"\")","v":""},{"$f":"IFERROR(VLOOKUP(A90,STAGIONALITA!$A$3:$M$105,7,FALSE)*P90,\"\")","v":""},{"$f":"IFERROR(VLOOKUP(A90,STAGIONALITA!$A$3:$M$105,8,FALSE)*P90,\"\")","v":""},{"$f":"IFERROR(VLOOKUP(A90,STAGIONALITA!$A$3:$M$105,9,FALSE)*P90,\"\")","v":""},{"$f":"IFERROR(VLOOKUP(A90,STAGIONALITA!$A$3:$M$105,10,FALSE)*P90,\"\")","v":""},{"$f":"IFERROR(VLOOKUP(A90,STAGIONALITA!$A$3:$M$105,11,FALSE)*P90,\"\")","v":""},{"$f":"IFERROR(VLOOKUP(A90,STAGIONALITA!$A$3:$M$105,12,FALSE)*P90,\"\")","v":""},{"$f":"IFERROR(VLOOKUP(A90,STAGIONALITA!$A$3:$M$105,13,FALSE)*P90,\"\")","v":""}]
["",{"$f":"IFERROR(VLOOKUP(A91,STAGIONALITA!$A$3:$M$105,2,FALSE)*P91,\"\")","v":""},{"$f":"IFERROR(VLOOKUP(A91,STAGIONALITA!$A$3:$M$105,3,FALSE)*P91,\"\")","v":""},{"$f":"IFERROR(VLOOKUP(A91,STAGIONALITA!$A$3:$M$105,4,FALSE)*P91,\"\")","v":""},{"$f":"IFERROR(VLOOKUP(A91,STAGIONALITA!$A$3:$M$105,5,FALSE)*P91,\"\")","v":""},{"$f":"IFERROR(VLOOKUP(A91,STAGIONALITA!$A$3:$M$105,6,FALSE)*P91,\"\")","v":""},{"$f":"IFERROR(VLOOKUP(A91,STAGIONALITA!$A$3:$M$105,7,FALSE)*P91,\"\")","v":""},{"$f":"IFERROR(VLOOKUP(A91,STAGIONALITA!$A$3:$M$105,8,FALSE)*P91,\"\")","v":""},{"$f":"IFERROR(VLOOKUP(A91,STAGIONALITA!$A$3:$M$105,9,FALSE)*P91,\"\")","v":""},{"$f":"IFERROR(VLOOKUP(A91,STAGIONALITA!$A$3:$M$105,10,FALSE)*P91,\"\")","v":""},{"$f":"IFERROR(VLOOKUP(A91,STAGIONALITA!$A$3:$M$105,11,FALSE)*P91,\"\")","v":""},{"$f":"IFERROR(VLOOKUP(A91,STAGIONALITA!$A$3:$M$105,12,FALSE)*P91,\"\")","v":""},{"$f":"IFERROR(VLOOKUP(A91,STAGIONALITA!$A$3:$M$105,13,FALSE)*P91,\"\")","v":""}]
["",{"$f":"IFERROR(VLOOKUP(A92,STAGIONALITA!$A$3:$M$105,2,FALSE)*P92,\"\")","v":""},{"$f":"IFERROR(VLOOKUP(A92,STAGIONALITA!$A$3:$M$105,3,FALSE)*P92,\"\")","v":""},{"$f":"IFERROR(VLOOKUP(A92,STAGIONALITA!$A$3:$M$105,4,FALSE)*P92,\"\")","v":""},{"$f":"IFERROR(VLOOKUP(A92,STAGIONALITA!$A$3:$M$105,5,FALSE)*P92,\"\")","v":""},{"$f":"IFERROR(VLOOKUP(A92,STAGIONALITA!$A$3:$M$105,6,FALSE)*P92,\"\")","v":""},{"$f":"IFERROR(VLOOKUP(A92,STAGIONALITA!$A$3:$M$105,7,FALSE)*P92,\"\")","v":""},{"$f":"IFERROR(VLOOKUP(A92,STAGIONALITA!$A$3:$M$105,8,FALSE)*P92,\"\")","v":""},{"$f":"IFERROR(VLOOKUP(A92,STAGIONALITA!$A$3:$M$105,9,FALSE)*P92,\"\")","v":""},{"$f":"IFERROR(VLOOKUP(A92,STAGIONALITA!$A$3:$M$105,10,FALSE)*P92,\"\")","v":""},{"$f":"IFERROR(VLOOKUP(A92,STAGIONALITA!$A$3:$M$105,11,FALSE)*P92,\"\")","v":""},{"$f":"IFERROR(VLOOKUP(A92,STAGIONALITA!$A$3:$M$105,12,FALSE)*P92,\"\")","v":""},{"$f":"IFERROR(VLOOKUP(A92,STAGIONALITA!$A$3:$M$105,13,FALSE)*P92,\"\")","v":""}]
["",{"$f":"IFERROR(VLOOKUP(A93,STAGIONALITA!$A$3:$M$105,2,FALSE)*P93,\"\")","v":""},{"$f":"IFERROR(VLOOKUP(A93,STAGIONALITA!$A$3:$M$105,3,FALSE)*P93,\"\")","v":""},{"$f":"IFERROR(VLOOKUP(A93,STAGIONALITA!$A$3:$M$105,4,FALSE)*P93,\"\")","v":""},{"$f":"IFERROR(VLOOKUP(A93,STAGIONALITA!$A$3:$M$105,5,FALSE)*P93,\"\")","v":""},{"$f":"IFERROR(VLOOKUP(A93,STAGIONALITA!$A$3:$M$105,6,FALSE)*P93,\"\")","v":""},{"$f":"IFERROR(VLOOKUP(A93,STAGIONALITA!$A$3:$M$105,7,FALSE)*P93,\"\")","v":""},{"$f":"IFERROR(VLOOKUP(A93,STAGIONALITA!$A$3:$M$105,8,FALSE)*P93,\"\")","v":""},{"$f":"IFERROR(VLOOKUP(A93,STAGIONALITA!$A$3:$M$105,9,FALSE)*P93,\"\")","v":""},{"$f":"IFERROR(VLOOKUP(A93,STAGIONALITA!$A$3:$M$105,10,FALSE)*P93,\"\")","v":""},{"$f":"IFERROR(VLOOKUP(A93,STAGIONALITA!$A$3:$M$105,11,FALSE)*P93,\"\")","v":""},{"$f":"IFERROR(VLOOKUP(A93,STAGIONALITA!$A$3:$M$105,12,FALSE)*P93,\"\")","v":""},{"$f":"IFERROR(VLOOKUP(A93,STAGIONALITA!$A$3:$M$105,13,FALSE)*P93,\"\")","v":""}]
["",{"$f":"IFERROR(VLOOKUP(A94,STAGIONALITA!$A$3:$M$105,2,FALSE)*P94,\"\")","v":""},{"$f":"IFERROR(VLOOKUP(A94,STAGIONALITA!$A$3:$M$105,3,FALSE)*P94,\"\")","v":""},{"$f":"IFERROR(VLOOKUP(A94,STAGIONALITA!$A$3:$M$105,4,FALSE)*P94,\"\")","v":""},{"$f":"IFERROR(VLOOKUP(A94,STAGIONALITA!$A$3:$M$105,5,FALSE)*P94,\"\")","v":""},{"$f":"IFERROR(VLOOKUP(A94,STAGIONALITA!$A$3:$M$105,6,FALSE)*P94,\"\")","v":""},{"$f":"IFERROR(VLOOKUP(A94,STAGIONALITA!$A$3:$M$105,7,FALSE)*P94,\"\")","v":""},{"$f":"IFERROR(VLOOKUP(A94,STAGIONALITA!$A$3:$M$105,8,FALSE)*P94,\"\")","v":""},{"$f":"IFERROR(VLOOKUP(A94,STAGIONALITA!$A$3:$M$105,9,FALSE)*P94,\"\")","v":""},{"$f":"IFERROR(VLOOKUP(A94,STAGIONALITA!$A$3:$M$105,10,FALSE)*P94,\"\")","v":""},{"$f":"IFERROR(VLOOKUP(A94,STAGIONALITA!$A$3:$M$105,11,FALSE)*P94,\"\")","v":""},{"$f":"IFERROR(VLOOKUP(A94,STAGIONALITA!$A$3:$M$105,12,FALSE)*P94,\"\")","v":""},{"$f":"IFERROR(VLOOKUP(A94,STAGIONALITA!$A$3:$M$105,13,FALSE)*P94,\"\")","v":""}]
["",{"$f":"IFERROR(VLOOKUP(A95,STAGIONALITA!$A$3:$M$105,2,FALSE)*P95,\"\")","v":""},{"$f":"IFERROR(VLOOKUP(A95,STAGIONALITA!$A$3:$M$105,3,FALSE)*P95,\"\")","v":""},{"$f":"IFERROR(VLOOKUP(A95,STAGIONALITA!$A$3:$M$105,4,FALSE)*P95,\"\")","v":""},{"$f":"IFERROR(VLOOKUP(A95,STAGIONALITA!$A$3:$M$105,5,FALSE)*P95,\"\")","v":""},{"$f":"IFERROR(VLOOKUP(A95,STAGIONALITA!$A$3:$M$105,6,FALSE)*P95,\"\")","v":""},{"$f":"IFERROR(VLOOKUP(A95,STAGIONALITA!$A$3:$M$105,7,FALSE)*P95,\"\")","v":""},{"$f":"IFERROR(VLOOKUP(A95,STAGIONALITA!$A$3:$M$105,8,FALSE)*P95,\"\")","v":""},{"$f":"IFERROR(VLOOKUP(A95,STAGIONALITA!$A$3:$M$105,9,FALSE)*P95,\"\")","v":""},{"$f":"IFERROR(VLOOKUP(A95,STAGIONALITA!$A$3:$M$105,10,FALSE)*P95,\"\")","v":""},{"$f":"IFERROR(VLOOKUP(A95,STAGIONALITA!$A$3:$M$105,11,FALSE)*P95,\"\")","v":""},{"$f":"IFERROR(VLOOKUP(A95,STAGIONALITA!$A$3:$M$105,12,FALSE)*P95,\"\")","v":""},{"$f":"IFERROR(VLOOKUP(A95,STAGIONALITA!$A$3:$M$105,13,FALSE)*P95,\"\")","v":""}]
["",{"$f":"IFERROR(VLOOKUP(A96,STAGIONALITA!$A$3:$M$105,2,FALSE)*P96,\"\")","v":""},{"$f":"IFERROR(VLOOKUP(A96,STAGIONALITA!$A$3:$M$105,3,FALSE)*P96,\"\")","v":""},{"$f":"IFERROR(VLOOKUP(A96,STAGIONALITA!$A$3:$M$105,4,FALSE)*P96,\"\")","v":""},{"$f":"IFERROR(VLOOKUP(A96,STAGIONALITA!$A$3:$M$105,5,FALSE)*P96,\"\")","v":""},{"$f":"IFERROR(VLOOKUP(A96,STAGIONALITA!$A$3:$M$105,6,FALSE)*P96,\"\")","v":""},{"$f":"IFERROR(VLOOKUP(A96,STAGIONALITA!$A$3:$M$105,7,FALSE)*P96,\"\")","v":""},{"$f":"IFERROR(VLOOKUP(A96,STAGIONALITA!$A$3:$M$105,8,FALSE)*P96,\"\")","v":""},{"$f":"IFERROR(VLOOKUP(A96,STAGIONALITA!$A$3:$M$105,9,FALSE)*P96,\"\")","v":""},{"$f":"IFERROR(VLOOKUP(A96,STAGIONALITA!$A$3:$M$105,10,FALSE)*P96,\"\")","v":""},{"$f":"IFERROR(VLOOKUP(A96,STAGIONALITA!$A$3:$M$105,11,FALSE)*P96,\"\")","v":""},{"$f":"IFERROR(VLOOKUP(A96,STAGIONALITA!$A$3:$M$105,12,FALSE)*P96,\"\")","v":""},{"$f":"IFERROR(VLOOKUP(A96,STAGIONALITA!$A$3:$M$105,13,FALSE)*P96,\"\")","v":""}]
["",{"$f":"IFERROR(VLOOKUP(A97,STAGIONALITA!$A$3:$M$105,2,FALSE)*P97,\"\")","v":""},{"$f":"IFERROR(VLOOKUP(A97,STAGIONALITA!$A$3:$M$105,3,FALSE)*P97,\"\")","v":""},{"$f":"IFERROR(VLOOKUP(A97,STAGIONALITA!$A$3:$M$105,4,FALSE)*P97,\"\")","v":""},{"$f":"IFERROR(VLOOKUP(A97,STAGIONALITA!$A$3:$M$105,5,FALSE)*P97,\"\")","v":""},{"$f":"IFERROR(VLOOKUP(A97,STAGIONALITA!$A$3:$M$105,6,FALSE)*P97,\"\")","v":""},{"$f":"IFERROR(VLOOKUP(A97,STAGIONALITA!$A$3:$M$105,7,FALSE)*P97,\"\")","v":""},{"$f":"IFERROR(VLOOKUP(A97,STAGIONALITA!$A$3:$M$105,8,FALSE)*P97,\"\")","v":""},{"$f":"IFERROR(VLOOKUP(A97,STAGIONALITA!$A$3:$M$105,9,FALSE)*P97,\"\")","v":""},{"$f":"IFERROR(VLOOKUP(A97,STAGIONALITA!$A$3:$M$105,10,FALSE)*P97,\"\")","v":""},{"$f":"IFERROR(VLOOKUP(A97,STAGIONALITA!$A$3:$M$105,11,FALSE)*P97,\"\")","v":""},{"$f":"IFERROR(VLOOKUP(A97,STAGIONALITA!$A$3:$M$105,12,FALSE)*P97,\"\")","v":""},{"$f":"IFERROR(VLOOKUP(A97,STAGIONALITA!$A$3:$M$105,13,FALSE)*P97,\"\")","v":""}]
["",{"$f":"IFERROR(VLOOKUP(A98,STAGIONALITA!$A$3:$M$105,2,FALSE)*P98,\"\")","v":""},{"$f":"IFERROR(VLOOKUP(A98,STAGIONALITA!$A$3:$M$105,3,FALSE)*P98,\"\")","v":""},{"$f":"IFERROR(VLOOKUP(A98,STAGIONALITA!$A$3:$M$105,4,FALSE)*P98,\"\")","v":""},{"$f":"IFERROR(VLOOKUP(A98,STAGIONALITA!$A$3:$M$105,5,FALSE)*P98,\"\")","v":""},{"$f":"IFERROR(VLOOKUP(A98,STAGIONALITA!$A$3:$M$105,6,FALSE)*P98,\"\")","v":""},{"$f":"IFERROR(VLOOKUP(A98,STAGIONALITA!$A$3:$M$105,7,FALSE)*P98,\"\")","v":""},{"$f":"IFERROR(VLOOKUP(A98,STAGIONALITA!$A$3:$M$105,8,FALSE)*P98,\"\")","v":""},{"$f":"IFERROR(VLOOKUP(A98,STAGIONALITA!$A$3:$M$105,9,FALSE)*P98,\"\")","v":""},{"$f":"IFERROR(VLOOKUP(A98,STAGIONALITA!$A$3:$M$105,10,FALSE)*P98,\"\")","v":""},{"$f":"IFERROR(VLOOKUP(A98,STAGIONALITA!$A$3:$M$105,11,FALSE)*P98,\"\")","v":""},{"$f":"IFERROR(VLOOKUP(A98,STAGIONALITA!$A$3:$M$105,12,FALSE)*P98,\"\")","v":""},{"$f":"IFERROR(VLOOKUP(A98,STAGIONALITA!$A$3:$M$105,13,FALSE)*P98,\"\")","v":""}]
[{"$f":"IF(O99=0,\"\",O99)","v":""},{"$f":"IFERROR(VLOOKUP(A99,STAGIONALITA!$A$3:$M$105,2,FALSE)*P99,\"\")","v":""},{"$f":"IFERROR(VLOOKUP(A99,STAGIONALITA!$A$3:$M$105,3,FALSE)*P99,\"\")","v":""},{"$f":"IFERROR(VLOOKUP(A99,STAGIONALITA!$A$3:$M$105,4,FALSE)*P99,\"\")","v":""},{"$f":"IFERROR(VLOOKUP(A99,STAGIONALITA!$A$3:$M$105,5,FALSE)*P99,\"\")","v":""},{"$f":"IFERROR(VLOOKUP(A99,STAGIONALITA!$A$3:$M$105,6,FALSE)*P99,\"\")","v":""},{"$f":"IFERROR(VLOOKUP(A99,STAGIONALITA!$A$3:$M$105,7,FALSE)*P99,\"\")","v":""},{"$f":"IFERROR(VLOOKUP(A99,STAGIONALITA!$A$3:$M$105,8,FALSE)*P99,\"\")","v":""},{"$f":"IFERROR(VLOOKUP(A99,STAGIONALITA!$A$3:$M$105,9,FALSE)*P99,\"\")","v":""},{"$f":"IFERROR(VLOOKUP(A99,STAGIONALITA!$A$3:$M$105,10,FALSE)*P99,\"\")","v":""},{"$f":"IFERROR(VLOOKUP(A99,STAGIONALITA!$A$3:$M$105,11,FALSE)*P99,\"\")","v":""},{"$f":"IFERROR(VLOOKUP(A99,STAGIONALITA!$A$3:$M$105,12,FALSE)*P99,\"\")","v":""},{"$f":"IFERROR(VLOOKUP(A99,STAGIONALITA!$A$3:$M$105,13,FALSE)*P99,\"\")","v":""}]
["",{"$f":"IFERROR(VLOOKUP(A100,STAGIONALITA!$A$3:$M$105,2,FALSE)*P100,\"\")","v":""},{"$f":"IFERROR(VLOOKUP(A100,STAGIONALITA!$A$3:$M$105,3,FALSE)*P100,\"\")","v":""},{"$f":"IFERROR(VLOOKUP(A100,STAGIONALITA!$A$3:$M$105,4,FALSE)*P100,\"\")","v":""},{"$f":"IFERROR(VLOOKUP(A100,STAGIONALITA!$A$3:$M$105,5,FALSE)*P100,\"\")","v":""},{"$f":"IFERROR(VLOOKUP(A100,STAGIONALITA!$A$3:$M$105,6,FALSE)*P100,\"\")","v":""},{"$f":"IFERROR(VLOOKUP(A100,STAGIONALITA!$A$3:$M$105,7,FALSE)*P100,\"\")","v":""},{"$f":"IFERROR(VLOOKUP(A100,STAGIONALITA!$A$3:$M$105,8,FALSE)*P100,\"\")","v":""},{"$f":"IFERROR(VLOOKUP(A100,STAGIONALITA!$A$3:$M$105,9,FALSE)*P100,\"\")","v":""},{"$f":"IFERROR(VLOOKUP(A100,STAGIONALITA!$A$3:$M$105,10,FALSE)*P100,\"\")","v":""},{"$f":"IFERROR(VLOOKUP(A100,STAGIONALITA!$A$3:$M$105,11,FALSE)*P100,\"\")","v":""},{"$f":"IFERROR(VLOOKUP(A100,STAGIONALITA!$A$3:$M$105,12,FALSE)*P100,\"\")","v":""},{"$f":"IFERROR(VLOOKUP(A100,STAGIONALITA!$A$3:$M$105,13,FALSE)*P100,\"\")","v":""}]
["",{"$f":"IFERROR(VLOOKUP(A101,STAGIONALITA!$A$3:$M$105,2,FALSE)*P101,\"\")","v":""},{"$f":"IFERROR(VLOOKUP(A101,STAGIONALITA!$A$3:$M$105,3,FALSE)*P101,\"\")","v":""},{"$f":"IFERROR(VLOOKUP(A101,STAGIONALITA!$A$3:$M$105,4,FALSE)*P101,\"\")","v":""},{"$f":"IFERROR(VLOOKUP(A101,STAGIONALITA!$A$3:$M$105,5,FALSE)*P101,\"\")","v":""},{"$f":"IFERROR(VLOOKUP(A101,STAGIONALITA!$A$3:$M$105,6,FALSE)*P101,\"\")","v":""},{"$f":"IFERROR(VLOOKUP(A101,STAGIONALITA!$A$3:$M$105,7,FALSE)*P101,\"\")","v":""},{"$f":"IFERROR(VLOOKUP(A101,STAGIONALITA!$A$3:$M$105,8,FALSE)*P101,\"\")","v":""},{"$f":"IFERROR(VLOOKUP(A101,STAGIONALITA!$A$3:$M$105,9,FALSE)*P101,\"\")","v":""},{"$f":"IFERROR(VLOOKUP(A101,STAGIONALITA!$A$3:$M$105,10,FALSE)*P101,\"\")","v":""},{"$f":"IFERROR(VLOOKUP(A101,STAGIONALITA!$A$3:$M$105,11,FALSE)*P101,\"\")","v":""},{"$f":"IFERROR(VLOOKUP(A101,STAGIONALITA!$A$3:$M$105,12,FALSE)*P101,\"\")","v":""},{"$f":"IFERROR(VLOOKUP(A101,STAGIONALITA!$A$3:$M$105,13,FALSE)*P101,\"\")","v":""}]
["",{"$f":"IFERROR(VLOOKUP(A102,STAGIONALITA!$A$3:$M$105,2,FALSE)*P102,\"\")","v":""},{"$f":"IFERROR(VLOOKUP(A102,STAGIONALITA!$A$3:$M$105,3,FALSE)*P102,\"\")","v":""},{"$f":"IFERROR(VLOOKUP(A102,STAGIONALITA!$A$3:$M$105,4,FALSE)*P102,\"\")","v":""},{"$f":"IFERROR(VLOOKUP(A102,STAGIONALITA!$A$3:$M$105,5,FALSE)*P102,\"\")","v":""},{"$f":"IFERROR(VLOOKUP(A102,STAGIONALITA!$A$3:$M$105,6,FALSE)*P102,\"\")","v":""},{"$f":"IFERROR(VLOOKUP(A102,STAGIONALITA!$A$3:$M$105,7,FALSE)*P102,\"\")","v":""},{"$f":"IFERROR(VLOOKUP(A102,STAGIONALITA!$A$3:$M$105,8,FALSE)*P102,\"\")","v":""},{"$f":"IFERROR(VLOOKUP(A102,STAGIONALITA!$A$3:$M$105,9,FALSE)*P102,\"\")","v":""},{"$f":"IFERROR(VLOOKUP(A102,STAGIONALITA!$A$3:$M$105,10,FALSE)*P102,\"\")","v":""},{"$f":"IFERROR(VLOOKUP(A102,STAGIONALITA!$A$3:$M$105,11,FALSE)*P102,\"\")","v":""},{"$f":"IFERROR(VLOOKUP(A102,STAGIONALITA!$A$3:$M$105,12,FALSE)*P102,\"\")","v":""},{"$f":"IFERROR(VLOOKUP(A102,STAGIONALITA!$A$3:$M$105,13,FALSE)*P102,\"\")","v":""}]
["",{"$f":"IFERROR(VLOOKUP(A103,STAGIONALITA!$A$3:$M$105,2,FALSE)*P103,\"\")","v":""},{"$f":"IFERROR(VLOOKUP(A103,STAGIONALITA!$A$3:$M$105,3,FALSE)*P103,\"\")","v":""},{"$f":"IFERROR(VLOOKUP(A103,STAGIONALITA!$A$3:$M$105,4,FALSE)*P103,\"\")","v":""},{"$f":"IFERROR(VLOOKUP(A103,STAGIONALITA!$A$3:$M$105,5,FALSE)*P103,\"\")","v":""},{"$f":"IFERROR(VLOOKUP(A103,STAGIONALITA!$A$3:$M$105,6,FALSE)*P103,\"\")","v":""},{"$f":"IFERROR(VLOOKUP(A103,STAGIONALITA!$A$3:$M$105,7,FALSE)*P103,\"\")","v":""},{"$f":"IFERROR(VLOOKUP(A103,STAGIONALITA!$A$3:$M$105,8,FALSE)*P103,\"\")","v":""},{"$f":"IFERROR(VLOOKUP(A103,STAGIONALITA!$A$3:$M$105,9,FALSE)*P103,\"\")","v":""},{"$f":"IFERROR(VLOOKUP(A103,STAGIONALITA!$A$3:$M$105,10,FALSE)*P103,\"\")","v":""},{"$f":"IFERROR(VLOOKUP(A103,STAGIONALITA!$A$3:$M$105,11,FALSE)*P103,\"\")","v":""},{"$f":"IFERROR(VLOOKUP(A103,STAGIONALITA!$A$3:$M$105,12,FALSE)*P103,\"\")","v":""},{"$f":"IFERROR(VLOOKUP(A103,STAGIONALITA!$A$3:$M$105,13,FALSE)*P103,\"\")","v":""}]
["",{"$f":"IFERROR(VLOOKUP(A104,STAGIONALITA!$A$3:$M$105,2,FALSE)*P104,\"\")","v":""},{"$f":"IFERROR(VLOOKUP(A104,STAGIONALITA!$A$3:$M$105,3,FALSE)*P104,\"\")","v":""},{"$f":"IFERROR(VLOOKUP(A104,STAGIONALITA!$A$3:$M$105,4,FALSE)*P104,\"\")","v":""},{"$f":"IFERROR(VLOOKUP(A104,STAGIONALITA!$A$3:$M$105,5,FALSE)*P104,\"\")","v":""},{"$f":"IFERROR(VLOOKUP(A104,STAGIONALITA!$A$3:$M$105,6,FALSE)*P104,\"\")","v":""},{"$f":"IFERROR(VLOOKUP(A104,STAGIONALITA!$A$3:$M$105,7,FALSE)*P104,\"\")","v":""},{"$f":"IFERROR(VLOOKUP(A104,STAGIONALITA!$A$3:$M$105,8,FALSE)*P104,\"\")","v":""},{"$f":"IFERROR(VLOOKUP(A104,STAGIONALITA!$A$3:$M$105,9,FALSE)*P104,\"\")","v":""},{"$f":"IFERROR(VLOOKUP(A104,STAGIONALITA!$A$3:$M$105,10,FALSE)*P104,\"\")","v":""},{"$f":"IFERROR(VLOOKUP(A104,STAGIONALITA!$A$3:$M$105,11,FALSE)*P104,\"\")","v":""},{"$f":"IFERROR(VLOOKUP(A104,STAGIONALITA!$A$3:$M$105,12,FALSE)*P104,\"\")","v":""},{"$f":"IFERROR(VLOOKUP(A104,STAGIONALITA!$A$3:$M$105,13,FALSE)*P104,\"\")","v":""}]
["",{"$f":"IFERROR(VLOOKUP(A105,STAGIONALITA!$A$3:$M$105,2,FALSE)*P105,\"\")","v":""},{"$f":"IFERROR(VLOOKUP(A105,STAGIONALITA!$A$3:$M$105,3,FALSE)*P105,\"\")","v":""},{"$f":"IFERROR(VLOOKUP(A105,STAGIONALITA!$A$3:$M$105,4,FALSE)*P105,\"\")","v":""},{"$f":"IFERROR(VLOOKUP(A105,STAGIONALITA!$A$3:$M$105,5,FALSE)*P105,\"\")","v":""},{"$f":"IFERROR(VLOOKUP(A105,STAGIONALITA!$A$3:$M$105,6,FALSE)*P105,\"\")","v":""},{"$f":"IFERROR(VLOOKUP(A105,STAGIONALITA!$A$3:$M$105,7,FALSE)*P105,\"\")","v":""},{"$f":"IFERROR(VLOOKUP(A105,STAGIONALITA!$A$3:$M$105,8,FALSE)*P105,\"\")","v":""},{"$f":"IFERROR(VLOOKUP(A105,STAGIONALITA!$A$3:$M$105,9,FALSE)*P105,\"\")","v":""},{"$f":"IFERROR(VLOOKUP(A105,STAGIONALITA!$A$3:$M$105,10,FALSE)*P105,\"\")","v":""},{"$f":"IFERROR(VLOOKUP(A105,STAGIONALITA!$A$3:$M$105,11,FALSE)*P105,\"\")","v":""},{"$f":"IFERROR(VLOOKUP(A105,STAGIONALITA!$A$3:$M$105,12,FALSE)*P105,\"\")","v":""},{"$f":"IFERROR(VLOOKUP(A105,STAGIONALITA!$A$3:$M$105,13,FALSE)*P105,\"\")","v":""}]
["",{"$f":"IFERROR(VLOOKUP(A106,STAGIONALITA!$A$3:$M$105,2,FALSE)*P106,\"\")","v":""},{"$f":"IFERROR(VLOOKUP(A106,STAGIONALITA!$A$3:$M$105,3,FALSE)*P106,\"\")","v":""},{"$f":"IFERROR(VLOOKUP(A106,STAGIONALITA!$A$3:$M$105,4,FALSE)*P106,\"\")","v":""},{"$f":"IFERROR(VLOOKUP(A106,STAGIONALITA!$A$3:$M$105,5,FALSE)*P106,\"\")","v":""},{"$f":"IFERROR(VLOOKUP(A106,STAGIONALITA!$A$3:$M$105,6,FALSE)*P106,\"\")","v":""},{"$f":"IFERROR(VLOOKUP(A106,STAGIONALITA!$A$3:$M$105,7,FALSE)*P106,\"\")","v":""},{"$f":"IFERROR(VLOOKUP(A106,STAGIONALITA!$A$3:$M$105,8,FALSE)*P106,\"\")","v":""},{"$f":"IFERROR(VLOOKUP(A106,STAGIONALITA!$A$3:$M$105,9,FALSE)*P106,\"\")","v":""},{"$f":"IFERROR(VLOOKUP(A106,STAGIONALITA!$A$3:$M$105,10,FALSE)*P106,\"\")","v":""},{"$f":"IFERROR(VLOOKUP(A106,STAGIONALITA!$A$3:$M$105,11,FALSE)*P106,\"\")","v":""},{"$f":"IFERROR(VLOOKUP(A106,STAGIONALITA!$A$3:$M$105,12,FALSE)*P106,\"\")","v":""},{"$f":"IFERROR(VLOOKUP(A106,STAGIONALITA!$A$3:$M$105,13,FALSE)*P106,\"\")","v":""}]
["",{"$f":"IFERROR(VLOOKUP(A107,STAGIONALITA!$A$3:$M$105,2,FALSE)*P107,\"\")","v":""},{"$f":"IFERROR(VLOOKUP(A107,STAGIONALITA!$A$3:$M$105,3,FALSE)*P107,\"\")","v":""},{"$f":"IFERROR(VLOOKUP(A107,STAGIONALITA!$A$3:$M$105,4,FALSE)*P107,\"\")","v":""},{"$f":"IFERROR(VLOOKUP(A107,STAGIONALITA!$A$3:$M$105,5,FALSE)*P107,\"\")","v":""},{"$f":"IFERROR(VLOOKUP(A107,STAGIONALITA!$A$3:$M$105,6,FALSE)*P107,\"\")","v":""},{"$f":"IFERROR(VLOOKUP(A107,STAGIONALITA!$A$3:$M$105,7,FALSE)*P107,\"\")","v":""},{"$f":"IFERROR(VLOOKUP(A107,STAGIONALITA!$A$3:$M$105,8,FALSE)*P107,\"\")","v":""},{"$f":"IFERROR(VLOOKUP(A107,STAGIONALITA!$A$3:$M$105,9,FALSE)*P107,\"\")","v":""},{"$f":"IFERROR(VLOOKUP(A107,STAGIONALITA!$A$3:$M$105,10,FALSE)*P107,\"\")","v":""},{"$f":"IFERROR(VLOOKUP(A107,STAGIONALITA!$A$3:$M$105,11,FALSE)*P107,\"\")","v":""},{"$f":"IFERROR(VLOOKUP(A107,STAGIONALITA!$A$3:$M$105,12,FALSE)*P107,\"\")","v":""},{"$f":"IFERROR(VLOOKUP(A107,STAGIONALITA!$A$3:$M$105,13,FALSE)*P107,\"\")","v":""}]
["",{"$f":"IFERROR(VLOOKUP(A108,STAGIONALITA!$A$3:$M$105,2,FALSE)*P108,\"\")","v":""},{"$f":"IFERROR(VLOOKUP(A108,STAGIONALITA!$A$3:$M$105,3,FALSE)*P108,\"\")","v":""},{"$f":"IFERROR(VLOOKUP(A108,STAGIONALITA!$A$3:$M$105,4,FALSE)*P108,\"\")","v":""},{"$f":"IFERROR(VLOOKUP(A108,STAGIONALITA!$A$3:$M$105,5,FALSE)*P108,\"\")","v":""},{"$f":"IFERROR(VLOOKUP(A108,STAGIONALITA!$A$3:$M$105,6,FALSE)*P108,\"\")","v":""},{"$f":"IFERROR(VLOOKUP(A108,STAGIONALITA!$A$3:$M$105,7,FALSE)*P108,\"\")","v":""},{"$f":"IFERROR(VLOOKUP(A108,STAGIONALITA!$A$3:$M$105,8,FALSE)*P108,\"\")","v":""},{"$f":"IFERROR(VLOOKUP(A108,STAGIONALITA!$A$3:$M$105,9,FALSE)*P108,\"\")","v":""},{"$f":"IFERROR(VLOOKUP(A108,STAGIONALITA!$A$3:$M$105,10,FALSE)*P108,\"\")","v":""},{"$f":"IFERROR(VLOOKUP(A108,STAGIONALITA!$A$3:$M$105,11,FALSE)*P108,\"\")","v":""},{"$f":"IFERROR(VLOOKUP(A108,STAGIONALITA!$A$3:$M$105,12,FALSE)*P108,\"\")","v":""},{"$f":"IFERROR(VLOOKUP(A108,STAGIONALITA!$A$3:$M$105,13,FALSE)*P108,\"\")","v":""}]
["",{"$f":"IFERROR(VLOOKUP(A109,STAGIONALITA!$A$3:$M$105,2,FALSE)*P109,\"\")","v":""},{"$f":"IFERROR(VLOOKUP(A109,STAGIONALITA!$A$3:$M$105,3,FALSE)*P109,\"\")","v":""},{"$f":"IFERROR(VLOOKUP(A109,STAGIONALITA!$A$3:$M$105,4,FALSE)*P109,\"\")","v":""},{"$f":"IFERROR(VLOOKUP(A109,STAGIONALITA!$A$3:$M$105,5,FALSE)*P109,\"\")","v":""},{"$f":"IFERROR(VLOOKUP(A109,STAGIONALITA!$A$3:$M$105,6,FALSE)*P109,\"\")","v":""},{"$f":"IFERROR(VLOOKUP(A109,STAGIONALITA!$A$3:$M$105,7,FALSE)*P109,\"\")","v":""},{"$f":"IFERROR(VLOOKUP(A109,STAGIONALITA!$A$3:$M$105,8,FALSE)*P109,\"\")","v":""},{"$f":"IFERROR(VLOOKUP(A109,STAGIONALITA!$A$3:$M$105,9,FALSE)*P109,\"\")","v":""},{"$f":"IFERROR(VLOOKUP(A109,STAGIONALITA!$A$3:$M$105,10,FALSE)*P109,\"\")","v":""},{"$f":"IFERROR(VLOOKUP(A109,STAGIONALITA!$A$3:$M$105,11,FALSE)*P109,\"\")","v":""},{"$f":"IFERROR(VLOOKUP(A109,STAGIONALITA!$A$3:$M$105,12,FALSE)*P109,\"\")","v":""},{"$f":"IFERROR(VLOOKUP(A109,STAGIONALITA!$A$3:$M$105,13,FALSE)*P109,\"\")","v":""}]
["",{"$f":"IFERROR(VLOOKUP(A110,STAGIONALITA!$A$3:$M$105,2,FALSE)*P110,\"\")","v":""},{"$f":"IFERROR(VLOOKUP(A110,STAGIONALITA!$A$3:$M$105,3,FALSE)*P110,\"\")","v":""},{"$f":"IFERROR(VLOOKUP(A110,STAGIONALITA!$A$3:$M$105,4,FALSE)*P110,\"\")","v":""},{"$f":"IFERROR(VLOOKUP(A110,STAGIONALITA!$A$3:$M$105,5,FALSE)*P110,\"\")","v":""},{"$f":"IFERROR(VLOOKUP(A110,STAGIONALITA!$A$3:$M$105,6,FALSE)*P110,\"\")","v":""},{"$f":"IFERROR(VLOOKUP(A110,STAGIONALITA!$A$3:$M$105,7,FALSE)*P110,\"\")","v":""},{"$f":"IFERROR(VLOOKUP(A110,STAGIONALITA!$A$3:$M$105,8,FALSE)*P110,\"\")","v":""},{"$f":"IFERROR(VLOOKUP(A110,STAGIONALITA!$A$3:$M$105,9,FALSE)*P110,\"\")","v":""},{"$f":"IFERROR(VLOOKUP(A110,STAGIONALITA!$A$3:$M$105,10,FALSE)*P110,\"\")","v":""},{"$f":"IFERROR(VLOOKUP(A110,STAGIONALITA!$A$3:$M$105,11,FALSE)*P110,\"\")","v":""},{"$f":"IFERROR(VLOOKUP(A110,STAGIONALITA!$A$3:$M$105,12,FALSE)*P110,\"\")","v":""},{"$f":"IFERROR(VLOOKUP(A110,STAGIONALITA!$A$3:$M$105,13,FALSE)*P110,\"\")","v":""}]
["",{"$f":"IFERROR(VLOOKUP(A111,STAGIONALITA!$A$3:$M$105,2,FALSE)*P111,\"\")","v":""},{"$f":"IFERROR(VLOOKUP(A111,STAGIONALITA!$A$3:$M$105,3,FALSE)*P111,\"\")","v":""},{"$f":"IFERROR(VLOOKUP(A111,STAGIONALITA!$A$3:$M$105,4,FALSE)*P111,\"\")","v":""},{"$f":"IFERROR(VLOOKUP(A111,STAGIONALITA!$A$3:$M$105,5,FALSE)*P111,\"\")","v":""},{"$f":"IFERROR(VLOOKUP(A111,STAGIONALITA!$A$3:$M$105,6,FALSE)*P111,\"\")","v":""},{"$f":"IFERROR(VLOOKUP(A111,STAGIONALITA!$A$3:$M$105,7,FALSE)*P111,\"\")","v":""},{"$f":"IFERROR(VLOOKUP(A111,STAGIONALITA!$A$3:$M$105,8,FALSE)*P111,\"\")","v":""},{"$f":"IFERROR(VLOOKUP(A111,STAGIONALITA!$A$3:$M$105,9,FALSE)*P111,\"\")","v":""},{"$f":"IFERROR(VLOOKUP(A111,STAGIONALITA!$A$3:$M$105,10,FALSE)*P111,\"\")","v":""},{"$f":"IFERROR(VLOOKUP(A111,STAGIONALITA!$A$3:$M$105,11,FALSE)*P111,\"\")","v":""},{"$f":"IFERROR(VLOOKUP(A111,STAGIONALITA!$A$3:$M$105,12,FALSE)*P111,\"\")","v":""},{"$f":"IFERROR(VLOOKUP(A111,STAGIONALITA!$A$3:$M$105,13,FALSE)*P111,\"\")","v":""}]
["",{"$f":"IFERROR(VLOOKUP(A112,STAGIONALITA!$A$3:$M$105,2,FALSE)*P112,\"\")","v":""},{"$f":"IFERROR(VLOOKUP(A112,STAGIONALITA!$A$3:$M$105,3,FALSE)*P112,\"\")","v":""},{"$f":"IFERROR(VLOOKUP(A112,STAGIONALITA!$A$3:$M$105,4,FALSE)*P112,\"\")","v":""},{"$f":"IFERROR(VLOOKUP(A112,STAGIONALITA!$A$3:$M$105,5,FALSE)*P112,\"\")","v":""},{"$f":"IFERROR(VLOOKUP(A112,STAGIONALITA!$A$3:$M$105,6,FALSE)*P112,\"\")","v":""},{"$f":"IFERROR(VLOOKUP(A112,STAGIONALITA!$A$3:$M$105,7,FALSE)*P112,\"\")","v":""},{"$f":"IFERROR(VLOOKUP(A112,STAGIONALITA!$A$3:$M$105,8,FALSE)*P112,\"\")","v":""},{"$f":"IFERROR(VLOOKUP(A112,STAGIONALITA!$A$3:$M$105,9,FALSE)*P112,\"\")","v":""},{"$f":"IFERROR(VLOOKUP(A112,STAGIONALITA!$A$3:$M$105,10,FALSE)*P112,\"\")","v":""},{"$f":"IFERROR(VLOOKUP(A112,STAGIONALITA!$A$3:$M$105,11,FALSE)*P112,\"\")","v":""},{"$f":"IFERROR(VLOOKUP(A112,STAGIONALITA!$A$3:$M$105,12,FALSE)*P112,\"\")","v":""},{"$f":"IFERROR(VLOOKUP(A112,STAGIONALITA!$A$3:$M$105,13,FALSE)*P112,\"\")","v":""}]

{"sheet":"STAGIONALITA","index":3,"n_rows":96,"n_cols":28,"rows_kept":96,"cut":false,"hidden":false,"merged":[[0,0,0,12],[0,15,0,27]]}
["STAGIONALITA' 2021 GRUPPO DELTA",null,null,null,null,null,null,null,null,null,null,null,null,null,null,"STAGIONALITA' 2021 SOCIO"]
["Fornitori","GEN 21 ","FEB 21 ","MAR 21 ","APR 21 ","MAG 21 ","GIU 21","LUG 21 ","AGO 21 ","SET 21 ","OTT 21 ","NOV 21 ","DIC 21 ",null,null,"Fornitori","GEN 21 ","FEB 21 ","MAR 21 ","APR 21 ","MAG 21 ","GIU 21","LUG 21 ","AGO 21 ","SET 21 ","OTT 21 ","NOV 21 ","DIC 21 "]
["Albatros",6.5824738952378909E-3,5.6712193657668473E-3,0.2138982396706619,5.442869701322927E-2,0.16969703467055469,7.5258903492785006E-3,0.13854285040416819,5.9574604944359871E-2,9.9326743712343749E-2,1.0999378202791656E-2,0.11247025021977315,0.1212826175518343,null,null,"Arblu",6.0411829068640552E-2,5.6901992390300221E-2,8.9536549480124211E-2,9.3251996692413422E-2,5.7762727632000473E-2,0.12860387946674426,0.14205015193375883,5.1094725656077129E-3,0.12942639975173562,7.5726258059428814E-2,0.10774343650303606,5.3475306456209855E-2]
["Arbi Arredobagno",5.100171884245823E-3,6.9401786469046753E-2,9.2366648820761357E-2,5.3763137873707345E-2,7.8925864352334521E-2,0.1184028854011102,6.9937163628166474E-2,7.4811913550677678E-2,8.6139367127842426E-2,4.0998619290484373E-2,0.20843078136887486,0.10172166023274817,null,null,"Ariston ",0.14116631308975525,0.19854139774672713,0.10913451976585935,4.782153725361734E-2,0.11154093887669136,0.22009514403709443,4.398223795986124E-2,3.2007159932453385E-4,3.0619825525393875E-3,9.0819333247538894E-2,3.1613691875920467E-2,1.9028319950706086E-3]
["Arblu",4.1826374572185812E-2,6.9876167432293315E-2,0.11367076780299863,0.10293303694971385,7.5748552989291687E-2,0.10491476320273048,0.1176450050651676,2.3321699583297925E-2,0.10156076647433536,7.0969220415240578E-2,8.3320341421968036E-2,9.4213304090776676E-2,null,null,"Bosch",1.0740688892354652E-2,1.1187718580129388E-2,4.1104050070637034E-2,0.28649368862213204,0,0,2.4650773026908178E-2,0,0.18163147117390419,0.42834939440592168,0,1.5842215228012879E-2]
["Ariston ",8.014351867514774E-2,0.1221844305508568,9.6947022035245745E-2,9.8411977585971561E-2,9.3503797072148842E-2,0.10495484065565154,8.7759933852308777E-2,1.4149238404459752E-2,8.2322102940667816E-2,0.10207445192279953,6.1165779255014478E-2,5.638290704972742E-2,null,null,"Bossini ",0,0,1,0,0,0,0,0,0,0,0,0]
["Arredamenti Montegrappa",0.11033570951517713,3.2957596739678609E-2,0.13291707815131154,3.7165582247158435E-2,5.639394476337517E-2,0.19369929755389165,4.213375594923157E-2,2.973097887705272E-2,0.18942687881720419,7.697850284435534E-2,2.4297522914067157E-2,7.3963151627496629E-2,null,null,"Bwt/Cillichemie",0,4.3007587295734097E-2,0.23779827430467868,0.30603900399894018,0,0,0.27552248842228555,0,0,0,0.13763264597836147,0]
["Atusa",5.6371023468408971E-2,6.8313433774368909E-2,8.1946902429789956E-2,5.8097404013741569E-2,6.8139936234995091E-2,0.11781256898352496,7.7080266850748452E-2,4.8328942213589188E-2,0,0.13587615577689141,0.12341717754124022,0.16461618871270128,null,null,"Caleffi",7.5478963408950495E-2,3.5399439915642365E-2,0.10684501597133964,7.7398909787590953E-2,5.16947705246232E-2,0.1639004224953432,0.10361432048576352,0,0.10036626834207708,5.3629502204616972E-2,0.17501982623199594,5.6652560632056648E-2]
["Bernasconi ",0.13548624099059325,5.6484108680029878E-2,6.7513459687043254E-2,6.4844088175818063E-2,6.9769752997169879E-2,0.19693477299559431,0.11597818941169558,2.0025770328964819E-2,0.10580812109964768,6.6151057525400722E-2,5.1433868247618343E-2,4.9570569860424171E-2,null,null,"Carlo Nobili ",0,0.36265235182822192,3.2604391252695031E-3,2.9863158357900293E-2,0.1085361024332292,3.3295199542394509E-2,0.16045672548070578,7.101685220222643E-3,7.0282043384520612E-2,2.5705108461301536E-2,0.17666651999823998,2.2180666167994016E-2]
["Beza",0,0,0,0,0,0,0,0,0,0,0,1,null,null,"Cordivari ",5.4804933842625907E-2,3.3557248275171384E-2,4.7855263439167274E-2,6.2865388760119947E-2,7.4155755917676786E-2,0.14208909715970158,0.18372188629498448,9.9857819462946917E-2,7.7299594805295885E-2,5.4764386645076733E-2,0.10238402912672273,6.6644596270510378E-2]
["Bmeters",2.6102425990180266E-2,0.20906334824060122,0.15219705125535199,9.3264550469984789E-3,0.1134017161595019,1.7888721422343969E-2,0.11683703544211757,2.5766747733024589E-2,0.17223859629306726,1.7687526252439946E-2,0.1233700543932907,1.612032177108224E-2,null,null,"Dab Pumps",0,0,0,0,0.5,0,0.5,0,0,0,0,0]
["Bosch",7.2761532380624064E-2,4.9819077356128949E-2,9.4873113429879238E-2,0.10853213136702777,7.178066296104757E-2,5.61076367654606E-2,7.4919804668850329E-2,1.3271912250832095E-2,9.9562083701610404E-2,0.22576384440621811,8.0551219551204575E-2,5.2056981161116185E-2,null,null,"Ebara",0,0.19579602787023212,0.19399944212587819,5.0852188482228437E-2,8.0375503200806955E-3,0.13835640417301584,0.1647903213057848,7.7123071395967368E-3,4.3180502354459908E-2,1.333822558250806E-2,0.13173838858004902,5.2198642066166173E-2]
["Bossini ",0.10329809898604701,0.10908359235520707,0.10715417300826624,3.8845308519355012E-2,0.11592724772949731,3.8664511851568745E-2,0.11566363950121716,5.3902289045264978E-2,6.1409658502612721E-2,0.11544471608236506,0.11842708956456033,2.217967485403817E-2,null,null,"Effebi ",0,0.17228565390978859,0.16034757653427043,1.2022511894827637E-2,3.8270022357557089E-2,0.12846207341352009,0.16496547171172102,1.1705958927960006E-2,3.5343570865838517E-2,7.7246495489445219E-2,7.4199969545447816E-2,0.12515069534962361]
["BT-Flex",0,0,0,0,0,0.50893693253532013,0,0.12083154552923699,7.2429816292036875E-2,0.29780170564340597,0,0,null,null,"Ercos ",0,0,0.15786776471401143,7.9077834726045848E-2,7.7734279281671287E-2,4.2561917112865694E-2,0.4000276388548557,0,9.7910003538029238E-3,4.3665551942173369E-3,0.18516849144954919,4.3404518312980603E-2]
["Bwt/Cillichemie",4.9336518958175597E-2,6.4353944722471829E-2,9.9501703618992146E-2,0.17134567703156628,8.0920800042238117E-2,6.7639748273442185E-2,0.12024028537348136,2.8271924963874637E-2,0.10920856428002813,4.4759071316202638E-2,0.13533516467462595,2.9086596744901067E-2,null,null,"Euroacque",0,0.43734328532275935,0,0,0,3.1488716543238676E-2,0,0,0,0.48011545862732519,6.7059303749489763E-4,5.0381946469181878E-2]
["Caleffi",6.7700080336390397E-2,8.8090649022138062E-2,7.6616768428675763E-2,7.6768312391576235E-2,7.0814326229320504E-2,9.1142874556471284E-2,9.3211939986026365E-2,3.9345059173617143E-2,7.6777915994335116E-2,0.11352174446721083,9.9823642815747848E-2,0.10618668659849033,null,null,"Ferrari ",0.17498024405196058,9.0519113823793962E-2,8.2142681349758592E-2,8.5167601140162072E-2,0,0.1172469650120594,0.1288991708318977,1.9142909561162894E-2,0.10798874157072093,9.6170970614425644E-2,5.7406355016399895E-2,4.0335247027658325E-2]
["Camon",0,0,0,0,0,0.49242522271458888,0,0,0,0.33366173380715025,0,0.17391304347826089,null,null,"Fimi",3.5078959341981242E-2,0.1451784696507063,0.21415942563943463,0,6.798647618269342E-2,0.18184298715140398,7.0037763916311391E-2,0,4.7452476538656176E-2,0.12666424741217108,5.5674940840224653E-2,5.5924253326417143E-2]
["Carlo Nobili ",3.4037156750761674E-2,0.24026839113345985,4.2536503889550464E-2,3.7508036489528815E-2,0.10196123484666046,6.7654538103454745E-2,0.10766355222779223,4.0254251330577542E-2,0.11605906018916405,3.0656860124209331E-2,0.13072247764696004,5.0677937267880772E-2,null,null,"First Corporation ",0,0.18166830450284524,0.14938928599280607,0.17919885964845847,0.18765908008394622,3.4558718627386159E-2,3.9729109196560954E-2,1.8296960133750567E-2,7.8600478025737733E-2,8.7127426383852305E-2,2.9493332427252645E-3,4.0822444161931051E-2]
["Carrier",0,0,0,0,0.30702952774241626,4.3406712826404195E-2,3.2368739714968794E-3,0.20748595025926042,8.6689229049585495E-2,0.1410640543981122,0.13408575775452541,7.700189399819915E-2,null,null,"Fluidmaster",3.2942634435921818E-2,3.8479013917142549E-2,0.20323868675420373,0,0,0.32151478973018982,1.2714848444272721E-3,2.8012444247825201E-6,5.8380735057742016E-2,0.34415808878936383,1.1765226584208874E-5,0]
["Cordivari ",4.7505385601440804E-2,6.620869752521287E-2,8.5674461193143606E-2,8.7964476476884171E-2,8.3171641808257493E-2,8.6750786052693235E-2,9.9838492637846846E-2,4.5755869453772094E-2,7.9684564654177836E-2,0.10043025272940115,0.13367468962127388,8.334068224589597E-2,null,null,"Galletti",0,0.31711494024196485,2.7296809905934291E-2,3.697231675379678E-2,6.6555408017499925E-3,7.2740950074927655E-3,7.634514889259264E-2,5.8933616391251666E-3,0.1235000460714028,7.873516294324992E-2,0.219606465056842,0.10060611268584881]
["Cuprumfoma",0.15785451805122869,0.19811384665584189,0.25433408174522404,7.7188716331176147E-2,0,7.424023244792842E-2,0.23826860476860084,0,0,0,0,0,null,null,"Geberit",4.8839979614896334E-2,0.10447822819850847,0.16648648236772473,0.10799516458006685,3.4709288145916853E-2,0.16684300142494554,7.9872115084280132E-2,6.9987863826984622E-3,7.7696104679567071E-2,0.12002692376677267,6.7567415527336264E-2,1.848651022728667E-2]
["Dab Pumps",6.2090124668753362E-2,0.10731870700187097,8.4877288725120889E-2,0.10665090191557468,4.4888777844885222E-2,0.15145672792229889,7.0164870835931398E-2,4.321769127712196E-2,3.2452454914058071E-2,8.3950919424678666E-2,8.3077136454937611E-2,0.12985439901476839,null,null,"General Fittings ",0,0.40832351669700645,8.4543105172414403E-3,5.0346488085709094E-2,0.15219398527403749,7.4761028063083282E-2,0,2.7593671366417025E-2,0.1470987020464769,9.1585524012857425E-2,1.7103104745810185E-2,2.2539669191360683E-2]
["Ebara",0,0.18185907680191038,0.11340999332017636,8.5446190851366302E-2,5.4956696587725805E-2,0.12666178180064988,0.13788135440092536,2.8791000680028402E-2,6.2334940382072171E-2,8.032487920245944E-2,8.5791762019308715E-2,4.2542323953377169E-2,null,null,"Giacomini",0.20346140203873223,4.7381863548171435E-2,0.16446228550334704,5.7660628037339803E-2,2.7567494703827432E-2,0.22087667033026034,4.6992725674183174E-2,1.2155757246663238E-2,6.5078982034458156E-3,0.16426495200162725,3.576407931317295E-2,1.2904243399229284E-2]
["Effebi ",0,0.21890555284145691,8.9955921267574651E-2,2.0866722365282798E-2,4.7740068493360613E-2,0.19899871214828499,0.12925740422790502,1.42533800744024E-2,5.4260913485909966E-2,9.351642363394852E-2,6.3235082282139463E-2,6.9009819179734699E-2,null,null,"Giuseppe Tirinnanzi",6.6995006950137451E-2,0,0.14194092033916927,3.1186400209805881E-2,0,0.21616578474957596,0.15425495098073455,3.1332134019224217E-2,0.12701384121936329,0,0.138450928981597,9.2660032550392402E-2]
["Enolgas",6.1956792103906595E-2,4.8488613289880897E-2,0.14683636823179191,7.259984605191587E-2,7.9015347128987959E-2,7.0171052142040599E-2,8.1555347682640555E-2,4.3108728334004087E-2,0.14010567963957346,0.10265481886274178,9.0288912139881675E-2,6.3218494392634592E-2,null,null,"Global ",0.3431124357475816,-5.7611369649495823E-4,0.21278940488562595,0,6.9302903878043489E-3,0.15092655505481381,2.2279007709079908E-3,0,2.6128228700646745E-2,3.523515816892039E-4,0.25810894656742528,0]
["Ercos ",6.4560244965712305E-2,8.2856000522500847E-2,0.11779904501149524,0.13580384965451628,9.3619795459727012E-2,7.1990141286760873E-2,0.11052488043413149,0,0.12994467872858229,7.8639687314305123E-2,8.0822816306555828E-2,3.3438860315712755E-2,null,null,"Grohe",4.4813079665484187E-2,0.19250260579759534,0.14330042614841354,2.9506554512252963E-2,2.6657327842163535E-2,0.14959823137712253,5.8220120371989127E-2,1.2706260036838932E-2,0.12846416170772135,1.3371632841090268E-2,4.054781500275511E-2,0.16031178469657315]
["Euroacque",0,0.20548138581867176,5.424044039678947E-2,8.2745472943886303E-2,8.7382618937136503E-2,3.4161965833468436E-2,8.0846457463283186E-2,4.7932239050180112E-2,9.5861216868210794E-2,0.15567421781676349,8.4898724765051586E-2,7.0775260106558435E-2,null,null,"Haier ",0,0.29364098937657268,1.6627601755691338E-2,9.0622645739111038E-2,0.22520436354909865,1.2702457608759366E-3,0.30859354953786955,3.6774845609584404E-2,2.0318282452320972E-2,2.2197319355024968E-2,1.782688970243504E-3,-1.7032532106393064E-2]
["Eurocornici",0,0.1657223893818493,9.6133883052533009E-2,-1.5987250894105091E-5,3.0391763949693937E-2,0.19944858518279787,0.19003027767311376,4.5272624412604844E-2,9.6815521295199755E-2,6.5020149386325776E-2,6.5047400382167928E-2,4.6133392534607964E-2,null,null,"Ibp Banninger ",9.8412134955283351E-2,3.6066418005340564E-2,0.16861982367651421,0.16539863518840334,8.581994659432883E-2,-2.9669817318696225E-4,0.15502479549018777,0,0.22467469164582715,1.3796465053193744E-2,4.8616114949349386E-2,3.8676726147586151E-3]
["Farg",1.0249306119816405E-2,9.5708704226517269E-2,7.4486171120422828E-2,9.443178241151319E-2,0.13532328612120453,0.13085833627196877,7.9509730447090907E-2,0,0.15268869369650429,0.11367324290047875,2.9520351598676099E-2,8.3550395085806986E-2,null,null,"Immergas ",0,6.5591619518975616E-3,0.13324399722684463,7.1723527557487787E-2,7.4312722711233403E-2,6.8257302869453224E-2,1.3917273795158076E-2,5.180782964527759E-3,0.12341109874795221,8.6433945209273402E-2,0.27113106616347549,0.14582912080269647]
["Ferrari ",0.10201512739803764,7.7281755654871387E-2,9.3880575800286234E-2,7.9349940703464156E-2,5.2492353296681241E-2,8.7418175663139253E-2,0.12402361445207939,2.2586934797681087E-2,8.7758873051162117E-2,0.11695251611531196,7.2449191060708157E-2,8.3790942006577412E-2,null,null,"Italkero",0,9.8973511620142715E-2,0.33095317586515477,0,0,0,0,0,0.47605843983143531,0,8.936665392111616E-2,4.6482187621510506E-3]
["Ferroli",9.0271689639205621E-2,6.322876653948549E-2,1.3873609530514372E-2,1.8380180314534787E-2,0.11068441178561267,0.10642294978162702,0,7.7885362913073214E-2,6.6854862289950398E-2,0.14081605535333072,0.19559319492702185,0.11598891692564395,null,null,"Itap",5.5718928593422409E-2,0.15399583234625261,0.24927626406902148,0,1.8051649613055071E-2,7.8350170573102354E-2,2.991104345023142E-2,0,4.5439464995758641E-2,0.12313067247800634,9.2270367105272616E-2,0.15385560677587706]
["Fima Carlo Frattini",8.0335243658070432E-2,0.11184689813690561,5.4676785326059109E-2,5.8169246269669267E-2,1.8327240960792798E-2,0.16794886530513081,7.0840204201990109E-2,4.0661262646420969E-2,9.1243489675764955E-2,0.15435988483483803,0.12210144198427186,2.948943700008606E-2,null,null,"Kinedo",0,0,0,0,0,1,0,0,0,0,0,0]
["Fimi",4.3185382694177231E-2,7.305749210870989E-2,0.109325727831892,7.2921647319632785E-2,6.2416736387742366E-2,9.3056826193391867E-2,0.11213530005486057,4.2784284863086663E-2,0.12040939467136109,0.12273593631371732,5.4879455776834729E-2,9.3091815784593454E-2,null,null,"LG",0,0.34534978646474546,2.2958748787531614E-2,0,1.924038121440878E-2,4.0383003160591652E-2,0.11624432486800533,0.14861417369371116,7.9581381342944887E-2,1.330148388434439E-2,8.5202835679045588E-2,0.1291238809046712]
["First Corporation ",0,0.16833334376579237,0.10646362992967419,0.13507061742471699,0.1785735440899808,5.2712217601389333E-2,6.6569695047860214E-2,3.8654812727691813E-2,7.8308657399649831E-2,7.5524887330261345E-2,3.346744832985999E-2,6.6321146353123098E-2,null,null,"L'isolante K-Flex ",0,4.5121369200595479E-2,4.764606013666893E-2,5.7091265296224721E-2,7.1818603314683357E-2,0.12365727424932781,0.13487216016732098,2.986017310487313E-3,0.15999163642965858,0.31242930478749442,0,4.4386309107538414E-2]
["Fluidmaster",0.10989774249623059,6.2612675646330496E-2,8.3380671392544417E-2,9.7103990565560058E-2,2.4155105017532714E-2,0.20695970883044379,1.9635676179366984E-2,9.3595842752913806E-3,9.8772556834489753E-2,0.19577506179969648,5.852764311621933E-2,3.3819583846294028E-2,null,null,"Megius",0,5.2166911877136748E-2,7.5805518223247123E-3,0,0.2202819176604946,0.14875264567587002,0.11218177814293129,1.9680243596055785E-3,5.8123294897110434E-2,0.14706885085667576,0.22833947761756387,2.3536547090287026E-2]
["Galassia ",6.1025479101248094E-2,0.16001100291150985,9.1144012227179133E-2,6.9240857219788968E-2,0.11690012339532803,8.3058421973279201E-2,9.598684299736357E-2,2.081061238563655E-2,7.6720125061261815E-2,8.5764595807658259E-2,9.6397515046675208E-2,4.2940411873071342E-2,null,null,"Negrari",0.1,0.11250000000000002,0.15000000000000002,0,0,0.14999999999999994,0.16250000000000006,0,9.9999999999999922E-2,0.22500000000000006,0,0]
["Galletti",0,0.16046690851790299,2.1307017724327682E-2,0.36470044811818547,1.6572341636587658E-2,1.3082064071528227E-2,6.7455129128291602E-2,8.2816446798443123E-3,6.2932891996735685E-2,6.6415976506750712E-2,0.13329566123149061,8.5489916388354861E-2,null,null,"Neoperl",5.7511126589113358E-2,0.11526651096364408,6.711114448111595E-2,0.1485489905396036,0.13315691605775284,0.11211959525734135,2.6047241276849287E-3,4.1087705957717359E-2,0.10712644853333511,0.14369434708568027,4.5049506532173796E-4,7.1321995341689412E-2]
["GBD ",5.002101467676727E-2,8.4172195752834592E-2,8.2955646212443723E-2,0.11868541860774499,3.7920035137362001E-2,0.13277529258305587,5.1583342858051301E-2,3.7874238960957679E-2,7.7554804436615304E-2,0.11715024877449048,0.12846343869649998,8.0844323303176799E-2,null,null,"Novellini ",4.5642898835889734E-2,8.1297704756831957E-2,9.6826365919688628E-2,0.14848950377131867,7.2497662377672412E-2,0.15588514926322011,7.7678353923221616E-2,2.1216777622468624E-2,5.2291963975489061E-2,8.5870895747452783E-2,0.10949375386448679,5.2808969942259615E-2]
["Geberit",6.9573318682862414E-2,0.10452927418981385,0.10813110689594813,7.7725135966741396E-2,7.7124643307743213E-2,9.6789368385005597E-2,8.6843011746611784E-2,4.2425283038468077E-2,7.0903726423295829E-2,0.10367526666814172,0.11109220604419304,5.1187658651175055E-2,null,null,"Olimpia Splendid ",0.13143363079288892,0,-1.9804748479694309E-2,0,4.6180013513828375E-2,3.3504974486824018E-2,7.7122020550339006E-3,0,0,0.14003122160348563,0.46979193364244276,0.19115077238519071]
["General d'aspirazione",1.3727120369810069E-2,7.054437536669235E-2,4.5654021316172341E-2,0.20289433734908061,6.2780363443106418E-2,2.9014409858795491E-2,0.11970219975952873,1.4828184073646299E-2,5.3254254946893752E-2,7.5539942171134467E-2,0.18524245764785435,0.12681833369728507,null,null,"Omp Tea ",3.2487278292563981E-2,0,0.70447136733489069,0,0,0,0,0,0.18884676839754613,7.4194585974999241E-2,0,0]
["General Fittings ",0,0.31269446503344656,5.2921932935268971E-2,7.3410062189498151E-2,0.1072534761735527,7.9460252817629931E-2,0,8.5132640624413405E-2,0.12987043165262618,8.4738580911104144E-2,3.1894460624795583E-2,4.2623697037664492E-2,null,null,"Paini",1.8021165154905816E-2,0.68731682694701768,4.1935179638233684E-2,4.8589618420595958E-3,2.007113399417235E-2,7.7954648683477646E-3,7.853636600960015E-2,0,3.1432352537298563E-2,5.1054560709106717E-2,3.3735530630321996E-2,2.5242457668935733E-2]
["Giacomini",9.2296245059243956E-2,7.0505923056603484E-2,0.14351486839754179,6.8959860000239126E-2,7.2252127824858625E-2,9.9392369208509565E-2,9.7460498959383829E-2,2.8167412509244139E-2,5.9239868507686949E-2,0.1063215951208934,9.1869380314351795E-2,7.001985104144326E-2,null,null,"Raccorderie Metalliche  ",9.6382960994713496E-2,1.0841025451111468E-2,0.16369110553554733,4.6942996546647964E-2,8.5044115877086629E-2,0.13284582125894584,0.20454787012433923,6.0641786484709852E-2,2.6433418818453597E-2,4.0610956291488899E-2,9.4926350093971879E-2,3.7091592522983795E-2]
["Giuseppe Tirinnanzi",9.75292176636295E-2,6.1153757411816015E-2,0.12909170378608401,6.2618864194098331E-2,6.7664981087922321E-2,9.2860570007510732E-2,0.11330430633511157,5.2782882301036997E-2,8.9627101905109405E-2,7.8280941375455396E-2,0.10025977558440154,5.4825898347823872E-2,null,null,"Rainbox ",2.9425249030967365E-2,-1.146167632226066E-3,0,0.19443170924853082,0.19505689159338141,1.2295252782061434E-2,0.46111365815029381,6.1663818613762349E-2,4.6326011753428084E-2,8.3357645980077519E-4,0,0]
["Global ",0.12779822229408844,8.5952168971576953E-2,0.11395859192320426,8.9511672691879235E-2,4.3713715978437394E-2,9.7820918512304816E-2,1.7307235659007245E-2,1.2126937150097604E-2,7.6664726829371532E-2,5.8091196581091305E-2,0.21598872131232422,6.106589209661703E-2,null,null,"Rems",5.3214533861936489E-2,9.8418277680140595E-2,5.5462459639514447E-2,4.8759553684554709E-2,3.5844198307924957E-2,5.6729472350512934E-2,6.5394204438631628E-2,8.5829893325704008E-4,2.1416601953651859E-2,0.11999836514488904,0.28838844157436549,0.15551559243062082]
["Grantour",9.6312586612038315E-2,0.1379466168584684,0.16499969874073628,0.15394348376212569,8.4292341989516184E-2,8.1731638247876118E-2,7.6037838163523525E-2,6.8807615834186903E-2,4.8171356269205275E-2,3.6783756100500088E-2,3.4554437548954632E-2,1.641862987286859E-2,null,null,"River",0.15409635496722626,0,0.15193310321919096,0.16584414271478295,6.4182658086558958E-2,0.1575728253491428,0,0,0.15224980244982844,0.15412111321326963,0,0]
["Griffon - Bostik",0,0,0,0.62340579820384479,4.2261877595728158E-2,2.3960567751357766E-2,0,0,0.22841647270016582,0,0,8.1955283748903401E-2,null,null,"Rizzo Aquae",0,5.4143384216207298E-2,9.0277661356570019E-2,0.1679689363858759,5.7580138269707176E-2,0.13506507909692678,0,1.5475065156472253E-2,0.16267581930798086,4.5063389735647268E-2,5.2326998443466291E-2,0.21942352803114615]
["Grohe",5.0591773079402706E-2,0.10439834764616684,5.3773494289532174E-2,5.1821757932845949E-2,2.9312132925455515E-2,0.10051893331623583,4.4492972876999527E-2,2.0248136963895762E-2,7.75018869290863E-2,0.25143088739166886,7.4750119104034465E-2,0.14115955754467599,null,null,"RM Manfredi",8.8337034384634514E-2,0.30930214445687626,5.0800965755935734E-2,5.7707906319394701E-2,9.3463101246706537E-2,0,8.4123724656979953E-2,0,0.18853706211877433,0,9.0239482397369439E-2,3.7488578663328505E-2]
["Gruppo Salteco",7.2826023477194413E-2,9.0988728610640654E-2,0.10296092974361969,7.9337732873912284E-2,8.5674239327220694E-2,0.11966361034865386,7.224201366582958E-2,4.5727968229866259E-2,0.11759037551830871,0.10328213513987035,5.6999357589207496E-2,5.2706885475675994E-2,null,null,"Samsung",0,0.15322352246791229,0,0,0,0.84677647753208773,0,0,0,0,0,0]
["Haier ",0,8.8558292028665081E-2,0.13807050978994978,0.15553393439139124,0.24404933665189257,3.2091069120949188E-2,0.1872539315706068,7.7602603305773871E-2,2.0264712136766075E-2,-5.9508850006561266E-3,4.7572348755894958E-2,1.4954147248766734E-2,null,null,"System Group (Italiana Corrugati)",0,0,0,0,0,0.17326925574749968,0.40797506169632419,0,0,0,0.41875568255617612,0]
["Ibp Banninger ",9.5084250989546315E-2,6.9613188876484336E-2,9.8109573226428493E-2,0.12657566223485234,8.442606312798133E-2,8.596620318684664E-2,0.10355094894955851,3.1314066781690852E-2,9.9611793362427689E-2,8.0273774484928451E-2,7.5951486856794884E-2,4.9522987922460161E-2,null,null,"System Group (Rototec)",2.7418476409149097E-2,0,0.11991038374048529,0.14772242679665568,0.16717739473028512,0.21649182618357393,0.14659665764851473,6.1813475626281186E-2,1.1523190313870285E-2,3.2886587159198871E-2,4.6322367808474665E-2,2.21372135835111E-2]
["Ideal Standard",0,0.22405857446405675,1.1255347881613618E-2,7.2850288442850533E-2,8.5814497624307623E-2,7.5271832339046302E-2,9.2226632161666572E-2,3.0704260577367824E-2,0.13264202803422445,0.10236788302985772,7.8136549202017458E-2,9.467210624299105E-2,null,null,"System Group (Sa.Mi. Plastic)",0.25200685990983379,1.3235884655870051E-2,0,0.19193962636731718,0.17937263261395228,4.5559598444900404E-3,3.1443250229799317E-2,0,0.12122493760887096,6.2074382765024437E-2,0.13490207514791208,9.2443908569298447E-3]
["Immergas ",4.2827525398570279E-2,7.9939863970528977E-2,0.10302903224580441,6.2533844626222773E-2,5.6898879849348681E-2,9.4999583413917635E-2,4.9981525592171207E-2,1.1996894284005626E-2,0.10695809062252477,0.12378469475464519,0.17970257260424286,8.7347492638017429E-2,null,null,"System Group (Sab)",0,0.39562473706352547,0,0.39476230542700885,2.2360117795540597E-2,4.4194362641985695E-2,4.192259150189314E-2,0,3.7379049221708038E-2,2.1918384518300377E-2,2.0530079932688263E-2,2.13083718973496E-2]
["Isoclima",0,0,7.3582842495680853E-2,4.1910121820600076E-2,8.2949338219647034E-2,7.0491264969013645E-2,0.10758782279756794,4.0328152562620512E-2,0.17829247125626074,6.2609325612468708E-2,0.12385617763800537,0.21839248262813507,null,null,"Tecnosystemi",2.7847287229766701E-2,0,2.3196132479685227E-2,2.1143262654105696E-2,0.3748013038100399,0,7.6439364275916091E-2,0,0.14931494653462607,0.17055588257411727,0.15670182044174299,0]
["Italkero",0,0.25009848373338012,0.25831240997140359,0,2.122824317782121E-2,1.2485737938826921E-2,4.1694992261688511E-3,3.1842364766731815E-2,0.25052730275388596,7.9403839461730033E-2,8.9485978724110307E-2,2.4461402459413219E-3,null,null,"Thermomat Saniline ",5.2109527801061747E-2,8.2896758871193077E-2,0.22749022073204805,0.1796591226599609,0,2.0152277172394522E-2,0.13849888236937691,0,0.15175328303995531,4.4617910030734842E-2,4.9979044425817271E-2,5.2842972897457388E-2]
["Itap",6.440933563148743E-2,7.0567454510183314E-2,0.15523930806866229,4.9657512771233453E-2,0.14180480454174849,7.4798100395795472E-2,4.3767377893583176E-2,0,9.2326194949268914E-2,0.13355417295613919,9.1292399593935897E-2,8.258333868796229E-2,null,null,"Va-Albertoni ",0.17782015775660445,1.5734236704184303E-2,8.6653288464755798E-2,0.20002042618958898,9.648089249592863E-2,2.6927752888814882E-2,0.10105428777680039,0.20644735533517242,3.3351646674057538E-2,5.0759973881617008E-2,4.7499818324755853E-3,0]
["Kinedo",0,0,0,0,0.45671676908115638,0.14079254458116477,6.2030906614935051E-2,-1.0641974190697211E-4,0.15540126627883444,4.1510858489992843E-2,9.8322167000050684E-2,4.5331907695772652E-2,null,null,"Valsir",0.27460745657989061,5.7877089116954085E-2,8.0733352877160172E-2,8.3340044647847722E-2,0.10228514814574743,0.12313194667359749,9.0967031680600191E-2,-5.0090691993143208E-3,2.355227965074282E-2,0.139818366346078,2.2858508972756209E-2,5.8378445079395646E-3]
["LG",0,0.19515905774527331,3.6289055563093787E-2,6.5677547050026333E-2,2.3941587560156938E-2,6.4891511142451577E-2,0.16226725292793934,9.7130732964178373E-2,0.10198235232381841,6.6826654662153651E-2,8.188587406485541E-2,0.10394837399605282,null,null,"Varem",5.6009698528507137E-2,-1.856079686712923E-2,0.64233542330664584,0.10957329260168024,0,5.926710880319036E-2,0,5.335061178726376E-2,0,9.8024661839842014E-2,0,0]
["L'isolante K-Flex ",3.240900725286526E-2,6.7554112423146948E-2,0.10706210623266114,8.502915926070391E-2,6.8001800866532833E-2,0.12162024697119311,0.10043768078865208,3.4673271093845257E-2,9.8695417127599647E-2,0.1717690224197316,6.4291128385938562E-2,4.8457047177129779E-2]
["Megius",0,0.11108890638087246,4.6776153031868183E-2,3.3954787069190522E-2,0.10132564312580594,0.10526417260096148,7.580591250695945E-2,1.7706452683090377E-2,0.13362074177941843,0.12173681161679618,0.14953572880450822,0.10318469040052891]
["Mut Meccanica Tovo",0.14762549340188377,2.6293624003394835E-2,0.11397931306744746,0.12908368068709211,7.8509051238303276E-2,9.1527058765387727E-3,4.5742905101260369E-2,0,1.6712867002764614E-2,0.12778454552547458,0.16936426430756021,0.13575154978828005]
["Negrari",8.2483321879318866E-2,9.4313682546896815E-2,7.1862669913610885E-2,7.7524683343986378E-2,1.6616674070010693E-2,0.17334535261086306,0.10189804805742893,3.091382438901815E-2,0.19591170636895838,7.4240207504175995E-2,3.1430456510560249E-2,4.9459372805171688E-2]
["Neoperl",7.871819542388879E-2,9.6996015420160814E-2,6.7075120297987303E-2,0.10647956100237307,0.10523620299882605,8.911721210928597E-2,7.9471412366024896E-2,4.4745478514631974E-2,8.9465864905323142E-2,0.10842364437843308,8.1920098766555233E-2,5.23511938165096E-2]
["Novellini ",6.2186323384026417E-2,7.3758117554672112E-2,7.0500844884766115E-2,0.10676078893306129,8.3617242660720931E-2,0.11937066251586349,0.1142179872811538,3.1892569922102348E-2,6.7623847486029606E-2,9.5461026622634504E-2,0.11719920349452755,5.7411385260441844E-2]
["Olimpia Splendid ",3.8994155074172143E-2,5.8088978589592465E-2,9.4067977431800454E-2,6.051999202487679E-2,8.3504437036752033E-2,4.1544095785427212E-2,0.10952502544693919,4.2289140190773346E-3,0.16319970338138229,0.11781145829325368,0.16451140127811842,6.4003861638607995E-2]
["Omp Tea ",8.2046114223828376E-2,8.2102794495962403E-2,0.12625692467112559,6.6038792823828324E-2,9.5167993588391023E-2,9.8498488063649955E-2,9.4602049659052986E-2,4.1735672806060588E-2,9.1010086049637395E-2,0.12062331519872906,6.6581780582342875E-2,3.5335987837391301E-2]
["Paini",1.5800877940909109E-2,0.49455840438552745,0.11957067865504784,2.9360857288287731E-2,4.2568222728349987E-2,3.7153798968971433E-2,4.9328667440262722E-2,0,4.8068570564972421E-2,5.3709119139415597E-2,7.2176660707408885E-2,3.7704142180847028E-2]
["Panasonic",4.0361596837860413E-2,8.0498943778664067E-2,6.6014349592963165E-2,9.2424467848177025E-2,0.11749976871678892,0.15243510375530481,0.16514975125832709,2.8104258774875428E-2,6.5804502386790004E-2,6.2352633467215896E-2,2.7363576391704489E-2,0.10199104719132876]
["Planus",0,0,0.5,0,0,0,0,0,0,0,0,0.5]
["Polieco",2.545668810848049E-2,0.10102157089019802,8.5738094448405966E-2,8.8746401091750193E-2,0.1234002417832773,0.13786120900569068,0.13303300768928927,1.734969068877134E-2,8.2546403237716268E-2,3.1112241507456184E-2,0.11703276527954995,5.670168626941427E-2]
["Raccorderie Metalliche  ",7.4983459879956763E-2,6.0928669955636193E-2,0.11972391296243369,9.3782816169800262E-2,8.7969454834660926E-2,0.12410839929912638,0.11512245405177021,3.4306284251469456E-2,5.9780716034347765E-2,0.10081870487504818,7.025166830286686E-2,5.8223459382883265E-2]
["Rainbox ",7.6778473288453206E-2,6.5642100704696671E-2,8.0429904334475028E-2,0.11547773709696468,0.14775500964528956,8.0006692649895669E-2,0.1866166686350931,4.9948820912562496E-2,6.842742411716074E-2,5.4869887012322351E-2,5.2911302704617927E-2,2.1135978898468563E-2]
["Rems",6.132829530591484E-2,8.9552467129165744E-2,8.8168029432686493E-2,8.7028354201883137E-2,0.10315208162828231,6.4303689029287361E-2,8.0733369537781388E-2,1.21922303214802E-2,7.5448030044592662E-2,0.12856913392331287,0.13795424471657272,7.1570074729040298E-2]
["River",9.5117578358554181E-2,4.7150120356853661E-2,9.6969736892620395E-2,4.6791525173042234E-2,0.13114188172513927,7.117476255677542E-2,0.10715326372565778,3.040442517161155E-2,0.16557679736829833,8.1487256027389071E-2,9.6810201147813371E-2,3.0222451496244567E-2]
["Rizzo Aquae",0,6.190413547074592E-2,7.2513683390580522E-2,0.15168675497511919,4.6250067329325337E-2,0.10848825983733233,3.4176365542301454E-2,1.24300292934357E-2,0.13066602168625777,0.10601468400793869,5.9438328409660561E-2,0.21643167005730243]
["RM Manfredi",9.9490387912685649E-2,8.9790538383312843E-2,7.1971483007757076E-2,0.10805598009885535,4.5367337527197037E-2,0.20163821569624443,0.10584936086935953,3.0275192744300451E-2,0.10762991764024216,2.7142913099517548E-2,5.3428897455302264E-2,5.9359775565225627E-2]
["Royo",0,0,0,0,0.47461408532124177,6.218894238151583E-2,0.13685029792282005,5.4423980754697669E-2,7.3392285620519498E-2,7.5665471362375919E-2,3.4918240584344222E-2,8.7946696052484993E-2]
["Rubinetterie Bresciane ",5.5268348812692034E-2,7.2750316611966653E-2,0.14078058173007232,8.3803050093221657E-2,7.2864212949746696E-2,0.1114529119058843,8.8359037742142349E-2,2.1511035657749523E-2,8.245196132551999E-2,9.318559458542891E-2,0.10975376258315758,6.7819186002417889E-2]
["Sabiana",0,0,0,0.33252210335119198,5.114270506018305E-2,8.287308950827818E-2,0.10158371122378106,3.2060454159736899E-2,0.16292639609480947,0.1169295467403538,6.4163698171919095E-2,5.5798295689746716E-2]
["Samsung",1.7146135655635528E-2,0.1743991766867373,0.15756775148295363,0.12137032462930936,9.9834818408141124E-2,0.11029742603806754,4.5578118220683549E-2,2.6308435654598006E-2,1.2828643294445226E-2,0.11852043881974028,6.3290427949317926E-2,5.2858303160370407E-2]
["Silmet",0,0.2086060254511713,8.1490031753807091E-2,0.14996428620443475,4.7232818817568327E-3,5.9847409755091945E-2,4.6159002310066068E-2,0,0.19958116150706282,0.12009445872094263,0.1295343424156665,0]
["System Group (Rototec)",6.5682281892152347E-2,0,0.11104557272279551,0.11958022278027776,0.12139520064638321,0.20874677429407076,0.11922464954728931,4.4188731519079302E-2,7.8728866968607744E-2,2.3509704895784515E-2,9.2072717515101668E-2,1.5825277218457851E-2]
["System Group (Sa.Mi. Plastic)",0.10200694436081276,0.13007422081006431,6.836856411023913E-2,0.10740638205735337,7.3237093851343901E-2,5.8214645694926515E-2,6.1456788732440232E-2,1.8383225161740235E-2,0.14122813857893554,8.0392539328836249E-2,9.8136149034143555E-2,6.109530827916413E-2]
["System Group (Sab)",2.3827898900250818E-2,0.2694867837159946,4.9802238086050547E-2,0.28645330889446269,3.2003665830600041E-2,6.1535307736831954E-2,8.8932568010804555E-2,2.0608238471927456E-2,5.1635153386069846E-2,5.6820374300598109E-2,2.7674609299633418E-2,3.1219853366775997E-2]
["TECNOCONTROL",1.7151110397866851E-2,0.27169997654523681,8.136679546212057E-2,3.2030812152036257E-2,5.2323379461034193E-2,7.718690977322952E-2,6.3407853642277828E-2,0,0.15980742404977338,0.11208117816978787,6.0850543780167153E-2,7.2094016566469535E-2]
["Tecnosystemi",5.9507783046238528E-2,6.94287283344944E-2,0.11261499520891305,6.9952523197594346E-2,0.14691347710653699,5.5375165494014125E-2,9.6273292072631161E-2,5.362333029281003E-2,0.10385292858122082,8.7496701255719206E-2,0.10503175727004385,3.9929318139783558E-2]
["Tenaris Dalmine ",3.3216918307463074E-2,4.6333612349757296E-2,9.8307197539879848E-2,0.15778856708100755,0.1104488256306289,7.814656367773383E-2,9.1264029727657139E-2,1.9588068309225955E-3,8.5132958455232305E-2,9.1463888281638206E-2,0.16491149547091058,4.1027136647168658E-2]
["Thermomat Saniline ",6.999120341898972E-2,8.6696922753563388E-2,0.14419386730396469,0.14483998785604746,7.8639877314940959E-2,4.2745156042005621E-2,0.10454697607797041,1.3350563214722206E-2,0.12372819343136721,6.3148553234884289E-2,5.5659782498696082E-2,7.2458916852847985E-2]
["Tiemme Raccorderie",6.6611112700040859E-2,0.11247998932493648,7.6772245521975244E-2,7.2191691049847087E-2,0.10641594166346889,3.7006894637824861E-2,8.7092340229291021E-2,2.5430896079168392E-2,0.10828393464729581,0.12049172559734088,0.11044225252712789,7.6780976021682587E-2]
["Unidelta",0,0.200677652559072,9.8309942521682001E-2,0.12131027859087447,8.8526666188071826E-2,0.10466411968312099,9.3931587095872043E-2,2.5980662702480076E-2,5.6631978714004619E-2,9.3957165711713822E-2,9.6908036119843333E-2,1.9101910113264779E-2]
["Va-Albertoni ",7.9097176002249345E-2,0.10559940126251578,7.6298322800439689E-2,0.15064661352033176,0.10505217556014464,6.5289493579640895E-2,9.1490471339265064E-2,9.6660387404981646E-2,6.686854540201434E-2,8.9719567454116661E-2,2.1421276860966249E-2,5.1856568813333816E-2]
["Valsir",0.101784448887073,8.6905848405680636E-2,0.1306495408992642,7.3405759846284224E-2,8.5680216565259426E-2,9.1792458470736624E-2,9.5493044852099002E-2,1.238513745599904E-2,8.8496097389809153E-2,0.10579930933443284,6.5735473719625251E-2,6.1872664173736672E-2]
["Varem",7.869520086341128E-2,4.2247885567973251E-2,0.18285747097116112,9.9464393936518944E-2,8.4923203287589275E-2,7.5636680856105087E-2,4.1101384002372017E-2,6.2343879189738452E-2,8.988623424271909E-2,7.7942966476482273E-2,9.5366457276337246E-2,6.9534243329591794E-2]
["Vortice",0.1650180583965237,0.10086187323804499,-3.7049670050601771E-3,0.22413302878621927,1.3318330218487695E-2,4.4689669924465873E-2,0.14940432518568197,0,7.6228007753127602E-2,3.8152698563527036E-2,0.13466184653936794,5.7237128399614104E-2]
["Wavin ",5.9469545501208643E-2,0.10561344126924618,9.8462364358992777E-2,0.1735468649752972,9.0521702169537629E-2,6.9516290593160765E-2,4.1266308349966668E-2,4.5544087424742058E-2,7.7239803776886801E-2,8.5679772643630595E-2,8.9326565048590351E-2,6.3813253888740443E-2]
["Wilo",4.8577426473520251E-2,0.11747450105588624,3.2923607404092128E-2,0.14591979942425107,0.18271383919554648,7.8038532640134689E-2,2.5291730042986682E-2,6.090948582404809E-3,1.9718430877438502E-2,3.3373525472712412E-2,0.27644492933809339,3.3432729492933425E-2]
["Xylem",0,0,0,0,0,0.45562139489758019,8.8055687621380344E-2,6.1498542534161878E-2,0.13533962613777184,5.6245409098328314E-2,0.1269345597406365,7.6304779970141123E-2]

{"sheet":"PREMI","index":4,"n_rows":102,"n_cols":7,"rows_kept":102,"cut":false,"hidden":false,"merged":[[0,1,2,6]]}
[null,"STIMA PREMI AD OGGI"]
[]
[]
["SOCIO","FORNITORE","Fatt. Progr.2022 ","Coordinamento","Incondizionato","Premio a Target","Totale premi"]
["RAFFAELE SpA",null,1033305.776,null,null,null,{"$f":"SUM(G6:G102)","v":0}]
[null,"Arblu",8399.7800000000007,{"$f":"IFERROR(VLOOKUP(B6,'[1]FATT+ORD+P.O.'!$A$3:$I$96,6,FALSE),\"\")","v":0},{"$f":"IFERROR(VLOOKUP(B6,'[1]FATT+ORD+P.O.'!$A$3:$I$96,7,FALSE),\"\")","v":0},{"$f":"IFERROR(VLOOKUP(B6,'[1]FATT+ORD+P.O.'!$A$3:$I$96,8,FALSE),\"\")","v":0},{"$f":"IFERROR(C6*(D6+E6+F6),\"\")","v":0}]
[null,"Ariston ",39569.51,{"$f":"IFERROR(VLOOKUP(B7,'[1]FATT+ORD+P.O.'!$A$3:$I$96,6,FALSE),\"\")","v":0},{"$f":"IFERROR(VLOOKUP(B7,'[1]FATT+ORD+P.O.'!$A$3:$I$96,7,FALSE),\"\")","v":0},{"$f":"IFERROR(VLOOKUP(B7,'[1]FATT+ORD+P.O.'!$A$3:$I$96,8,FALSE),\"\")","v":0},{"$f":"IFERROR(C7*(D7+E7+F7),\"\")","v":0}]
[null,"Bosch",34199.31,{"$f":"IFERROR(VLOOKUP(B8,'[1]FATT+ORD+P.O.'!$A$3:$I$96,6,FALSE),\"\")","v":0},{"$f":"IFERROR(VLOOKUP(B8,'[1]FATT+ORD+P.O.'!$A$3:$I$96,7,FALSE),\"\")","v":0},{"$f":"IFERROR(VLOOKUP(B8,'[1]FATT+ORD+P.O.'!$A$3:$I$96,8,FALSE),\"\")","v":0},0]
[null,"Bwt/Cillichemie",355,{"$f":"IFERROR(VLOOKUP(B9,'[1]FATT+ORD+P.O.'!$A$3:$I$96,6,FALSE),\"\")","v":0},{"$f":"IFERROR(VLOOKUP(B9,'[1]FATT+ORD+P.O.'!$A$3:$I$96,7,FALSE),\"\")","v":0},{"$f":"IFERROR(VLOOKUP(B9,'[1]FATT+ORD+P.O.'!$A$3:$I$96,8,FALSE),\"\")","v":0},0]
[null,"Caleffi",2988.57,{"$f":"IFERROR(VLOOKUP(B10,'[1]FATT+ORD+P.O.'!$A$3:$I$96,6,FALSE),\"\")","v":0},{"$f":"IFERROR(VLOOKUP(B10,'[1]FATT+ORD+P.O.'!$A$3:$I$96,7,FALSE),\"\")","v":0},{"$f":"IFERROR(VLOOKUP(B10,'[1]FATT+ORD+P.O.'!$A$3:$I$96,8,FALSE),\"\")","v":0},0]
[null,"Carlo Nobili ",84309,{"$f":"IFERROR(VLOOKUP(B11,'[1]FATT+ORD+P.O.'!$A$3:$I$96,6,FALSE),\"\")","v":0},{"$f":"IFERROR(VLOOKUP(B11,'[1]FATT+ORD+P.O.'!$A$3:$I$96,7,FALSE),\"\")","v":0},{"$f":"IFERROR(VLOOKUP(B11,'[1]FATT+ORD+P.O.'!$A$3:$I$96,8,FALSE),\"\")","v":0},0]
[null,"Cordivari ",24622.399999999998,{"$f":"IFERROR(VLOOKUP(B12,'[1]FATT+ORD+P.O.'!$A$3:$I$96,6,FALSE),\"\")","v":0},{"$f":"IFERROR(VLOOKUP(B12,'[1]FATT+ORD+P.O.'!$A$3:$I$96,7,FALSE),\"\")","v":0},{"$f":"IFERROR(VLOOKUP(B12,'[1]FATT+ORD+P.O.'!$A$3:$I$96,8,FALSE),\"\")","v":0},0]
[null,"Ebara",75856.850000000006,{"$f":"IFERROR(VLOOKUP(B13,'[1]FATT+ORD+P.O.'!$A$3:$I$96,6,FALSE),\"\")","v":0},{"$f":"IFERROR(VLOOKUP(B13,'[1]FATT+ORD+P.O.'!$A$3:$I$96,7,FALSE),\"\")","v":0},{"$f":"IFERROR(VLOOKUP(B13,'[1]FATT+ORD+P.O.'!$A$3:$I$96,8,FALSE),\"\")","v":0},0]
[null,"Effebi ",2452.3000000000002,{"$f":"IFERROR(VLOOKUP(B14,'[1]FATT+ORD+P.O.'!$A$3:$I$96,6,FALSE),\"\")","v":0},{"$f":"IFERROR(VLOOKUP(B14,'[1]FATT+ORD+P.O.'!$A$3:$I$96,7,FALSE),\"\")","v":0},{"$f":"IFERROR(VLOOKUP(B14,'[1]FATT+ORD+P.O.'!$A$3:$I$96,8,FALSE),\"\")","v":0},0]
[null,"Ercos ",687,{"$f":"IFERROR(VLOOKUP(B15,'[1]FATT+ORD+P.O.'!$A$3:$I$96,6,FALSE),\"\")","v":0},{"$f":"IFERROR(VLOOKUP(B15,'[1]FATT+ORD+P.O.'!$A$3:$I$96,7,FALSE),\"\")","v":0},{"$f":"IFERROR(VLOOKUP(B15,'[1]FATT+ORD+P.O.'!$A$3:$I$96,8,FALSE),\"\")","v":0},0]
[null,"Euroacque",4608,{"$f":"IFERROR(VLOOKUP(B16,'[1]FATT+ORD+P.O.'!$A$3:$I$96,6,FALSE),\"\")","v":0},{"$f":"IFERROR(VLOOKUP(B16,'[1]FATT+ORD+P.O.'!$A$3:$I$96,7,FALSE),\"\")","v":0},{"$f":"IFERROR(VLOOKUP(B16,'[1]FATT+ORD+P.O.'!$A$3:$I$96,8,FALSE),\"\")","v":0},0]
[null,"Ferrari ",64659,{"$f":"IFERROR(VLOOKUP(B17,'[1]FATT+ORD+P.O.'!$A$3:$I$96,6,FALSE),\"\")","v":0},{"$f":"IFERROR(VLOOKUP(B17,'[1]FATT+ORD+P.O.'!$A$3:$I$96,7,FALSE),\"\")","v":0},{"$f":"IFERROR(VLOOKUP(B17,'[1]FATT+ORD+P.O.'!$A$3:$I$96,8,FALSE),\"\")","v":0},0]
[null,"Fimi",2299,{"$f":"IFERROR(VLOOKUP(B18,'[1]FATT+ORD+P.O.'!$A$3:$I$96,6,FALSE),\"\")","v":0},{"$f":"IFERROR(VLOOKUP(B18,'[1]FATT+ORD+P.O.'!$A$3:$I$96,7,FALSE),\"\")","v":0},{"$f":"IFERROR(VLOOKUP(B18,'[1]FATT+ORD+P.O.'!$A$3:$I$96,8,FALSE),\"\")","v":0},0]
[null,"First Corporation ",459.58600000000001,{"$f":"IFERROR(VLOOKUP(B19,'[1]FATT+ORD+P.O.'!$A$3:$I$96,6,FALSE),\"\")","v":0},{"$f":"IFERROR(VLOOKUP(B19,'[1]FATT+ORD+P.O.'!$A$3:$I$96,7,FALSE),\"\")","v":0},{"$f":"IFERROR(VLOOKUP(B19,'[1]FATT+ORD+P.O.'!$A$3:$I$96,8,FALSE),\"\")","v":0},0]
[null,"Fluidmaster",8941,{"$f":"IFERROR(VLOOKUP(B20,'[1]FATT+ORD+P.O.'!$A$3:$I$96,6,FALSE),\"\")","v":0},{"$f":"IFERROR(VLOOKUP(B20,'[1]FATT+ORD+P.O.'!$A$3:$I$96,7,FALSE),\"\")","v":0},{"$f":"IFERROR(VLOOKUP(B20,'[1]FATT+ORD+P.O.'!$A$3:$I$96,8,FALSE),\"\")","v":0},0]
[null,"Geberit",149260.83000000002,{"$f":"IFERROR(VLOOKUP(B21,'[1]FATT+ORD+P.O.'!$A$3:$I$96,6,FALSE),\"\")","v":0},{"$f":"IFERROR(VLOOKUP(B21,'[1]FATT+ORD+P.O.'!$A$3:$I$96,7,FALSE),\"\")","v":0},{"$f":"IFERROR(VLOOKUP(B21,'[1]FATT+ORD+P.O.'!$A$3:$I$96,8,FALSE),\"\")","v":0},0]
[null,"General Fittings ",132901.34,{"$f":"IFERROR(VLOOKUP(B22,'[1]FATT+ORD+P.O.'!$A$3:$I$96,6,FALSE),\"\")","v":0},{"$f":"IFERROR(VLOOKUP(B22,'[1]FATT+ORD+P.O.'!$A$3:$I$96,7,FALSE),\"\")","v":0},{"$f":"IFERROR(VLOOKUP(B22,'[1]FATT+ORD+P.O.'!$A$3:$I$96,8,FALSE),\"\")","v":0},0]
[null,"Giacomini",7884.35,{"$f":"IFERROR(VLOOKUP(B23,'[1]FATT+ORD+P.O.'!$A$3:$I$96,6,FALSE),\"\")","v":0},{"$f":"IFERROR(VLOOKUP(B23,'[1]FATT+ORD+P.O.'!$A$3:$I$96,7,FALSE),\"\")","v":0},{"$f":"IFERROR(VLOOKUP(B23,'[1]FATT+ORD+P.O.'!$A$3:$I$96,8,FALSE),\"\")","v":0},0]
[null,"Giuseppe Tirinnanzi",1849.4,{"$f":"IFERROR(VLOOKUP(B24,'[1]FATT+ORD+P.O.'!$A$3:$I$96,6,FALSE),\"\")","v":0},{"$f":"IFERROR(VLOOKUP(B24,'[1]FATT+ORD+P.O.'!$A$3:$I$96,7,FALSE),\"\")","v":0},{"$f":"IFERROR(VLOOKUP(B24,'[1]FATT+ORD+P.O.'!$A$3:$I$96,8,FALSE),\"\")","v":0},0]
[null,"Global ",34301.5,{"$f":"IFERROR(VLOOKUP(B25,'[1]FATT+ORD+P.O.'!$A$3:$I$96,6,FALSE),\"\")","v":0},{"$f":"IFERROR(VLOOKUP(B25,'[1]FATT+ORD+P.O.'!$A$3:$I$96,7,FALSE),\"\")","v":0},{"$f":"IFERROR(VLOOKUP(B25,'[1]FATT+ORD+P.O.'!$A$3:$I$96,8,FALSE),\"\")","v":0},0]
[null,"Grohe",18078.07,{"$f":"IFERROR(VLOOKUP(B26,'[1]FATT+ORD+P.O.'!$A$3:$I$96,6,FALSE),\"\")","v":0},{"$f":"IFERROR(VLOOKUP(B26,'[1]FATT+ORD+P.O.'!$A$3:$I$96,7,FALSE),\"\")","v":0},{"$f":"IFERROR(VLOOKUP(B26,'[1]FATT+ORD+P.O.'!$A$3:$I$96,8,FALSE),\"\")","v":0},0]
[null,"Haier ",9225.85,{"$f":"IFERROR(VLOOKUP(B27,'[1]FATT+ORD+P.O.'!$A$3:$I$96,6,FALSE),\"\")","v":0},{"$f":"IFERROR(VLOOKUP(B27,'[1]FATT+ORD+P.O.'!$A$3:$I$96,7,FALSE),\"\")","v":0},{"$f":"IFERROR(VLOOKUP(B27,'[1]FATT+ORD+P.O.'!$A$3:$I$96,8,FALSE),\"\")","v":0},0]
[null,"Immergas ",124928.85,{"$f":"IFERROR(VLOOKUP(B28,'[1]FATT+ORD+P.O.'!$A$3:$I$96,6,FALSE),\"\")","v":0},{"$f":"IFERROR(VLOOKUP(B28,'[1]FATT+ORD+P.O.'!$A$3:$I$96,7,FALSE),\"\")","v":0},{"$f":"IFERROR(VLOOKUP(B28,'[1]FATT+ORD+P.O.'!$A$3:$I$96,8,FALSE),\"\")","v":0},0]
[null,"LG",58297.91,{"$f":"IFERROR(VLOOKUP(B29,'[1]FATT+ORD+P.O.'!$A$3:$I$96,6,FALSE),\"\")","v":0},{"$f":"IFERROR(VLOOKUP(B29,'[1]FATT+ORD+P.O.'!$A$3:$I$96,7,FALSE),\"\")","v":0},{"$f":"IFERROR(VLOOKUP(B29,'[1]FATT+ORD+P.O.'!$A$3:$I$96,8,FALSE),\"\")","v":0},0]
[null,"L'isolante K-Flex ",6049.4299999999994,{"$f":"IFERROR(VLOOKUP(B30,'[1]FATT+ORD+P.O.'!$A$3:$I$96,6,FALSE),\"\")","v":0},{"$f":"IFERROR(VLOOKUP(B30,'[1]FATT+ORD+P.O.'!$A$3:$I$96,7,FALSE),\"\")","v":0},{"$f":"IFERROR(VLOOKUP(B30,'[1]FATT+ORD+P.O.'!$A$3:$I$96,8,FALSE),\"\")","v":0},0]
[null,"Megius",4375.8,{"$f":"IFERROR(VLOOKUP(B31,'[1]FATT+ORD+P.O.'!$A$3:$I$96,6,FALSE),\"\")","v":0},{"$f":"IFERROR(VLOOKUP(B31,'[1]FATT+ORD+P.O.'!$A$3:$I$96,7,FALSE),\"\")","v":0},{"$f":"IFERROR(VLOOKUP(B31,'[1]FATT+ORD+P.O.'!$A$3:$I$96,8,FALSE),\"\")","v":0},0]
[null,"Negrari",1532.11,{"$f":"IFERROR(VLOOKUP(B32,'[1]FATT+ORD+P.O.'!$A$3:$I$96,6,FALSE),\"\")","v":0},{"$f":"IFERROR(VLOOKUP(B32,'[1]FATT+ORD+P.O.'!$A$3:$I$96,7,FALSE),\"\")","v":0},{"$f":"IFERROR(VLOOKUP(B32,'[1]FATT+ORD+P.O.'!$A$3:$I$96,8,FALSE),\"\")","v":0},0]
[null,"Neoperl",12866.1,{"$f":"IFERROR(VLOOKUP(B33,'[1]FATT+ORD+P.O.'!$A$3:$I$96,6,FALSE),\"\")","v":0},{"$f":"IFERROR(VLOOKUP(B33,'[1]FATT+ORD+P.O.'!$A$3:$I$96,7,FALSE),\"\")","v":0},{"$f":"IFERROR(VLOOKUP(B33,'[1]FATT+ORD+P.O.'!$A$3:$I$96,8,FALSE),\"\")","v":0},0]
[null,"Novellini ",3267.23,{"$f":"IFERROR(VLOOKUP(B34,'[1]FATT+ORD+P.O.'!$A$3:$I$96,6,FALSE),\"\")","v":0},{"$f":"IFERROR(VLOOKUP(B34,'[1]FATT+ORD+P.O.'!$A$3:$I$96,7,FALSE),\"\")","v":0},{"$f":"IFERROR(VLOOKUP(B34,'[1]FATT+ORD+P.O.'!$A$3:$I$96,8,FALSE),\"\")","v":0},0]
[null,"Olimpia Splendid ",1281,{"$f":"IFERROR(VLOOKUP(B35,'[1]FATT+ORD+P.O.'!$A$3:$I$96,6,FALSE),\"\")","v":0},{"$f":"IFERROR(VLOOKUP(B35,'[1]FATT+ORD+P.O.'!$A$3:$I$96,7,FALSE),\"\")","v":0},{"$f":"IFERROR(VLOOKUP(B35,'[1]FATT+ORD+P.O.'!$A$3:$I$96,8,FALSE),\"\")","v":0},0]
[null,"Paini",2524.73,{"$f":"IFERROR(VLOOKUP(B36,'[1]FATT+ORD+P.O.'!$A$3:$I$96,6,FALSE),\"\")","v":0},{"$f":"IFERROR(VLOOKUP(B36,'[1]FATT+ORD+P.O.'!$A$3:$I$96,7,FALSE),\"\")","v":0},{"$f":"IFERROR(VLOOKUP(B36,'[1]FATT+ORD+P.O.'!$A$3:$I$96,8,FALSE),\"\")","v":0},0]
[null,"Raccorderie Metalliche  ",17654.93,{"$f":"IFERROR(VLOOKUP(B37,'[1]FATT+ORD+P.O.'!$A$3:$I$96,6,FALSE),\"\")","v":0},{"$f":"IFERROR(VLOOKUP(B37,'[1]FATT+ORD+P.O.'!$A$3:$I$96,7,FALSE),\"\")","v":0},{"$f":"IFERROR(VLOOKUP(B37,'[1]FATT+ORD+P.O.'!$A$3:$I$96,8,FALSE),\"\")","v":0},0]
[null,"Rems",316,{"$f":"IFERROR(VLOOKUP(B38,'[1]FATT+ORD+P.O.'!$A$3:$I$96,6,FALSE),\"\")","v":0},{"$f":"IFERROR(VLOOKUP(B38,'[1]FATT+ORD+P.O.'!$A$3:$I$96,7,FALSE),\"\")","v":0},{"$f":"IFERROR(VLOOKUP(B38,'[1]FATT+ORD+P.O.'!$A$3:$I$96,8,FALSE),\"\")","v":0},0]
[null,"River",1642.99,{"$f":"IFERROR(VLOOKUP(B39,'[1]FATT+ORD+P.O.'!$A$3:$I$96,6,FALSE),\"\")","v":0},{"$f":"IFERROR(VLOOKUP(B39,'[1]FATT+ORD+P.O.'!$A$3:$I$96,7,FALSE),\"\")","v":0},{"$f":"IFERROR(VLOOKUP(B39,'[1]FATT+ORD+P.O.'!$A$3:$I$96,8,FALSE),\"\")","v":0},0]
[null,"System Group (Sa.Mi. Plastic)",22329.4,{"$f":"IFERROR(VLOOKUP(B40,'[1]FATT+ORD+P.O.'!$A$3:$I$96,6,FALSE),\"\")","v":0},{"$f":"IFERROR(VLOOKUP(B40,'[1]FATT+ORD+P.O.'!$A$3:$I$96,7,FALSE),\"\")","v":0},{"$f":"IFERROR(VLOOKUP(B40,'[1]FATT+ORD+P.O.'!$A$3:$I$96,8,FALSE),\"\")","v":0},0]
[null,"Thermomat Saniline ",8961,{"$f":"IFERROR(VLOOKUP(B41,'[1]FATT+ORD+P.O.'!$A$3:$I$96,6,FALSE),\"\")","v":0},{"$f":"IFERROR(VLOOKUP(B41,'[1]FATT+ORD+P.O.'!$A$3:$I$96,7,FALSE),\"\")","v":0},{"$f":"IFERROR(VLOOKUP(B41,'[1]FATT+ORD+P.O.'!$A$3:$I$96,8,FALSE),\"\")","v":0},0]
[null,"Va-Albertoni ",13618.21,{"$f":"IFERROR(VLOOKUP(B42,'[1]FATT+ORD+P.O.'!$A$3:$I$96,6,FALSE),\"\")","v":0},{"$f":"IFERROR(VLOOKUP(B42,'[1]FATT+ORD+P.O.'!$A$3:$I$96,7,FALSE),\"\")","v":0},{"$f":"IFERROR(VLOOKUP(B42,'[1]FATT+ORD+P.O.'!$A$3:$I$96,8,FALSE),\"\")","v":0},0]
[null,"Valsir",29347,{"$f":"IFERROR(VLOOKUP(B43,'[1]FATT+ORD+P.O.'!$A$3:$I$96,6,FALSE),\"\")","v":0},{"$f":"IFERROR(VLOOKUP(B43,'[1]FATT+ORD+P.O.'!$A$3:$I$96,7,FALSE),\"\")","v":0},{"$f":"IFERROR(VLOOKUP(B43,'[1]FATT+ORD+P.O.'!$A$3:$I$96,8,FALSE),\"\")","v":0},0]
[null,"Varem",16405.439999999999,{"$f":"IFERROR(VLOOKUP(B44,'[1]FATT+ORD+P.O.'!$A$3:$I$96,6,FALSE),\"\")","v":0},{"$f":"IFERROR(VLOOKUP(B44,'[1]FATT+ORD+P.O.'!$A$3:$I$96,7,FALSE),\"\")","v":0},{"$f":"IFERROR(VLOOKUP(B44,'[1]FATT+ORD+P.O.'!$A$3:$I$96,8,FALSE),\"\")","v":0},0]
["Totale complessivo",null,1033305.776,{"$f":"IFERROR(VLOOKUP(B45,'[1]FATT+ORD+P.O.'!$A$3:$I$96,6,FALSE),\"\")","v":""},{"$f":"IFERROR(VLOOKUP(B45,'[1]FATT+ORD+P.O.'!$A$3:$I$96,7,FALSE),\"\")","v":""},{"$f":"IFERROR(VLOOKUP(B45,'[1]FATT+ORD+P.O.'!$A$3:$I$96,8,FALSE),\"\")","v":""},""]
[null,null,null,{"$f":"IFERROR(VLOOKUP(B46,'[1]FATT+ORD+P.O.'!$A$3:$I$96,6,FALSE),\"\")","v":""},{"$f":"IFERROR(VLOOKUP(B46,'[1]FATT+ORD+P.O.'!$A$3:$I$96,7,FALSE),\"\")","v":""},{"$f":"IFERROR(VLOOKUP(B46,'[1]FATT+ORD+P.O.'!$A$3:$I$96,8,FALSE),\"\")","v":""},""]
[null,null,null,{"$f":"IFERROR(VLOOKUP(B47,'[1]FATT+ORD+P.O.'!$A$3:$I$96,6,FALSE),\"\")","v":""},{"$f":"IFERROR(VLOOKUP(B47,'[1]FATT+ORD+P.O.'!$A$3:$I$96,7,FALSE),\"\")","v":""},{"$f":"IFERROR(VLOOKUP(B47,'[1]FATT+ORD+P.O.'!$A$3:$I$96,8,FALSE),\"\")","v":""},""]
[null,null,null,{"$f":"IFERROR(VLOOKUP(B48,'[1]FATT+ORD+P.O.'!$A$3:$I$96,6,FALSE),\"\")","v":""},{"$f":"IFERROR(VLOOKUP(B48,'[1]FATT+ORD+P.O.'!$A$3:$I$96,7,FALSE),\"\")","v":""},{"$f":"IFERROR(VLOOKUP(B48,'[1]FATT+ORD+P.O.'!$A$3:$I$96,8,FALSE),\"\")","v":""},""]
[null,null,null,{"$f":"IFERROR(VLOOKUP(B49,'[1]FATT+ORD+P.O.'!$A$3:$I$96,6,FALSE),\"\")","v":""},{"$f":"IFERROR(VLOOKUP(B49,'[1]FATT+ORD+P.O.'!$A$3:$I$96,7,FALSE),\"\")","v":""},{"$f":"IFERROR(VLOOKUP(B49,'[1]FATT+ORD+P.O.'!$A$3:$I$96,8,FALSE),\"\")","v":""},""]
[null,null,null,{"$f":"IFERROR(VLOOKUP(B50,'[1]FATT+ORD+P.O.'!$A$3:$I$96,6,FALSE),\"\")","v":""},{"$f":"IFERROR(VLOOKUP(B50,'[1]FATT+ORD+P.O.'!$A$3:$I$96,7,FALSE),\"\")","v":""},{"$f":"IFERROR(VLOOKUP(B50,'[1]FATT+ORD+P.O.'!$A$3:$I$96,8,FALSE),\"\")","v":""},""]
[null,null,null,{"$f":"IFERROR(VLOOKUP(B51,'[1]FATT+ORD+P.O.'!$A$3:$I$96,6,FALSE),\"\")","v":""},{"$f":"IFERROR(VLOOKUP(B51,'[1]FATT+ORD+P.O.'!$A$3:$I$96,7,FALSE),\"\")","v":""},{"$f":"IFERROR(VLOOKUP(B51,'[1]FATT+ORD+P.O.'!$A$3:$I$96,8,FALSE),\"\")","v":""},""]
[null,null,null,{"$f":"IFERROR(VLOOKUP(B52,'[1]FATT+ORD+P.O.'!$A$3:$I$96,6,FALSE),\"\")","v":""},{"$f":"IFERROR(VLOOKUP(B52,'[1]FATT+ORD+P.O.'!$A$3:$I$96,7,FALSE),\"\")","v":""},{"$f":"IFERROR(VLOOKUP(B52,'[1]FATT+ORD+P.O.'!$A$3:$I$96,8,FALSE),\"\")","v":""},""]
[null,null,null,{"$f":"IFERROR(VLOOKUP(B53,'[1]FATT+ORD+P.O.'!$A$3:$I$96,6,FALSE),\"\")","v":""},{"$f":"IFERROR(VLOOKUP(B53,'[1]FATT+ORD+P.O.'!$A$3:$I$96,7,FALSE),\"\")","v":""},{"$f":"IFERROR(VLOOKUP(B53,'[1]FATT+ORD+P.O.'!$A$3:$I$96,8,FALSE),\"\")","v":""},""]
[null,null,null,{"$f":"IFERROR(VLOOKUP(B54,'[1]FATT+ORD+P.O.'!$A$3:$I$96,6,FALSE),\"\")","v":""},{"$f":"IFERROR(VLOOKUP(B54,'[1]FATT+ORD+P.O.'!$A$3:$I$96,7,FALSE),\"\")","v":""},{"$f":"IFERROR(VLOOKUP(B54,'[1]FATT+ORD+P.O.'!$A$3:$I$96,8,FALSE),\"\")","v":""},""]
[null,null,null,{"$f":"IFERROR(VLOOKUP(B55,'[1]FATT+ORD+P.O.'!$A$3:$I$96,6,FALSE),\"\")","v":""},{"$f":"IFERROR(VLOOKUP(B55,'[1]FATT+ORD+P.O.'!$A$3:$I$96,7,FALSE),\"\")","v":""},{"$f":"IFERROR(VLOOKUP(B55,'[1]FATT+ORD+P.O.'!$A$3:$I$96,8,FALSE),\"\")","v":""},""]
[null,null,null,{"$f":"IFERROR(VLOOKUP(B56,'[1]FATT+ORD+P.O.'!$A$3:$I$96,6,FALSE),\"\")","v":""},{"$f":"IFERROR(VLOOKUP(B56,'[1]FATT+ORD+P.O.'!$A$3:$I$96,7,FALSE),\"\")","v":""},{"$f":"IFERROR(VLOOKUP(B56,'[1]FATT+ORD+P.O.'!$A$3:$I$96,8,FALSE),\"\")","v":""},""]
[null,null,null,{"$f":"IFERROR(VLOOKUP(B57,'[1]FATT+ORD+P.O.'!$A$3:$I$96,6,FALSE),\"\")","v":""},{"$f":"IFERROR(VLOOKUP(B57,'[1]FATT+ORD+P.O.'!$A$3:$I$96,7,FALSE),\"\")","v":""},{"$f":"IFERROR(VLOOKUP(B57,'[1]FATT+ORD+P.O.'!$A$3:$I$96,8,FALSE),\"\")","v":""},""]
[null,null,null,{"$f":"IFERROR(VLOOKUP(B58,'[1]FATT+ORD+P.O.'!$A$3:$I$96,6,FALSE),\"\")","v":""},{"$f":"IFERROR(VLOOKUP(B58,'[1]FATT+ORD+P.O.'!$A$3:$I$96,7,FALSE),\"\")","v":""},{"$f":"IFERROR(VLOOKUP(B58,'[1]FATT+ORD+P.O.'!$A$3:$I$96,8,FALSE),\"\")","v":""},""]
[null,null,null,{"$f":"IFERROR(VLOOKUP(B59,'[1]FATT+ORD+P.O.'!$A$3:$I$96,6,FALSE),\"\")","v":""},{"$f":"IFERROR(VLOOKUP(B59,'[1]FATT+ORD+P.O.'!$A$3:$I$96,7,FALSE),\"\")","v":""},{"$f":"IFERROR(VLOOKUP(B59,'[1]FATT+ORD+P.O.'!$A$3:$I$96,8,FALSE),\"\")","v":""},""]
[null,null,null,{"$f":"IFERROR(VLOOKUP(B60,'[1]FATT+ORD+P.O.'!$A$3:$I$96,6,FALSE),\"\")","v":""},{"$f":"IFERROR(VLOOKUP(B60,'[1]FATT+ORD+P.O.'!$A$3:$I$96,7,FALSE),\"\")","v":""},{"$f":"IFERROR(VLOOKUP(B60,'[1]FATT+ORD+P.O.'!$A$3:$I$96,8,FALSE),\"\")","v":""},""]
[null,null,null,{"$f":"IFERROR(VLOOKUP(B61,'[1]FATT+ORD+P.O.'!$A$3:$I$96,6,FALSE),\"\")","v":""},{"$f":"IFERROR(VLOOKUP(B61,'[1]FATT+ORD+P.O.'!$A$3:$I$96,7,FALSE),\"\")","v":""},{"$f":"IFERROR(VLOOKUP(B61,'[1]FATT+ORD+P.O.'!$A$3:$I$96,8,FALSE),\"\")","v":""},""]
[null,null,null,{"$f":"IFERROR(VLOOKUP(B62,'[1]FATT+ORD+P.O.'!$A$3:$I$96,6,FALSE),\"\")","v":""},{"$f":"IFERROR(VLOOKUP(B62,'[1]FATT+ORD+P.O.'!$A$3:$I$96,7,FALSE),\"\")","v":""},{"$f":"IFERROR(VLOOKUP(B62,'[1]FATT+ORD+P.O.'!$A$3:$I$96,8,FALSE),\"\")","v":""},""]
[null,null,null,{"$f":"IFERROR(VLOOKUP(B63,'[1]FATT+ORD+P.O.'!$A$3:$I$96,6,FALSE),\"\")","v":""},{"$f":"IFERROR(VLOOKUP(B63,'[1]FATT+ORD+P.O.'!$A$3:$I$96,7,FALSE),\"\")","v":""},{"$f":"IFERROR(VLOOKUP(B63,'[1]FATT+ORD+P.O.'!$A$3:$I$96,8,FALSE),\"\")","v":""},""]
[null,null,null,{"$f":"IFERROR(VLOOKUP(B64,'[1]FATT+ORD+P.O.'!$A$3:$I$96,6,FALSE),\"\")","v":""},{"$f":"IFERROR(VLOOKUP(B64,'[1]FATT+ORD+P.O.'!$A$3:$I$96,7,FALSE),\"\")","v":""},{"$f":"IFERROR(VLOOKUP(B64,'[1]FATT+ORD+P.O.'!$A$3:$I$96,8,FALSE),\"\")","v":""},""]
[null,null,null,{"$f":"IFERROR(VLOOKUP(B65,'[1]FATT+ORD+P.O.'!$A$3:$I$96,6,FALSE),\"\")","v":""},{"$f":"IFERROR(VLOOKUP(B65,'[1]FATT+ORD+P.O.'!$A$3:$I$96,7,FALSE),\"\")","v":""},{"$f":"IFERROR(VLOOKUP(B65,'[1]FATT+ORD+P.O.'!$A$3:$I$96,8,FALSE),\"\")","v":""},""]
[null,null,null,{"$f":"IFERROR(VLOOKUP(B66,'[1]FATT+ORD+P.O.'!$A$3:$I$96,6,FALSE),\"\")","v":""},{"$f":"IFERROR(VLOOKUP(B66,'[1]FATT+ORD+P.O.'!$A$3:$I$96,7,FALSE),\"\")","v":""},{"$f":"IFERROR(VLOOKUP(B66,'[1]FATT+ORD+P.O.'!$A$3:$I$96,8,FALSE),\"\")","v":""},""]
[null,null,null,{"$f":"IFERROR(VLOOKUP(B67,'[1]FATT+ORD+P.O.'!$A$3:$I$96,6,FALSE),\"\")","v":""},{"$f":"IFERROR(VLOOKUP(B67,'[1]FATT+ORD+P.O.'!$A$3:$I$96,7,FALSE),\"\")","v":""},{"$f":"IFERROR(VLOOKUP(B67,'[1]FATT+ORD+P.O.'!$A$3:$I$96,8,FALSE),\"\")","v":""},""]
[null,null,null,{"$f":"IFERROR(VLOOKUP(B68,'[1]FATT+ORD+P.O.'!$A$3:$I$96,6,FALSE),\"\")","v":""},{"$f":"IFERROR(VLOOKUP(B68,'[1]FATT+ORD+P.O.'!$A$3:$I$96,7,FALSE),\"\")","v":""},{"$f":"IFERROR(VLOOKUP(B68,'[1]FATT+ORD+P.O.'!$A$3:$I$96,8,FALSE),\"\")","v":""},""]
[null,null,null,{"$f":"IFERROR(VLOOKUP(B69,'[1]FATT+ORD+P.O.'!$A$3:$I$96,6,FALSE),\"\")","v":""},{"$f":"IFERROR(VLOOKUP(B69,'[1]FATT+ORD+P.O.'!$A$3:$I$96,7,FALSE),\"\")","v":""},{"$f":"IFERROR(VLOOKUP(B69,'[1]FATT+ORD+P.O.'!$A$3:$I$96,8,FALSE),\"\")","v":""},""]
[null,null,null,{"$f":"IFERROR(VLOOKUP(B70,'[1]FATT+ORD+P.O.'!$A$3:$I$96,6,FALSE),\"\")","v":""},{"$f":"IFERROR(VLOOKUP(B70,'[1]FATT+ORD+P.O.'!$A$3:$I$96,7,FALSE),\"\")","v":""},{"$f":"IFERROR(VLOOKUP(B70,'[1]FATT+ORD+P.O.'!$A$3:$I$96,8,FALSE),\"\")","v":""},""]
[null,null,null,{"$f":"IFERROR(VLOOKUP(B71,'[1]FATT+ORD+P.O.'!$A$3:$I$96,6,FALSE),\"\")","v":""},{"$f":"IFERROR(VLOOKUP(B71,'[1]FATT+ORD+P.O.'!$A$3:$I$96,7,FALSE),\"\")","v":""},{"$f":"IFERROR(VLOOKUP(B71,'[1]FATT+ORD+P.O.'!$A$3:$I$96,8,FALSE),\"\")","v":""},{"$f":"IFERROR(C71*(D71+E71+F71),\"\")","v":""}]
[null,null,null,{"$f":"IFERROR(VLOOKUP(B72,'[1]FATT+ORD+P.O.'!$A$3:$I$96,6,FALSE),\"\")","v":""},{"$f":"IFERROR(VLOOKUP(B72,'[1]FATT+ORD+P.O.'!$A$3:$I$96,7,FALSE),\"\")","v":""},{"$f":"IFERROR(VLOOKUP(B72,'[1]FATT+ORD+P.O.'!$A$3:$I$96,8,FALSE),\"\")","v":""},""]
[null,null,null,{"$f":"IFERROR(VLOOKUP(B73,'[1]FATT+ORD+P.O.'!$A$3:$I$96,6,FALSE),\"\")","v":""},{"$f":"IFERROR(VLOOKUP(B73,'[1]FATT+ORD+P.O.'!$A$3:$I$96,7,FALSE),\"\")","v":""},{"$f":"IFERROR(VLOOKUP(B73,'[1]FATT+ORD+P.O.'!$A$3:$I$96,8,FALSE),\"\")","v":""},""]
[null,null,null,{"$f":"IFERROR(VLOOKUP(B74,'[1]FATT+ORD+P.O.'!$A$3:$I$96,6,FALSE),\"\")","v":""},{"$f":"IFERROR(VLOOKUP(B74,'[1]FATT+ORD+P.O.'!$A$3:$I$96,7,FALSE),\"\")","v":""},{"$f":"IFERROR(VLOOKUP(B74,'[1]FATT+ORD+P.O.'!$A$3:$I$96,8,FALSE),\"\")","v":""},""]
[null,null,null,{"$f":"IFERROR(VLOOKUP(B75,'[1]FATT+ORD+P.O.'!$A$3:$I$96,6,FALSE),\"\")","v":""},{"$f":"IFERROR(VLOOKUP(B75,'[1]FATT+ORD+P.O.'!$A$3:$I$96,7,FALSE),\"\")","v":""},{"$f":"IFERROR(VLOOKUP(B75,'[1]FATT+ORD+P.O.'!$A$3:$I$96,8,FALSE),\"\")","v":""},""]
[null,null,null,{"$f":"IFERROR(VLOOKUP(B76,'[1]FATT+ORD+P.O.'!$A$3:$I$96,6,FALSE),\"\")","v":""},{"$f":"IFERROR(VLOOKUP(B76,'[1]FATT+ORD+P.O.'!$A$3:$I$96,7,FALSE),\"\")","v":""},{"$f":"IFERROR(VLOOKUP(B76,'[1]FATT+ORD+P.O.'!$A$3:$I$96,8,FALSE),\"\")","v":""},""]
[null,null,null,{"$f":"IFERROR(VLOOKUP(B77,'[1]FATT+ORD+P.O.'!$A$3:$I$96,6,FALSE),\"\")","v":""},{"$f":"IFERROR(VLOOKUP(B77,'[1]FATT+ORD+P.O.'!$A$3:$I$96,7,FALSE),\"\")","v":""},{"$f":"IFERROR(VLOOKUP(B77,'[1]FATT+ORD+P.O.'!$A$3:$I$96,8,FALSE),\"\")","v":""},""]
[null,null,null,{"$f":"IFERROR(VLOOKUP(B78,'[1]FATT+ORD+P.O.'!$A$3:$I$96,6,FALSE),\"\")","v":""},{"$f":"IFERROR(VLOOKUP(B78,'[1]FATT+ORD+P.O.'!$A$3:$I$96,7,FALSE),\"\")","v":""},{"$f":"IFERROR(VLOOKUP(B78,'[1]FATT+ORD+P.O.'!$A$3:$I$96,8,FALSE),\"\")","v":""},""]
[null,null,null,{"$f":"IFERROR(VLOOKUP(B79,'[1]FATT+ORD+P.O.'!$A$3:$I$96,6,FALSE),\"\")","v":""},{"$f":"IFERROR(VLOOKUP(B79,'[1]FATT+ORD+P.O.'!$A$3:$I$96,7,FALSE),\"\")","v":""},{"$f":"IFERROR(VLOOKUP(B79,'[1]FATT+ORD+P.O.'!$A$3:$I$96,8,FALSE),\"\")","v":""},""]
[null,null,null,{"$f":"IFERROR(VLOOKUP(B80,'[1]FATT+ORD+P.O.'!$A$3:$I$96,6,FALSE),\"\")","v":""},{"$f":"IFERROR(VLOOKUP(B80,'[1]FATT+ORD+P.O.'!$A$3:$I$96,7,FALSE),\"\")","v":""},{"$f":"IFERROR(VLOOKUP(B80,'[1]FATT+ORD+P.O.'!$A$3:$I$96,8,FALSE),\"\")","v":""},""]
[null,null,null,{"$f":"IFERROR(VLOOKUP(B81,'[1]FATT+ORD+P.O.'!$A$3:$I$96,6,FALSE),\"\")","v":""},{"$f":"IFERROR(VLOOKUP(B81,'[1]FATT+ORD+P.O.'!$A$3:$I$96,7,FALSE),\"\")","v":""},{"$f":"IFERROR(VLOOKUP(B81,'[1]FATT+ORD+P.O.'!$A$3:$I$96,8,FALSE),\"\")","v":""},""]
[null,null,null,{"$f":"IFERROR(VLOOKUP(B82,'[1]FATT+ORD+P.O.'!$A$3:$I$96,6,FALSE),\"\")","v":""},{"$f":"IFERROR(VLOOKUP(B82,'[1]FATT+ORD+P.O.'!$A$3:$I$96,7,FALSE),\"\")","v":""},{"$f":"IFERROR(VLOOKUP(B82,'[1]FATT+ORD+P.O.'!$A$3:$I$96,8,FALSE),\"\")","v":""},""]
[null,null,null,{"$f":"IFERROR(VLOOKUP(B83,'[1]FATT+ORD+P.O.'!$A$3:$I$96,6,FALSE),\"\")","v":""},{"$f":"IFERROR(VLOOKUP(B83,'[1]FATT+ORD+P.O.'!$A$3:$I$96,7,FALSE),\"\")","v":""},{"$f":"IFERROR(VLOOKUP(B83,'[1]FATT+ORD+P.O.'!$A$3:$I$96,8,FALSE),\"\")","v":""},""]
[null,null,null,{"$f":"IFERROR(VLOOKUP(B84,'[1]FATT+ORD+P.O.'!$A$3:$I$96,6,FALSE),\"\")","v":""},{"$f":"IFERROR(VLOOKUP(B84,'[1]FATT+ORD+P.O.'!$A$3:$I$96,7,FALSE),\"\")","v":""},{"$f":"IFERROR(VLOOKUP(B84,'[1]FATT+ORD+P.O.'!$A$3:$I$96,8,FALSE),\"\")","v":""},""]
[null,null,null,{"$f":"IFERROR(VLOOKUP(B85,'[1]FATT+ORD+P.O.'!$A$3:$I$96,6,FALSE),\"\")","v":""},{"$f":"IFERROR(VLOOKUP(B85,'[1]FATT+ORD+P.O.'!$A$3:$I$96,7,FALSE),\"\")","v":""},{"$f":"IFERROR(VLOOKUP(B85,'[1]FATT+ORD+P.O.'!$A$3:$I$96,8,FALSE),\"\")","v":""},""]
[null,null,null,{"$f":"IFERROR(VLOOKUP(B86,'[1]FATT+ORD+P.O.'!$A$3:$I$96,6,FALSE),\"\")","v":""},{"$f":"IFERROR(VLOOKUP(B86,'[1]FATT+ORD+P.O.'!$A$3:$I$96,7,FALSE),\"\")","v":""},{"$f":"IFERROR(VLOOKUP(B86,'[1]FATT+ORD+P.O.'!$A$3:$I$96,8,FALSE),\"\")","v":""},""]
[null,null,null,{"$f":"IFERROR(VLOOKUP(B87,'[1]FATT+ORD+P.O.'!$A$3:$I$96,6,FALSE),\"\")","v":""},{"$f":"IFERROR(VLOOKUP(B87,'[1]FATT+ORD+P.O.'!$A$3:$I$96,7,FALSE),\"\")","v":""},{"$f":"IFERROR(VLOOKUP(B87,'[1]FATT+ORD+P.O.'!$A$3:$I$96,8,FALSE),\"\")","v":""},""]
[null,null,null,{"$f":"IFERROR(VLOOKUP(B88,'[1]FATT+ORD+P.O.'!$A$3:$I$96,6,FALSE),\"\")","v":""},{"$f":"IFERROR(VLOOKUP(B88,'[1]FATT+ORD+P.O.'!$A$3:$I$96,7,FALSE),\"\")","v":""},{"$f":"IFERROR(VLOOKUP(B88,'[1]FATT+ORD+P.O.'!$A$3:$I$96,8,FALSE),\"\")","v":""},""]
[null,null,null,{"$f":"IFERROR(VLOOKUP(B89,'[1]FATT+ORD+P.O.'!$A$3:$I$96,6,FALSE),\"\")","v":""},{"$f":"IFERROR(VLOOKUP(B89,'[1]FATT+ORD+P.O.'!$A$3:$I$96,7,FALSE),\"\")","v":""},{"$f":"IFERROR(VLOOKUP(B89,'[1]FATT+ORD+P.O.'!$A$3:$I$96,8,FALSE),\"\")","v":""},""]
[null,null,null,{"$f":"IFERROR(VLOOKUP(B90,'[1]FATT+ORD+P.O.'!$A$3:$I$96,6,FALSE),\"\")","v":""},{"$f":"IFERROR(VLOOKUP(B90,'[1]FATT+ORD+P.O.'!$A$3:$I$96,7,FALSE),\"\")","v":""},{"$f":"IFERROR(VLOOKUP(B90,'[1]FATT+ORD+P.O.'!$A$3:$I$96,8,FALSE),\"\")","v":""},""]
[null,null,null,{"$f":"IFERROR(VLOOKUP(B91,'[1]FATT+ORD+P.O.'!$A$3:$I$96,6,FALSE),\"\")","v":""},{"$f":"IFERROR(VLOOKUP(B91,'[1]FATT+ORD+P.O.'!$A$3:$I$96,7,FALSE),\"\")","v":""},{"$f":"IFERROR(VLOOKUP(B91,'[1]FATT+ORD+P.O.'!$A$3:$I$96,8,FALSE),\"\")","v":""},""]
[null,null,null,{"$f":"IFERROR(VLOOKUP(B92,'[1]FATT+ORD+P.O.'!$A$3:$I$96,6,FALSE),\"\")","v":""},{"$f":"IFERROR(VLOOKUP(B92,'[1]FATT+ORD+P.O.'!$A$3:$I$96,7,FALSE),\"\")","v":""},{"$f":"IFERROR(VLOOKUP(B92,'[1]FATT+ORD+P.O.'!$A$3:$I$96,8,FALSE),\"\")","v":""},""]
[null,null,null,{"$f":"IFERROR(VLOOKUP(B93,'[1]FATT+ORD+P.O.'!$A$3:$I$96,6,FALSE),\"\")","v":""},{"$f":"IFERROR(VLOOKUP(B93,'[1]FATT+ORD+P.O.'!$A$3:$I$96,7,FALSE),\"\")","v":""},{"$f":"IFERROR(VLOOKUP(B93,'[1]FATT+ORD+P.O.'!$A$3:$I$96,8,FALSE),\"\")","v":""},""]
[null,null,null,{"$f":"IFERROR(VLOOKUP(B94,'[1]FATT+ORD+P.O.'!$A$3:$I$96,6,FALSE),\"\")","v":""},{"$f":"IFERROR(VLOOKUP(B94,'[1]FATT+ORD+P.O.'!$A$3:$I$96,7,FALSE),\"\")","v":""},{"$f":"IFERROR(VLOOKUP(B94,'[1]FATT+ORD+P.O.'!$A$3:$I$96,8,FALSE),\"\")","v":""},""]
[null,null,null,{"$f":"IFERROR(VLOOKUP(B95,'[1]FATT+ORD+P.O.'!$A$3:$I$96,6,FALSE),\"\")","v":""},{"$f":"IFERROR(VLOOKUP(B95,'[1]FATT+ORD+P.O.'!$A$3:$I$96,7,FALSE),\"\")","v":""},{"$f":"IFERROR(VLOOKUP(B95,'[1]FATT+ORD+P.O.'!$A$3:$I$96,8,FALSE),\"\")","v":""},""]
[null,null,null,{"$f":"IFERROR(VLOOKUP(B96,'[1]FATT+ORD+P.O.'!$A$3:$I$96,6,FALSE),\"\")","v":""},{"$f":"IFERROR(VLOOKUP(B96,'[1]FATT+ORD+P.O.'!$A$3:$I$96,7,FALSE),\"\")","v":""},{"$f":"IFERROR(VLOOKUP(B96,'[1]FATT+ORD+P.O.'!$A$3:$I$96,8,FALSE),\"\")","v":""},""]
[null,null,null,{"$f":"IFERROR(VLOOKUP(B97,'[1]FATT+ORD+P.O.'!$A$3:$I$96,6,FALSE),\"\")","v":""},{"$f":"IFERROR(VLOOKUP(B97,'[1]FATT+ORD+P.O.'!$A$3:$I$96,7,FALSE),\"\")","v":""},{"$f":"IFERROR(VLOOKUP(B97,'[1]FATT+ORD+P.O.'!$A$3:$I$96,8,FALSE),\"\")","v":""},""]
[null,null,null,{"$f":"IFERROR(VLOOKUP(B98,'[1]FATT+ORD+P.O.'!$A$3:$I$96,6,FALSE),\"\")","v":""},{"$f":"IFERROR(VLOOKUP(B98,'[1]FATT+ORD+P.O.'!$A$3:$I$96,7,FALSE),\"\")","v":""},{"$f":"IFERROR(VLOOKUP(B98,'[1]FATT+ORD+P.O.'!$A$3:$I$96,8,FALSE),\"\")","v":""},""]
[null,null,null,{"$f":"IFERROR(VLOOKUP(B99,'[1]FATT+ORD+P.O.'!$A$3:$I$96,6,FALSE),\"\")","v":""},{"$f":"IFERROR(VLOOKUP(B99,'[1]FATT+ORD+P.O.'!$A$3:$I$96,7,FALSE),\"\")","v":""},{"$f":"IFERROR(VLOOKUP(B99,'[1]FATT+ORD+P.O.'!$A$3:$I$96,8,FALSE),\"\")","v":""},""]
[null,null,null,{"$f":"IFERROR(VLOOKUP(B100,'[1]FATT+ORD+P.O.'!$A$3:$I$96,6,FALSE),\"\")","v":""},{"$f":"IFERROR(VLOOKUP(B100,'[1]FATT+ORD+P.O.'!$A$3:$I$96,7,FALSE),\"\")","v":""},{"$f":"IFERROR(VLOOKUP(B100,'[1]FATT+ORD+P.O.'!$A$3:$I$96,8,FALSE),\"\")","v":""},""]
[null,null,null,{"$f":"IFERROR(VLOOKUP(B101,'[1]FATT+ORD+P.O.'!$A$3:$I$96,6,FALSE),\"\")","v":""},{"$f":"IFERROR(VLOOKUP(B101,'[1]FATT+ORD+P.O.'!$A$3:$I$96,7,FALSE),\"\")","v":""},{"$f":"IFERROR(VLOOKUP(B101,'[1]FATT+ORD+P.O.'!$A$3:$I$96,8,FALSE),\"\")","v":""},""]
[null,null,null,null,null,null,0]